BEGIN:VCALENDAR
VERSION:2.0
PRODID:-//Société de cavalerie de Tavannes et environs - ECPv6.1.2.2//NONSGML v1.0//EN
CALSCALE:GREGORIAN
METHOD:PUBLISH
X-WR-CALNAME:Société de cavalerie de Tavannes et environs
X-ORIGINAL-URL:https://www.scvt.ch
X-WR-CALDESC:évènements pour Société de cavalerie de Tavannes et environs
REFRESH-INTERVAL;VALUE=DURATION:PT1H
X-Robots-Tag:noindex
X-PUBLISHED-TTL:PT1H
BEGIN:VTIMEZONE
TZID:Europe/Paris
BEGIN:DAYLIGHT
TZOFFSETFROM:+0100
TZOFFSETTO:+0200
TZNAME:CEST
DTSTART:20240331T010000
END:DAYLIGHT
BEGIN:STANDARD
TZOFFSETFROM:+0200
TZOFFSETTO:+0100
TZNAME:CET
DTSTART:20241027T010000
END:STANDARD
END:VTIMEZONE
BEGIN:VEVENT
DTSTART;TZID=Europe/Paris:20240820T110000
DTEND;TZID=Europe/Paris:20240820T120000
DTSTAMP:20260420T215249
CREATED:20240103T092033Z
LAST-MODIFIED:20240103T092033Z
UID:6677-1724151600-1724155200@www.scvt.ch
SUMMARY:Hersage des installations
DESCRIPTION:
URL:https://www.scvt.ch/agenda/hersage-des-installations-28/2024-08-20/
CATEGORIES:Hersage
END:VEVENT
BEGIN:VEVENT
DTSTART;TZID=Europe/Paris:20240820T153000
DTEND;TZID=Europe/Paris:20240820T233000
DTSTAMP:20260420T215249
CREATED:20240818T173524Z
LAST-MODIFIED:20240818T173524Z
UID:7420-1724167800-1724196600@www.scvt.ch
SUMMARY:fermeture pour mise en place
DESCRIPTION:
URL:https://www.scvt.ch/agenda/fermeture-pour-mise-en-place/
CATEGORIES:Perturbations
END:VEVENT
BEGIN:VEVENT
DTSTART;TZID=Europe/Paris:20240820T173000
DTEND;TZID=Europe/Paris:20240820T213000
DTSTAMP:20260420T215249
CREATED:20240506T081910Z
LAST-MODIFIED:20240608T084735Z
UID:7338-1724175000-1724189400@www.scvt.ch
SUMMARY:Cours Nicolas Pasquier
DESCRIPTION:
URL:https://www.scvt.ch/agenda/cours-nicolas-pasquier-2/2024-08-20/
CATEGORIES:Cours saut
END:VEVENT
END:VCALENDAR