BEGIN:VCALENDAR
VERSION:2.0
PRODID:-//Société de cavalerie de Tavannes et environs - ECPv6.1.2.2//NONSGML v1.0//EN
CALSCALE:GREGORIAN
METHOD:PUBLISH
X-ORIGINAL-URL:https://www.scvt.ch
X-WR-CALDESC:évènements pour Société de cavalerie de Tavannes et environs
REFRESH-INTERVAL;VALUE=DURATION:PT1H
X-Robots-Tag:noindex
X-PUBLISHED-TTL:PT1H
BEGIN:VTIMEZONE
TZID:Europe/Paris
BEGIN:DAYLIGHT
TZOFFSETFROM:+0100
TZOFFSETTO:+0200
TZNAME:CEST
DTSTART:20240331T010000
END:DAYLIGHT
BEGIN:STANDARD
TZOFFSETFROM:+0200
TZOFFSETTO:+0100
TZNAME:CET
DTSTART:20241027T010000
END:STANDARD
END:VTIMEZONE
BEGIN:VEVENT
DTSTART;TZID=Europe/Paris:20240909T070000
DTEND;TZID=Europe/Paris:20240909T120000
DTSTAMP:20260421T024909
CREATED:20231221T075934Z
LAST-MODIFIED:20231221T075934Z
UID:5586-1725865200-1725883200@www.scvt.ch
SUMMARY:Elimination de bétail
DESCRIPTION:
URL:https://www.scvt.ch/agenda/elimination-de-betail-2/2024-09-09/
CATEGORIES:Agricole
END:VEVENT
BEGIN:VEVENT
DTSTART;TZID=Europe/Paris:20240909T110000
DTEND;TZID=Europe/Paris:20240909T120000
DTSTAMP:20260421T024909
CREATED:20240103T092033Z
LAST-MODIFIED:20240103T092033Z
UID:6697-1725879600-1725883200@www.scvt.ch
SUMMARY:Hersage des installations
DESCRIPTION:
URL:https://www.scvt.ch/agenda/hersage-des-installations-28/2024-09-09/
CATEGORIES:Hersage
END:VEVENT
BEGIN:VEVENT
DTSTART;TZID=Europe/Paris:20240909T180000
DTEND;TZID=Europe/Paris:20240909T220000
DTSTAMP:20260421T024909
CREATED:20240822T185706Z
LAST-MODIFIED:20240822T185706Z
UID:7436-1725904800-1725919200@www.scvt.ch
SUMMARY:Cours dressage V. Steulet
DESCRIPTION:
URL:https://www.scvt.ch/agenda/cours-dressage-v-steulet-2/
CATEGORIES:Cours dressage
END:VEVENT
END:VCALENDAR