BEGIN:VCALENDAR
VERSION:2.0
PRODID:-//Société de cavalerie de Tavannes et environs - ECPv6.1.2.2//NONSGML v1.0//EN
CALSCALE:GREGORIAN
METHOD:PUBLISH
X-ORIGINAL-URL:https://www.scvt.ch
X-WR-CALDESC:évènements pour Société de cavalerie de Tavannes et environs
REFRESH-INTERVAL;VALUE=DURATION:PT1H
X-Robots-Tag:noindex
X-PUBLISHED-TTL:PT1H
BEGIN:VTIMEZONE
TZID:Europe/Paris
BEGIN:DAYLIGHT
TZOFFSETFROM:+0100
TZOFFSETTO:+0200
TZNAME:CEST
DTSTART:20240331T010000
END:DAYLIGHT
BEGIN:STANDARD
TZOFFSETFROM:+0200
TZOFFSETTO:+0100
TZNAME:CET
DTSTART:20241027T010000
END:STANDARD
END:VTIMEZONE
BEGIN:VEVENT
DTSTART;TZID=Europe/Paris:20240420T120000
DTEND;TZID=Europe/Paris:20240420T130000
DTSTAMP:20260421T043342
CREATED:20240103T092033Z
LAST-MODIFIED:20240430T180641Z
UID:6555-1713614400-1713618000@www.scvt.ch
SUMMARY:Hersage des installations
DESCRIPTION:
URL:https://www.scvt.ch/agenda/hersage-des-installations-28/2024-04-20/
CATEGORIES:Hersage
END:VEVENT
BEGIN:VEVENT
DTSTART;TZID=Europe/Paris:20240421T120000
DTEND;TZID=Europe/Paris:20240421T130000
DTSTAMP:20260421T043342
CREATED:20240103T092033Z
LAST-MODIFIED:20240430T180642Z
UID:6556-1713700800-1713704400@www.scvt.ch
SUMMARY:Hersage des installations
DESCRIPTION:
URL:https://www.scvt.ch/agenda/hersage-des-installations-28/2024-04-21/
CATEGORIES:Hersage
END:VEVENT
BEGIN:VEVENT
DTSTART;TZID=Europe/Paris:20240422T120000
DTEND;TZID=Europe/Paris:20240422T130000
DTSTAMP:20260421T043342
CREATED:20240103T092033Z
LAST-MODIFIED:20240430T180643Z
UID:6557-1713787200-1713790800@www.scvt.ch
SUMMARY:Hersage des installations
DESCRIPTION:
URL:https://www.scvt.ch/agenda/hersage-des-installations-28/2024-04-22/
CATEGORIES:Hersage
END:VEVENT
BEGIN:VEVENT
DTSTART;TZID=Europe/Paris:20240423T120000
DTEND;TZID=Europe/Paris:20240423T130000
DTSTAMP:20260421T043342
CREATED:20240103T092033Z
LAST-MODIFIED:20240430T180643Z
UID:6558-1713873600-1713877200@www.scvt.ch
SUMMARY:Hersage des installations
DESCRIPTION:
URL:https://www.scvt.ch/agenda/hersage-des-installations-28/2024-04-23/
CATEGORIES:Hersage
END:VEVENT
BEGIN:VEVENT
DTSTART;TZID=Europe/Paris:20240424T120000
DTEND;TZID=Europe/Paris:20240424T130000
DTSTAMP:20260421T043342
CREATED:20240103T092033Z
LAST-MODIFIED:20240430T180643Z
UID:6559-1713960000-1713963600@www.scvt.ch
SUMMARY:Hersage des installations
DESCRIPTION:
URL:https://www.scvt.ch/agenda/hersage-des-installations-28/2024-04-24/
CATEGORIES:Hersage
END:VEVENT
BEGIN:VEVENT
DTSTART;TZID=Europe/Paris:20240425T120000
DTEND;TZID=Europe/Paris:20240425T130000
DTSTAMP:20260421T043342
CREATED:20240103T092033Z
LAST-MODIFIED:20240430T180643Z
UID:6560-1714046400-1714050000@www.scvt.ch
SUMMARY:Hersage des installations
DESCRIPTION:
URL:https://www.scvt.ch/agenda/hersage-des-installations-28/2024-04-25/
CATEGORIES:Hersage
END:VEVENT
BEGIN:VEVENT
DTSTART;TZID=Europe/Paris:20240426T120000
DTEND;TZID=Europe/Paris:20240426T130000
DTSTAMP:20260421T043342
CREATED:20240103T092033Z
LAST-MODIFIED:20240430T180643Z
UID:6561-1714132800-1714136400@www.scvt.ch
SUMMARY:Hersage des installations
DESCRIPTION:
URL:https://www.scvt.ch/agenda/hersage-des-installations-28/2024-04-26/
CATEGORIES:Hersage
END:VEVENT
BEGIN:VEVENT
DTSTART;TZID=Europe/Paris:20240427T120000
DTEND;TZID=Europe/Paris:20240427T130000
DTSTAMP:20260421T043342
CREATED:20240103T092033Z
LAST-MODIFIED:20240430T180643Z
UID:6562-1714219200-1714222800@www.scvt.ch
SUMMARY:Hersage des installations
DESCRIPTION:
URL:https://www.scvt.ch/agenda/hersage-des-installations-28/2024-04-27/
CATEGORIES:Hersage
END:VEVENT
BEGIN:VEVENT
DTSTART;TZID=Europe/Paris:20240428T120000
DTEND;TZID=Europe/Paris:20240428T130000
DTSTAMP:20260421T043342
CREATED:20240103T092033Z
LAST-MODIFIED:20240430T180643Z
UID:6563-1714305600-1714309200@www.scvt.ch
SUMMARY:Hersage des installations
DESCRIPTION:
URL:https://www.scvt.ch/agenda/hersage-des-installations-28/2024-04-28/
CATEGORIES:Hersage
END:VEVENT
BEGIN:VEVENT
DTSTART;TZID=Europe/Paris:20240429T120000
DTEND;TZID=Europe/Paris:20240429T130000
DTSTAMP:20260421T043342
CREATED:20240103T092033Z
LAST-MODIFIED:20240430T180644Z
UID:6564-1714392000-1714395600@www.scvt.ch
SUMMARY:Hersage des installations
DESCRIPTION:
URL:https://www.scvt.ch/agenda/hersage-des-installations-28/2024-04-29/
CATEGORIES:Hersage
END:VEVENT
BEGIN:VEVENT
DTSTART;TZID=Europe/Paris:20240430T120000
DTEND;TZID=Europe/Paris:20240430T130000
DTSTAMP:20260421T043342
CREATED:20240103T092033Z
LAST-MODIFIED:20240430T180644Z
UID:6565-1714478400-1714482000@www.scvt.ch
SUMMARY:Hersage des installations
DESCRIPTION:
URL:https://www.scvt.ch/agenda/hersage-des-installations-28/2024-04-30/
CATEGORIES:Hersage
END:VEVENT
END:VCALENDAR