BEGIN:VCALENDAR
VERSION:2.0
PRODID:-//Société de cavalerie de Tavannes et environs - ECPv6.1.2.2//NONSGML v1.0//EN
CALSCALE:GREGORIAN
METHOD:PUBLISH
X-WR-CALNAME:Société de cavalerie de Tavannes et environs
X-ORIGINAL-URL:https://www.scvt.ch
X-WR-CALDESC:évènements pour Société de cavalerie de Tavannes et environs
REFRESH-INTERVAL;VALUE=DURATION:PT1H
X-Robots-Tag:noindex
X-PUBLISHED-TTL:PT1H
BEGIN:VTIMEZONE
TZID:Europe/Paris
BEGIN:DAYLIGHT
TZOFFSETFROM:+0100
TZOFFSETTO:+0200
TZNAME:CEST
DTSTART:20240331T010000
END:DAYLIGHT
BEGIN:STANDARD
TZOFFSETFROM:+0200
TZOFFSETTO:+0100
TZNAME:CET
DTSTART:20241027T010000
END:STANDARD
END:VTIMEZONE
BEGIN:VEVENT
DTSTART;TZID=Europe/Paris:20240501T120000
DTEND;TZID=Europe/Paris:20240501T130000
DTSTAMP:20260421T024648
CREATED:20240103T092033Z
LAST-MODIFIED:20240430T180645Z
UID:6566-1714564800-1714568400@www.scvt.ch
SUMMARY:Hersage des installations
DESCRIPTION:
URL:https://www.scvt.ch/agenda/hersage-des-installations-28/2024-05-01/
CATEGORIES:Hersage
END:VEVENT
BEGIN:VEVENT
DTSTART;TZID=Europe/Paris:20240502T120000
DTEND;TZID=Europe/Paris:20240502T130000
DTSTAMP:20260421T024648
CREATED:20240103T092033Z
LAST-MODIFIED:20240430T180645Z
UID:6567-1714651200-1714654800@www.scvt.ch
SUMMARY:Hersage des installations
DESCRIPTION:
URL:https://www.scvt.ch/agenda/hersage-des-installations-28/2024-05-02/
CATEGORIES:Hersage
END:VEVENT
BEGIN:VEVENT
DTSTART;TZID=Europe/Paris:20240503T120000
DTEND;TZID=Europe/Paris:20240503T130000
DTSTAMP:20260421T024648
CREATED:20240103T092033Z
LAST-MODIFIED:20240430T180645Z
UID:6568-1714737600-1714741200@www.scvt.ch
SUMMARY:Hersage des installations
DESCRIPTION:
URL:https://www.scvt.ch/agenda/hersage-des-installations-28/2024-05-03/
CATEGORIES:Hersage
END:VEVENT
BEGIN:VEVENT
DTSTART;TZID=Europe/Paris:20240504T120000
DTEND;TZID=Europe/Paris:20240504T130000
DTSTAMP:20260421T024648
CREATED:20240103T092033Z
LAST-MODIFIED:20240430T180645Z
UID:6569-1714824000-1714827600@www.scvt.ch
SUMMARY:Hersage des installations
DESCRIPTION:
URL:https://www.scvt.ch/agenda/hersage-des-installations-28/2024-05-04/
CATEGORIES:Hersage
END:VEVENT
BEGIN:VEVENT
DTSTART;TZID=Europe/Paris:20240505T120000
DTEND;TZID=Europe/Paris:20240505T130000
DTSTAMP:20260421T024648
CREATED:20240103T092033Z
LAST-MODIFIED:20240430T180645Z
UID:6570-1714910400-1714914000@www.scvt.ch
SUMMARY:Hersage des installations
DESCRIPTION:
URL:https://www.scvt.ch/agenda/hersage-des-installations-28/2024-05-05/
CATEGORIES:Hersage
END:VEVENT
BEGIN:VEVENT
DTSTART;TZID=Europe/Paris:20240506T120000
DTEND;TZID=Europe/Paris:20240506T130000
DTSTAMP:20260421T024648
CREATED:20240103T092033Z
LAST-MODIFIED:20240430T180645Z
UID:6571-1714996800-1715000400@www.scvt.ch
SUMMARY:Hersage des installations
DESCRIPTION:
URL:https://www.scvt.ch/agenda/hersage-des-installations-28/2024-05-06/
CATEGORIES:Hersage
END:VEVENT
BEGIN:VEVENT
DTSTART;TZID=Europe/Paris:20240507T120000
DTEND;TZID=Europe/Paris:20240507T130000
DTSTAMP:20260421T024648
CREATED:20240103T092033Z
LAST-MODIFIED:20240430T180646Z
UID:6572-1715083200-1715086800@www.scvt.ch
SUMMARY:Hersage des installations
DESCRIPTION:
URL:https://www.scvt.ch/agenda/hersage-des-installations-28/2024-05-07/
CATEGORIES:Hersage
END:VEVENT
BEGIN:VEVENT
DTSTART;TZID=Europe/Paris:20240508T120000
DTEND;TZID=Europe/Paris:20240508T130000
DTSTAMP:20260421T024648
CREATED:20240103T092033Z
LAST-MODIFIED:20240430T180646Z
UID:6573-1715169600-1715173200@www.scvt.ch
SUMMARY:Hersage des installations
DESCRIPTION:
URL:https://www.scvt.ch/agenda/hersage-des-installations-28/2024-05-08/
CATEGORIES:Hersage
END:VEVENT
BEGIN:VEVENT
DTSTART;TZID=Europe/Paris:20240509T120000
DTEND;TZID=Europe/Paris:20240509T130000
DTSTAMP:20260421T024648
CREATED:20240103T092033Z
LAST-MODIFIED:20240430T180646Z
UID:6574-1715256000-1715259600@www.scvt.ch
SUMMARY:Hersage des installations
DESCRIPTION:
URL:https://www.scvt.ch/agenda/hersage-des-installations-28/2024-05-09/
CATEGORIES:Hersage
END:VEVENT
BEGIN:VEVENT
DTSTART;TZID=Europe/Paris:20240510T120000
DTEND;TZID=Europe/Paris:20240510T130000
DTSTAMP:20260421T024648
CREATED:20240103T092033Z
LAST-MODIFIED:20240430T180646Z
UID:6575-1715342400-1715346000@www.scvt.ch
SUMMARY:Hersage des installations
DESCRIPTION:
URL:https://www.scvt.ch/agenda/hersage-des-installations-28/2024-05-10/
CATEGORIES:Hersage
END:VEVENT
BEGIN:VEVENT
DTSTART;TZID=Europe/Paris:20240511T120000
DTEND;TZID=Europe/Paris:20240511T130000
DTSTAMP:20260421T024648
CREATED:20240103T092033Z
LAST-MODIFIED:20240430T180647Z
UID:6576-1715428800-1715432400@www.scvt.ch
SUMMARY:Hersage des installations
DESCRIPTION:
URL:https://www.scvt.ch/agenda/hersage-des-installations-28/2024-05-11/
CATEGORIES:Hersage
END:VEVENT
BEGIN:VEVENT
DTSTART;TZID=Europe/Paris:20240512T120000
DTEND;TZID=Europe/Paris:20240512T130000
DTSTAMP:20260421T024648
CREATED:20240103T092033Z
LAST-MODIFIED:20240430T180647Z
UID:6577-1715515200-1715518800@www.scvt.ch
SUMMARY:Hersage des installations
DESCRIPTION:
URL:https://www.scvt.ch/agenda/hersage-des-installations-28/2024-05-12/
CATEGORIES:Hersage
END:VEVENT
BEGIN:VEVENT
DTSTART;TZID=Europe/Paris:20240513T120000
DTEND;TZID=Europe/Paris:20240513T130000
DTSTAMP:20260421T024648
CREATED:20240103T092033Z
LAST-MODIFIED:20240430T180647Z
UID:6578-1715601600-1715605200@www.scvt.ch
SUMMARY:Hersage des installations
DESCRIPTION:
URL:https://www.scvt.ch/agenda/hersage-des-installations-28/2024-05-13/
CATEGORIES:Hersage
END:VEVENT
BEGIN:VEVENT
DTSTART;TZID=Europe/Paris:20240514T120000
DTEND;TZID=Europe/Paris:20240514T130000
DTSTAMP:20260421T024648
CREATED:20240103T092033Z
LAST-MODIFIED:20240430T180647Z
UID:6579-1715688000-1715691600@www.scvt.ch
SUMMARY:Hersage des installations
DESCRIPTION:
URL:https://www.scvt.ch/agenda/hersage-des-installations-28/2024-05-14/
CATEGORIES:Hersage
END:VEVENT
BEGIN:VEVENT
DTSTART;TZID=Europe/Paris:20240515T120000
DTEND;TZID=Europe/Paris:20240515T130000
DTSTAMP:20260421T024648
CREATED:20240103T092033Z
LAST-MODIFIED:20240430T180648Z
UID:6580-1715774400-1715778000@www.scvt.ch
SUMMARY:Hersage des installations
DESCRIPTION:
URL:https://www.scvt.ch/agenda/hersage-des-installations-28/2024-05-15/
CATEGORIES:Hersage
END:VEVENT
BEGIN:VEVENT
DTSTART;TZID=Europe/Paris:20240516T120000
DTEND;TZID=Europe/Paris:20240516T130000
DTSTAMP:20260421T024648
CREATED:20240103T092033Z
LAST-MODIFIED:20240430T180648Z
UID:6581-1715860800-1715864400@www.scvt.ch
SUMMARY:Hersage des installations
DESCRIPTION:
URL:https://www.scvt.ch/agenda/hersage-des-installations-28/2024-05-16/
CATEGORIES:Hersage
END:VEVENT
BEGIN:VEVENT
DTSTART;TZID=Europe/Paris:20240517T120000
DTEND;TZID=Europe/Paris:20240517T130000
DTSTAMP:20260421T024648
CREATED:20240103T092033Z
LAST-MODIFIED:20240430T180648Z
UID:6582-1715947200-1715950800@www.scvt.ch
SUMMARY:Hersage des installations
DESCRIPTION:
URL:https://www.scvt.ch/agenda/hersage-des-installations-28/2024-05-17/
CATEGORIES:Hersage
END:VEVENT
BEGIN:VEVENT
DTSTART;TZID=Europe/Paris:20240518T120000
DTEND;TZID=Europe/Paris:20240518T130000
DTSTAMP:20260421T024648
CREATED:20240103T092033Z
LAST-MODIFIED:20240430T180648Z
UID:6583-1716033600-1716037200@www.scvt.ch
SUMMARY:Hersage des installations
DESCRIPTION:
URL:https://www.scvt.ch/agenda/hersage-des-installations-28/2024-05-18/
CATEGORIES:Hersage
END:VEVENT
BEGIN:VEVENT
DTSTART;TZID=Europe/Paris:20240519T120000
DTEND;TZID=Europe/Paris:20240519T130000
DTSTAMP:20260421T024648
CREATED:20240103T092033Z
LAST-MODIFIED:20240430T180648Z
UID:6584-1716120000-1716123600@www.scvt.ch
SUMMARY:Hersage des installations
DESCRIPTION:
URL:https://www.scvt.ch/agenda/hersage-des-installations-28/2024-05-19/
CATEGORIES:Hersage
END:VEVENT
BEGIN:VEVENT
DTSTART;TZID=Europe/Paris:20240520T120000
DTEND;TZID=Europe/Paris:20240520T130000
DTSTAMP:20260421T024648
CREATED:20240103T092033Z
LAST-MODIFIED:20240430T180648Z
UID:6585-1716206400-1716210000@www.scvt.ch
SUMMARY:Hersage des installations
DESCRIPTION:
URL:https://www.scvt.ch/agenda/hersage-des-installations-28/2024-05-20/
CATEGORIES:Hersage
END:VEVENT
BEGIN:VEVENT
DTSTART;TZID=Europe/Paris:20240521T120000
DTEND;TZID=Europe/Paris:20240521T130000
DTSTAMP:20260421T024648
CREATED:20240103T092033Z
LAST-MODIFIED:20240430T180649Z
UID:6586-1716292800-1716296400@www.scvt.ch
SUMMARY:Hersage des installations
DESCRIPTION:
URL:https://www.scvt.ch/agenda/hersage-des-installations-28/2024-05-21/
CATEGORIES:Hersage
END:VEVENT
BEGIN:VEVENT
DTSTART;TZID=Europe/Paris:20240522T120000
DTEND;TZID=Europe/Paris:20240522T130000
DTSTAMP:20260421T024648
CREATED:20240103T092033Z
LAST-MODIFIED:20240430T180650Z
UID:6587-1716379200-1716382800@www.scvt.ch
SUMMARY:Hersage des installations
DESCRIPTION:
URL:https://www.scvt.ch/agenda/hersage-des-installations-28/2024-05-22/
CATEGORIES:Hersage
END:VEVENT
BEGIN:VEVENT
DTSTART;TZID=Europe/Paris:20240523T120000
DTEND;TZID=Europe/Paris:20240523T130000
DTSTAMP:20260421T024648
CREATED:20240103T092033Z
LAST-MODIFIED:20240430T180650Z
UID:6588-1716465600-1716469200@www.scvt.ch
SUMMARY:Hersage des installations
DESCRIPTION:
URL:https://www.scvt.ch/agenda/hersage-des-installations-28/2024-05-23/
CATEGORIES:Hersage
END:VEVENT
BEGIN:VEVENT
DTSTART;TZID=Europe/Paris:20240524T120000
DTEND;TZID=Europe/Paris:20240524T130000
DTSTAMP:20260421T024648
CREATED:20240103T092033Z
LAST-MODIFIED:20240430T180650Z
UID:6589-1716552000-1716555600@www.scvt.ch
SUMMARY:Hersage des installations
DESCRIPTION:
URL:https://www.scvt.ch/agenda/hersage-des-installations-28/2024-05-24/
CATEGORIES:Hersage
END:VEVENT
BEGIN:VEVENT
DTSTART;TZID=Europe/Paris:20240525T120000
DTEND;TZID=Europe/Paris:20240525T130000
DTSTAMP:20260421T024648
CREATED:20240103T092033Z
LAST-MODIFIED:20240430T180650Z
UID:6590-1716638400-1716642000@www.scvt.ch
SUMMARY:Hersage des installations
DESCRIPTION:
URL:https://www.scvt.ch/agenda/hersage-des-installations-28/2024-05-25/
CATEGORIES:Hersage
END:VEVENT
BEGIN:VEVENT
DTSTART;TZID=Europe/Paris:20240526T120000
DTEND;TZID=Europe/Paris:20240526T130000
DTSTAMP:20260421T024648
CREATED:20240103T092033Z
LAST-MODIFIED:20240430T180650Z
UID:6591-1716724800-1716728400@www.scvt.ch
SUMMARY:Hersage des installations
DESCRIPTION:
URL:https://www.scvt.ch/agenda/hersage-des-installations-28/2024-05-26/
CATEGORIES:Hersage
END:VEVENT
BEGIN:VEVENT
DTSTART;TZID=Europe/Paris:20240527T120000
DTEND;TZID=Europe/Paris:20240527T130000
DTSTAMP:20260421T024648
CREATED:20240103T092033Z
LAST-MODIFIED:20240430T180650Z
UID:6592-1716811200-1716814800@www.scvt.ch
SUMMARY:Hersage des installations
DESCRIPTION:
URL:https://www.scvt.ch/agenda/hersage-des-installations-28/2024-05-27/
CATEGORIES:Hersage
END:VEVENT
BEGIN:VEVENT
DTSTART;TZID=Europe/Paris:20240528T120000
DTEND;TZID=Europe/Paris:20240528T130000
DTSTAMP:20260421T024648
CREATED:20240103T092033Z
LAST-MODIFIED:20240430T180650Z
UID:6593-1716897600-1716901200@www.scvt.ch
SUMMARY:Hersage des installations
DESCRIPTION:
URL:https://www.scvt.ch/agenda/hersage-des-installations-28/2024-05-28/
CATEGORIES:Hersage
END:VEVENT
BEGIN:VEVENT
DTSTART;TZID=Europe/Paris:20240529T120000
DTEND;TZID=Europe/Paris:20240529T130000
DTSTAMP:20260421T024648
CREATED:20240103T092033Z
LAST-MODIFIED:20240430T180650Z
UID:6594-1716984000-1716987600@www.scvt.ch
SUMMARY:Hersage des installations
DESCRIPTION:
URL:https://www.scvt.ch/agenda/hersage-des-installations-28/2024-05-29/
CATEGORIES:Hersage
END:VEVENT
BEGIN:VEVENT
DTSTART;TZID=Europe/Paris:20240530T120000
DTEND;TZID=Europe/Paris:20240530T130000
DTSTAMP:20260421T024648
CREATED:20240103T092033Z
LAST-MODIFIED:20240430T180651Z
UID:6595-1717070400-1717074000@www.scvt.ch
SUMMARY:Hersage des installations
DESCRIPTION:
URL:https://www.scvt.ch/agenda/hersage-des-installations-28/2024-05-30/
CATEGORIES:Hersage
END:VEVENT
END:VCALENDAR