BEGIN:VCALENDAR
VERSION:2.0
PRODID:-//Société de cavalerie de Tavannes et environs - ECPv6.1.2.2//NONSGML v1.0//EN
CALSCALE:GREGORIAN
METHOD:PUBLISH
X-ORIGINAL-URL:https://www.scvt.ch
X-WR-CALDESC:évènements pour Société de cavalerie de Tavannes et environs
REFRESH-INTERVAL;VALUE=DURATION:PT1H
X-Robots-Tag:noindex
X-PUBLISHED-TTL:PT1H
BEGIN:VTIMEZONE
TZID:Europe/Paris
BEGIN:DAYLIGHT
TZOFFSETFROM:+0100
TZOFFSETTO:+0200
TZNAME:CEST
DTSTART:20240331T010000
END:DAYLIGHT
BEGIN:STANDARD
TZOFFSETFROM:+0200
TZOFFSETTO:+0100
TZNAME:CET
DTSTART:20241027T010000
END:STANDARD
END:VTIMEZONE
BEGIN:VEVENT
DTSTART;TZID=Europe/Paris:20240701T120000
DTEND;TZID=Europe/Paris:20240701T130000
DTSTAMP:20260421T025237
CREATED:20240103T092033Z
LAST-MODIFIED:20240430T180658Z
UID:6627-1719835200-1719838800@www.scvt.ch
SUMMARY:Hersage des installations
DESCRIPTION:
URL:https://www.scvt.ch/agenda/hersage-des-installations-28/2024-07-01/
CATEGORIES:Hersage
END:VEVENT
BEGIN:VEVENT
DTSTART;TZID=Europe/Paris:20240702T120000
DTEND;TZID=Europe/Paris:20240702T130000
DTSTAMP:20260421T025237
CREATED:20240103T092033Z
LAST-MODIFIED:20240430T180658Z
UID:6628-1719921600-1719925200@www.scvt.ch
SUMMARY:Hersage des installations
DESCRIPTION:
URL:https://www.scvt.ch/agenda/hersage-des-installations-28/2024-07-02/
CATEGORIES:Hersage
END:VEVENT
BEGIN:VEVENT
DTSTART;TZID=Europe/Paris:20240703T120000
DTEND;TZID=Europe/Paris:20240703T130000
DTSTAMP:20260421T025237
CREATED:20240103T092033Z
LAST-MODIFIED:20240430T180658Z
UID:6629-1720008000-1720011600@www.scvt.ch
SUMMARY:Hersage des installations
DESCRIPTION:
URL:https://www.scvt.ch/agenda/hersage-des-installations-28/2024-07-03/
CATEGORIES:Hersage
END:VEVENT
BEGIN:VEVENT
DTSTART;TZID=Europe/Paris:20240704T120000
DTEND;TZID=Europe/Paris:20240704T130000
DTSTAMP:20260421T025237
CREATED:20240103T092033Z
LAST-MODIFIED:20240430T180659Z
UID:6630-1720094400-1720098000@www.scvt.ch
SUMMARY:Hersage des installations
DESCRIPTION:
URL:https://www.scvt.ch/agenda/hersage-des-installations-28/2024-07-04/
CATEGORIES:Hersage
END:VEVENT
BEGIN:VEVENT
DTSTART;TZID=Europe/Paris:20240705T120000
DTEND;TZID=Europe/Paris:20240705T130000
DTSTAMP:20260421T025237
CREATED:20240103T092033Z
LAST-MODIFIED:20240430T180659Z
UID:6631-1720180800-1720184400@www.scvt.ch
SUMMARY:Hersage des installations
DESCRIPTION:
URL:https://www.scvt.ch/agenda/hersage-des-installations-28/2024-07-05/
CATEGORIES:Hersage
END:VEVENT
BEGIN:VEVENT
DTSTART;TZID=Europe/Paris:20240706T120000
DTEND;TZID=Europe/Paris:20240706T130000
DTSTAMP:20260421T025237
CREATED:20240103T092033Z
LAST-MODIFIED:20240430T180659Z
UID:6632-1720267200-1720270800@www.scvt.ch
SUMMARY:Hersage des installations
DESCRIPTION:
URL:https://www.scvt.ch/agenda/hersage-des-installations-28/2024-07-06/
CATEGORIES:Hersage
END:VEVENT
BEGIN:VEVENT
DTSTART;TZID=Europe/Paris:20240707T120000
DTEND;TZID=Europe/Paris:20240707T130000
DTSTAMP:20260421T025237
CREATED:20240103T092033Z
LAST-MODIFIED:20240430T180659Z
UID:6633-1720353600-1720357200@www.scvt.ch
SUMMARY:Hersage des installations
DESCRIPTION:
URL:https://www.scvt.ch/agenda/hersage-des-installations-28/2024-07-07/
CATEGORIES:Hersage
END:VEVENT
BEGIN:VEVENT
DTSTART;TZID=Europe/Paris:20240708T120000
DTEND;TZID=Europe/Paris:20240708T130000
DTSTAMP:20260421T025237
CREATED:20240103T092033Z
LAST-MODIFIED:20240430T180659Z
UID:6634-1720440000-1720443600@www.scvt.ch
SUMMARY:Hersage des installations
DESCRIPTION:
URL:https://www.scvt.ch/agenda/hersage-des-installations-28/2024-07-08/
CATEGORIES:Hersage
END:VEVENT
BEGIN:VEVENT
DTSTART;TZID=Europe/Paris:20240709T120000
DTEND;TZID=Europe/Paris:20240709T130000
DTSTAMP:20260421T025237
CREATED:20240103T092033Z
LAST-MODIFIED:20240430T180659Z
UID:6635-1720526400-1720530000@www.scvt.ch
SUMMARY:Hersage des installations
DESCRIPTION:
URL:https://www.scvt.ch/agenda/hersage-des-installations-28/2024-07-09/
CATEGORIES:Hersage
END:VEVENT
BEGIN:VEVENT
DTSTART;TZID=Europe/Paris:20240710T120000
DTEND;TZID=Europe/Paris:20240710T130000
DTSTAMP:20260421T025237
CREATED:20240103T092033Z
LAST-MODIFIED:20240430T180700Z
UID:6636-1720612800-1720616400@www.scvt.ch
SUMMARY:Hersage des installations
DESCRIPTION:
URL:https://www.scvt.ch/agenda/hersage-des-installations-28/2024-07-10/
CATEGORIES:Hersage
END:VEVENT
BEGIN:VEVENT
DTSTART;TZID=Europe/Paris:20240711T120000
DTEND;TZID=Europe/Paris:20240711T130000
DTSTAMP:20260421T025237
CREATED:20240103T092033Z
LAST-MODIFIED:20240430T180700Z
UID:6637-1720699200-1720702800@www.scvt.ch
SUMMARY:Hersage des installations
DESCRIPTION:
URL:https://www.scvt.ch/agenda/hersage-des-installations-28/2024-07-11/
CATEGORIES:Hersage
END:VEVENT
BEGIN:VEVENT
DTSTART;TZID=Europe/Paris:20240712T120000
DTEND;TZID=Europe/Paris:20240712T130000
DTSTAMP:20260421T025237
CREATED:20240103T092033Z
LAST-MODIFIED:20240430T180701Z
UID:6638-1720785600-1720789200@www.scvt.ch
SUMMARY:Hersage des installations
DESCRIPTION:
URL:https://www.scvt.ch/agenda/hersage-des-installations-28/2024-07-12/
CATEGORIES:Hersage
END:VEVENT
BEGIN:VEVENT
DTSTART;TZID=Europe/Paris:20240713T120000
DTEND;TZID=Europe/Paris:20240713T130000
DTSTAMP:20260421T025237
CREATED:20240103T092033Z
LAST-MODIFIED:20240430T180701Z
UID:6639-1720872000-1720875600@www.scvt.ch
SUMMARY:Hersage des installations
DESCRIPTION:
URL:https://www.scvt.ch/agenda/hersage-des-installations-28/2024-07-13/
CATEGORIES:Hersage
END:VEVENT
BEGIN:VEVENT
DTSTART;TZID=Europe/Paris:20240714T120000
DTEND;TZID=Europe/Paris:20240714T130000
DTSTAMP:20260421T025237
CREATED:20240103T092033Z
LAST-MODIFIED:20240430T180701Z
UID:6640-1720958400-1720962000@www.scvt.ch
SUMMARY:Hersage des installations
DESCRIPTION:
URL:https://www.scvt.ch/agenda/hersage-des-installations-28/2024-07-14/
CATEGORIES:Hersage
END:VEVENT
BEGIN:VEVENT
DTSTART;TZID=Europe/Paris:20240715T120000
DTEND;TZID=Europe/Paris:20240715T130000
DTSTAMP:20260421T025237
CREATED:20240103T092033Z
LAST-MODIFIED:20240430T180701Z
UID:6641-1721044800-1721048400@www.scvt.ch
SUMMARY:Hersage des installations
DESCRIPTION:
URL:https://www.scvt.ch/agenda/hersage-des-installations-28/2024-07-15/
CATEGORIES:Hersage
END:VEVENT
BEGIN:VEVENT
DTSTART;TZID=Europe/Paris:20240716T120000
DTEND;TZID=Europe/Paris:20240716T130000
DTSTAMP:20260421T025237
CREATED:20240103T092033Z
LAST-MODIFIED:20240430T180701Z
UID:6642-1721131200-1721134800@www.scvt.ch
SUMMARY:Hersage des installations
DESCRIPTION:
URL:https://www.scvt.ch/agenda/hersage-des-installations-28/2024-07-16/
CATEGORIES:Hersage
END:VEVENT
BEGIN:VEVENT
DTSTART;TZID=Europe/Paris:20240717T120000
DTEND;TZID=Europe/Paris:20240717T130000
DTSTAMP:20260421T025237
CREATED:20240103T092033Z
LAST-MODIFIED:20240430T180701Z
UID:6643-1721217600-1721221200@www.scvt.ch
SUMMARY:Hersage des installations
DESCRIPTION:
URL:https://www.scvt.ch/agenda/hersage-des-installations-28/2024-07-17/
CATEGORIES:Hersage
END:VEVENT
BEGIN:VEVENT
DTSTART;TZID=Europe/Paris:20240718T120000
DTEND;TZID=Europe/Paris:20240718T130000
DTSTAMP:20260421T025237
CREATED:20240103T092033Z
LAST-MODIFIED:20240430T180701Z
UID:6644-1721304000-1721307600@www.scvt.ch
SUMMARY:Hersage des installations
DESCRIPTION:
URL:https://www.scvt.ch/agenda/hersage-des-installations-28/2024-07-18/
CATEGORIES:Hersage
END:VEVENT
BEGIN:VEVENT
DTSTART;TZID=Europe/Paris:20240719T120000
DTEND;TZID=Europe/Paris:20240719T130000
DTSTAMP:20260421T025237
CREATED:20240103T092033Z
LAST-MODIFIED:20240430T180701Z
UID:6645-1721390400-1721394000@www.scvt.ch
SUMMARY:Hersage des installations
DESCRIPTION:
URL:https://www.scvt.ch/agenda/hersage-des-installations-28/2024-07-19/
CATEGORIES:Hersage
END:VEVENT
BEGIN:VEVENT
DTSTART;TZID=Europe/Paris:20240720T120000
DTEND;TZID=Europe/Paris:20240720T130000
DTSTAMP:20260421T025237
CREATED:20240103T092033Z
LAST-MODIFIED:20240430T180702Z
UID:6646-1721476800-1721480400@www.scvt.ch
SUMMARY:Hersage des installations
DESCRIPTION:
URL:https://www.scvt.ch/agenda/hersage-des-installations-28/2024-07-20/
CATEGORIES:Hersage
END:VEVENT
BEGIN:VEVENT
DTSTART;TZID=Europe/Paris:20240721T120000
DTEND;TZID=Europe/Paris:20240721T130000
DTSTAMP:20260421T025237
CREATED:20240103T092033Z
LAST-MODIFIED:20240430T180703Z
UID:6647-1721563200-1721566800@www.scvt.ch
SUMMARY:Hersage des installations
DESCRIPTION:
URL:https://www.scvt.ch/agenda/hersage-des-installations-28/2024-07-21/
CATEGORIES:Hersage
END:VEVENT
BEGIN:VEVENT
DTSTART;TZID=Europe/Paris:20240722T120000
DTEND;TZID=Europe/Paris:20240722T130000
DTSTAMP:20260421T025237
CREATED:20240103T092033Z
LAST-MODIFIED:20240430T180703Z
UID:6648-1721649600-1721653200@www.scvt.ch
SUMMARY:Hersage des installations
DESCRIPTION:
URL:https://www.scvt.ch/agenda/hersage-des-installations-28/2024-07-22/
CATEGORIES:Hersage
END:VEVENT
BEGIN:VEVENT
DTSTART;TZID=Europe/Paris:20240723T120000
DTEND;TZID=Europe/Paris:20240723T130000
DTSTAMP:20260421T025237
CREATED:20240103T092033Z
LAST-MODIFIED:20240430T180703Z
UID:6649-1721736000-1721739600@www.scvt.ch
SUMMARY:Hersage des installations
DESCRIPTION:
URL:https://www.scvt.ch/agenda/hersage-des-installations-28/2024-07-23/
CATEGORIES:Hersage
END:VEVENT
BEGIN:VEVENT
DTSTART;TZID=Europe/Paris:20240724T120000
DTEND;TZID=Europe/Paris:20240724T130000
DTSTAMP:20260421T025237
CREATED:20240103T092033Z
LAST-MODIFIED:20240430T180703Z
UID:6650-1721822400-1721826000@www.scvt.ch
SUMMARY:Hersage des installations
DESCRIPTION:
URL:https://www.scvt.ch/agenda/hersage-des-installations-28/2024-07-24/
CATEGORIES:Hersage
END:VEVENT
BEGIN:VEVENT
DTSTART;TZID=Europe/Paris:20240725T120000
DTEND;TZID=Europe/Paris:20240725T130000
DTSTAMP:20260421T025237
CREATED:20240103T092033Z
LAST-MODIFIED:20240430T180703Z
UID:6651-1721908800-1721912400@www.scvt.ch
SUMMARY:Hersage des installations
DESCRIPTION:
URL:https://www.scvt.ch/agenda/hersage-des-installations-28/2024-07-25/
CATEGORIES:Hersage
END:VEVENT
BEGIN:VEVENT
DTSTART;TZID=Europe/Paris:20240726T120000
DTEND;TZID=Europe/Paris:20240726T130000
DTSTAMP:20260421T025237
CREATED:20240103T092033Z
LAST-MODIFIED:20240430T180703Z
UID:6652-1721995200-1721998800@www.scvt.ch
SUMMARY:Hersage des installations
DESCRIPTION:
URL:https://www.scvt.ch/agenda/hersage-des-installations-28/2024-07-26/
CATEGORIES:Hersage
END:VEVENT
BEGIN:VEVENT
DTSTART;TZID=Europe/Paris:20240727T120000
DTEND;TZID=Europe/Paris:20240727T130000
DTSTAMP:20260421T025237
CREATED:20240103T092033Z
LAST-MODIFIED:20240430T180703Z
UID:6653-1722081600-1722085200@www.scvt.ch
SUMMARY:Hersage des installations
DESCRIPTION:
URL:https://www.scvt.ch/agenda/hersage-des-installations-28/2024-07-27/
CATEGORIES:Hersage
END:VEVENT
BEGIN:VEVENT
DTSTART;TZID=Europe/Paris:20240728T120000
DTEND;TZID=Europe/Paris:20240728T130000
DTSTAMP:20260421T025237
CREATED:20240103T092033Z
LAST-MODIFIED:20240430T180704Z
UID:6654-1722168000-1722171600@www.scvt.ch
SUMMARY:Hersage des installations
DESCRIPTION:
URL:https://www.scvt.ch/agenda/hersage-des-installations-28/2024-07-28/
CATEGORIES:Hersage
END:VEVENT
BEGIN:VEVENT
DTSTART;TZID=Europe/Paris:20240729T120000
DTEND;TZID=Europe/Paris:20240729T130000
DTSTAMP:20260421T025237
CREATED:20240103T092033Z
LAST-MODIFIED:20240430T180704Z
UID:6655-1722254400-1722258000@www.scvt.ch
SUMMARY:Hersage des installations
DESCRIPTION:
URL:https://www.scvt.ch/agenda/hersage-des-installations-28/2024-07-29/
CATEGORIES:Hersage
END:VEVENT
BEGIN:VEVENT
DTSTART;TZID=Europe/Paris:20240730T120000
DTEND;TZID=Europe/Paris:20240730T130000
DTSTAMP:20260421T025237
CREATED:20240103T092033Z
LAST-MODIFIED:20240430T180705Z
UID:6656-1722340800-1722344400@www.scvt.ch
SUMMARY:Hersage des installations
DESCRIPTION:
URL:https://www.scvt.ch/agenda/hersage-des-installations-28/2024-07-30/
CATEGORIES:Hersage
END:VEVENT
END:VCALENDAR