BEGIN:VCALENDAR
VERSION:2.0
PRODID:-//Société de cavalerie de Tavannes et environs - ECPv6.1.2.2//NONSGML v1.0//EN
CALSCALE:GREGORIAN
METHOD:PUBLISH
X-WR-CALNAME:Société de cavalerie de Tavannes et environs
X-ORIGINAL-URL:https://www.scvt.ch
X-WR-CALDESC:évènements pour Société de cavalerie de Tavannes et environs
REFRESH-INTERVAL;VALUE=DURATION:PT1H
X-Robots-Tag:noindex
X-PUBLISHED-TTL:PT1H
BEGIN:VTIMEZONE
TZID:Europe/Paris
BEGIN:DAYLIGHT
TZOFFSETFROM:+0100
TZOFFSETTO:+0200
TZNAME:CEST
DTSTART:20250330T010000
END:DAYLIGHT
BEGIN:STANDARD
TZOFFSETFROM:+0200
TZOFFSETTO:+0100
TZNAME:CET
DTSTART:20251026T010000
END:STANDARD
END:VTIMEZONE
BEGIN:VEVENT
DTSTART;TZID=Europe/Paris:20250301T120000
DTEND;TZID=Europe/Paris:20250301T130000
DTSTAMP:20260419T231556
CREATED:20241124T082631Z
LAST-MODIFIED:20241124T082631Z
UID:7612-1740830400-1740834000@www.scvt.ch
SUMMARY:Hersage des installations
DESCRIPTION:
URL:https://www.scvt.ch/agenda/hersage-des-installations-29/2025-03-01/
CATEGORIES:Hersage
END:VEVENT
BEGIN:VEVENT
DTSTART;TZID=Europe/Paris:20250302T120000
DTEND;TZID=Europe/Paris:20250302T130000
DTSTAMP:20260419T231556
CREATED:20241124T082631Z
LAST-MODIFIED:20241124T082631Z
UID:7613-1740916800-1740920400@www.scvt.ch
SUMMARY:Hersage des installations
DESCRIPTION:
URL:https://www.scvt.ch/agenda/hersage-des-installations-29/2025-03-02/
CATEGORIES:Hersage
END:VEVENT
BEGIN:VEVENT
DTSTART;TZID=Europe/Paris:20250303T120000
DTEND;TZID=Europe/Paris:20250303T130000
DTSTAMP:20260419T231556
CREATED:20241124T082631Z
LAST-MODIFIED:20241124T082631Z
UID:7614-1741003200-1741006800@www.scvt.ch
SUMMARY:Hersage des installations
DESCRIPTION:
URL:https://www.scvt.ch/agenda/hersage-des-installations-29/2025-03-03/
CATEGORIES:Hersage
END:VEVENT
BEGIN:VEVENT
DTSTART;TZID=Europe/Paris:20250304T120000
DTEND;TZID=Europe/Paris:20250304T130000
DTSTAMP:20260419T231556
CREATED:20241124T082631Z
LAST-MODIFIED:20241124T082631Z
UID:7615-1741089600-1741093200@www.scvt.ch
SUMMARY:Hersage des installations
DESCRIPTION:
URL:https://www.scvt.ch/agenda/hersage-des-installations-29/2025-03-04/
CATEGORIES:Hersage
END:VEVENT
BEGIN:VEVENT
DTSTART;TZID=Europe/Paris:20250305T120000
DTEND;TZID=Europe/Paris:20250305T130000
DTSTAMP:20260419T231556
CREATED:20241124T082631Z
LAST-MODIFIED:20241124T082631Z
UID:7616-1741176000-1741179600@www.scvt.ch
SUMMARY:Hersage des installations
DESCRIPTION:
URL:https://www.scvt.ch/agenda/hersage-des-installations-29/2025-03-05/
CATEGORIES:Hersage
END:VEVENT
BEGIN:VEVENT
DTSTART;TZID=Europe/Paris:20250306T120000
DTEND;TZID=Europe/Paris:20250306T130000
DTSTAMP:20260419T231556
CREATED:20241124T082631Z
LAST-MODIFIED:20241124T082631Z
UID:7617-1741262400-1741266000@www.scvt.ch
SUMMARY:Hersage des installations
DESCRIPTION:
URL:https://www.scvt.ch/agenda/hersage-des-installations-29/2025-03-06/
CATEGORIES:Hersage
END:VEVENT
BEGIN:VEVENT
DTSTART;TZID=Europe/Paris:20250307T120000
DTEND;TZID=Europe/Paris:20250307T130000
DTSTAMP:20260419T231556
CREATED:20241124T082631Z
LAST-MODIFIED:20241124T082631Z
UID:7618-1741348800-1741352400@www.scvt.ch
SUMMARY:Hersage des installations
DESCRIPTION:
URL:https://www.scvt.ch/agenda/hersage-des-installations-29/2025-03-07/
CATEGORIES:Hersage
END:VEVENT
BEGIN:VEVENT
DTSTART;TZID=Europe/Paris:20250308T120000
DTEND;TZID=Europe/Paris:20250308T130000
DTSTAMP:20260419T231556
CREATED:20241124T082631Z
LAST-MODIFIED:20241124T082631Z
UID:7619-1741435200-1741438800@www.scvt.ch
SUMMARY:Hersage des installations
DESCRIPTION:
URL:https://www.scvt.ch/agenda/hersage-des-installations-29/2025-03-08/
CATEGORIES:Hersage
END:VEVENT
BEGIN:VEVENT
DTSTART;TZID=Europe/Paris:20250309T120000
DTEND;TZID=Europe/Paris:20250309T130000
DTSTAMP:20260419T231556
CREATED:20241124T082631Z
LAST-MODIFIED:20241124T082631Z
UID:7620-1741521600-1741525200@www.scvt.ch
SUMMARY:Hersage des installations
DESCRIPTION:
URL:https://www.scvt.ch/agenda/hersage-des-installations-29/2025-03-09/
CATEGORIES:Hersage
END:VEVENT
BEGIN:VEVENT
DTSTART;TZID=Europe/Paris:20250310T120000
DTEND;TZID=Europe/Paris:20250310T130000
DTSTAMP:20260419T231556
CREATED:20241124T082631Z
LAST-MODIFIED:20241124T082631Z
UID:7621-1741608000-1741611600@www.scvt.ch
SUMMARY:Hersage des installations
DESCRIPTION:
URL:https://www.scvt.ch/agenda/hersage-des-installations-29/2025-03-10/
CATEGORIES:Hersage
END:VEVENT
BEGIN:VEVENT
DTSTART;TZID=Europe/Paris:20250311T120000
DTEND;TZID=Europe/Paris:20250311T130000
DTSTAMP:20260419T231556
CREATED:20241124T082631Z
LAST-MODIFIED:20241124T082631Z
UID:7622-1741694400-1741698000@www.scvt.ch
SUMMARY:Hersage des installations
DESCRIPTION:
URL:https://www.scvt.ch/agenda/hersage-des-installations-29/2025-03-11/
CATEGORIES:Hersage
END:VEVENT
BEGIN:VEVENT
DTSTART;TZID=Europe/Paris:20250312T120000
DTEND;TZID=Europe/Paris:20250312T130000
DTSTAMP:20260419T231556
CREATED:20241124T082631Z
LAST-MODIFIED:20241124T082631Z
UID:7623-1741780800-1741784400@www.scvt.ch
SUMMARY:Hersage des installations
DESCRIPTION:
URL:https://www.scvt.ch/agenda/hersage-des-installations-29/2025-03-12/
CATEGORIES:Hersage
END:VEVENT
BEGIN:VEVENT
DTSTART;TZID=Europe/Paris:20250313T120000
DTEND;TZID=Europe/Paris:20250313T130000
DTSTAMP:20260419T231556
CREATED:20241124T082631Z
LAST-MODIFIED:20241124T082631Z
UID:7624-1741867200-1741870800@www.scvt.ch
SUMMARY:Hersage des installations
DESCRIPTION:
URL:https://www.scvt.ch/agenda/hersage-des-installations-29/2025-03-13/
CATEGORIES:Hersage
END:VEVENT
BEGIN:VEVENT
DTSTART;TZID=Europe/Paris:20250314T120000
DTEND;TZID=Europe/Paris:20250314T130000
DTSTAMP:20260419T231556
CREATED:20241124T082631Z
LAST-MODIFIED:20241124T082631Z
UID:7625-1741953600-1741957200@www.scvt.ch
SUMMARY:Hersage des installations
DESCRIPTION:
URL:https://www.scvt.ch/agenda/hersage-des-installations-29/2025-03-14/
CATEGORIES:Hersage
END:VEVENT
BEGIN:VEVENT
DTSTART;TZID=Europe/Paris:20250315T120000
DTEND;TZID=Europe/Paris:20250315T130000
DTSTAMP:20260419T231556
CREATED:20241124T082631Z
LAST-MODIFIED:20241124T082631Z
UID:7626-1742040000-1742043600@www.scvt.ch
SUMMARY:Hersage des installations
DESCRIPTION:
URL:https://www.scvt.ch/agenda/hersage-des-installations-29/2025-03-15/
CATEGORIES:Hersage
END:VEVENT
BEGIN:VEVENT
DTSTART;TZID=Europe/Paris:20250316T120000
DTEND;TZID=Europe/Paris:20250316T130000
DTSTAMP:20260419T231556
CREATED:20241124T082631Z
LAST-MODIFIED:20241124T082631Z
UID:7627-1742126400-1742130000@www.scvt.ch
SUMMARY:Hersage des installations
DESCRIPTION:
URL:https://www.scvt.ch/agenda/hersage-des-installations-29/2025-03-16/
CATEGORIES:Hersage
END:VEVENT
BEGIN:VEVENT
DTSTART;TZID=Europe/Paris:20250317T120000
DTEND;TZID=Europe/Paris:20250317T130000
DTSTAMP:20260419T231556
CREATED:20241124T082631Z
LAST-MODIFIED:20241124T082631Z
UID:7628-1742212800-1742216400@www.scvt.ch
SUMMARY:Hersage des installations
DESCRIPTION:
URL:https://www.scvt.ch/agenda/hersage-des-installations-29/2025-03-17/
CATEGORIES:Hersage
END:VEVENT
BEGIN:VEVENT
DTSTART;TZID=Europe/Paris:20250318T120000
DTEND;TZID=Europe/Paris:20250318T130000
DTSTAMP:20260419T231556
CREATED:20241124T082631Z
LAST-MODIFIED:20241124T082631Z
UID:7629-1742299200-1742302800@www.scvt.ch
SUMMARY:Hersage des installations
DESCRIPTION:
URL:https://www.scvt.ch/agenda/hersage-des-installations-29/2025-03-18/
CATEGORIES:Hersage
END:VEVENT
BEGIN:VEVENT
DTSTART;TZID=Europe/Paris:20250319T120000
DTEND;TZID=Europe/Paris:20250319T130000
DTSTAMP:20260419T231556
CREATED:20241124T082631Z
LAST-MODIFIED:20241124T082631Z
UID:7630-1742385600-1742389200@www.scvt.ch
SUMMARY:Hersage des installations
DESCRIPTION:
URL:https://www.scvt.ch/agenda/hersage-des-installations-29/2025-03-19/
CATEGORIES:Hersage
END:VEVENT
BEGIN:VEVENT
DTSTART;TZID=Europe/Paris:20250320T120000
DTEND;TZID=Europe/Paris:20250320T130000
DTSTAMP:20260419T231556
CREATED:20241124T082631Z
LAST-MODIFIED:20241124T082631Z
UID:7631-1742472000-1742475600@www.scvt.ch
SUMMARY:Hersage des installations
DESCRIPTION:
URL:https://www.scvt.ch/agenda/hersage-des-installations-29/2025-03-20/
CATEGORIES:Hersage
END:VEVENT
BEGIN:VEVENT
DTSTART;TZID=Europe/Paris:20250321T120000
DTEND;TZID=Europe/Paris:20250321T130000
DTSTAMP:20260419T231556
CREATED:20241124T082631Z
LAST-MODIFIED:20241124T082631Z
UID:7632-1742558400-1742562000@www.scvt.ch
SUMMARY:Hersage des installations
DESCRIPTION:
URL:https://www.scvt.ch/agenda/hersage-des-installations-29/2025-03-21/
CATEGORIES:Hersage
END:VEVENT
BEGIN:VEVENT
DTSTART;TZID=Europe/Paris:20250322T120000
DTEND;TZID=Europe/Paris:20250322T130000
DTSTAMP:20260419T231556
CREATED:20241124T082631Z
LAST-MODIFIED:20241124T082631Z
UID:7633-1742644800-1742648400@www.scvt.ch
SUMMARY:Hersage des installations
DESCRIPTION:
URL:https://www.scvt.ch/agenda/hersage-des-installations-29/2025-03-22/
CATEGORIES:Hersage
END:VEVENT
BEGIN:VEVENT
DTSTART;TZID=Europe/Paris:20250323T120000
DTEND;TZID=Europe/Paris:20250323T130000
DTSTAMP:20260419T231556
CREATED:20241124T082631Z
LAST-MODIFIED:20241124T082631Z
UID:7634-1742731200-1742734800@www.scvt.ch
SUMMARY:Hersage des installations
DESCRIPTION:
URL:https://www.scvt.ch/agenda/hersage-des-installations-29/2025-03-23/
CATEGORIES:Hersage
END:VEVENT
BEGIN:VEVENT
DTSTART;TZID=Europe/Paris:20250324T120000
DTEND;TZID=Europe/Paris:20250324T130000
DTSTAMP:20260419T231556
CREATED:20241124T082631Z
LAST-MODIFIED:20241124T082631Z
UID:7635-1742817600-1742821200@www.scvt.ch
SUMMARY:Hersage des installations
DESCRIPTION:
URL:https://www.scvt.ch/agenda/hersage-des-installations-29/2025-03-24/
CATEGORIES:Hersage
END:VEVENT
BEGIN:VEVENT
DTSTART;TZID=Europe/Paris:20250325T120000
DTEND;TZID=Europe/Paris:20250325T130000
DTSTAMP:20260419T231556
CREATED:20241124T082631Z
LAST-MODIFIED:20241124T082631Z
UID:7636-1742904000-1742907600@www.scvt.ch
SUMMARY:Hersage des installations
DESCRIPTION:
URL:https://www.scvt.ch/agenda/hersage-des-installations-29/2025-03-25/
CATEGORIES:Hersage
END:VEVENT
BEGIN:VEVENT
DTSTART;TZID=Europe/Paris:20250326T120000
DTEND;TZID=Europe/Paris:20250326T130000
DTSTAMP:20260419T231556
CREATED:20241124T082631Z
LAST-MODIFIED:20241124T082631Z
UID:7637-1742990400-1742994000@www.scvt.ch
SUMMARY:Hersage des installations
DESCRIPTION:
URL:https://www.scvt.ch/agenda/hersage-des-installations-29/2025-03-26/
CATEGORIES:Hersage
END:VEVENT
BEGIN:VEVENT
DTSTART;TZID=Europe/Paris:20250327T120000
DTEND;TZID=Europe/Paris:20250327T130000
DTSTAMP:20260419T231556
CREATED:20241124T082631Z
LAST-MODIFIED:20241124T082631Z
UID:7638-1743076800-1743080400@www.scvt.ch
SUMMARY:Hersage des installations
DESCRIPTION:
URL:https://www.scvt.ch/agenda/hersage-des-installations-29/2025-03-27/
CATEGORIES:Hersage
END:VEVENT
BEGIN:VEVENT
DTSTART;TZID=Europe/Paris:20250328T120000
DTEND;TZID=Europe/Paris:20250328T130000
DTSTAMP:20260419T231556
CREATED:20241124T082631Z
LAST-MODIFIED:20241124T082631Z
UID:7639-1743163200-1743166800@www.scvt.ch
SUMMARY:Hersage des installations
DESCRIPTION:
URL:https://www.scvt.ch/agenda/hersage-des-installations-29/2025-03-28/
CATEGORIES:Hersage
END:VEVENT
BEGIN:VEVENT
DTSTART;TZID=Europe/Paris:20250329T120000
DTEND;TZID=Europe/Paris:20250329T130000
DTSTAMP:20260419T231556
CREATED:20241124T082631Z
LAST-MODIFIED:20241124T082631Z
UID:7640-1743249600-1743253200@www.scvt.ch
SUMMARY:Hersage des installations
DESCRIPTION:
URL:https://www.scvt.ch/agenda/hersage-des-installations-29/2025-03-29/
CATEGORIES:Hersage
END:VEVENT
BEGIN:VEVENT
DTSTART;TZID=Europe/Paris:20250330T120000
DTEND;TZID=Europe/Paris:20250330T130000
DTSTAMP:20260419T231556
CREATED:20241124T082631Z
LAST-MODIFIED:20241124T082631Z
UID:7641-1743336000-1743339600@www.scvt.ch
SUMMARY:Hersage des installations
DESCRIPTION:
URL:https://www.scvt.ch/agenda/hersage-des-installations-29/2025-03-30/
CATEGORIES:Hersage
END:VEVENT
END:VCALENDAR