BEGIN:VCALENDAR
VERSION:2.0
PRODID:-//Société de cavalerie de Tavannes et environs - ECPv6.1.2.2//NONSGML v1.0//EN
CALSCALE:GREGORIAN
METHOD:PUBLISH
X-ORIGINAL-URL:https://www.scvt.ch
X-WR-CALDESC:évènements pour Société de cavalerie de Tavannes et environs
REFRESH-INTERVAL;VALUE=DURATION:PT1H
X-Robots-Tag:noindex
X-PUBLISHED-TTL:PT1H
BEGIN:VTIMEZONE
TZID:Europe/Paris
BEGIN:DAYLIGHT
TZOFFSETFROM:+0100
TZOFFSETTO:+0200
TZNAME:CEST
DTSTART:20250330T010000
END:DAYLIGHT
BEGIN:STANDARD
TZOFFSETFROM:+0200
TZOFFSETTO:+0100
TZNAME:CET
DTSTART:20251026T010000
END:STANDARD
END:VTIMEZONE
BEGIN:VEVENT
DTSTART;TZID=Europe/Paris:20250401T120000
DTEND;TZID=Europe/Paris:20250401T130000
DTSTAMP:20260419T213732
CREATED:20241124T082631Z
LAST-MODIFIED:20241124T082631Z
UID:7643-1743508800-1743512400@www.scvt.ch
SUMMARY:Hersage des installations
DESCRIPTION:
URL:https://www.scvt.ch/agenda/hersage-des-installations-29/2025-04-01/
CATEGORIES:Hersage
END:VEVENT
BEGIN:VEVENT
DTSTART;TZID=Europe/Paris:20250402T120000
DTEND;TZID=Europe/Paris:20250402T130000
DTSTAMP:20260419T213732
CREATED:20241124T082631Z
LAST-MODIFIED:20241124T082631Z
UID:7644-1743595200-1743598800@www.scvt.ch
SUMMARY:Hersage des installations
DESCRIPTION:
URL:https://www.scvt.ch/agenda/hersage-des-installations-29/2025-04-02/
CATEGORIES:Hersage
END:VEVENT
BEGIN:VEVENT
DTSTART;TZID=Europe/Paris:20250403T120000
DTEND;TZID=Europe/Paris:20250403T130000
DTSTAMP:20260419T213732
CREATED:20241124T082631Z
LAST-MODIFIED:20241124T082631Z
UID:7645-1743681600-1743685200@www.scvt.ch
SUMMARY:Hersage des installations
DESCRIPTION:
URL:https://www.scvt.ch/agenda/hersage-des-installations-29/2025-04-03/
CATEGORIES:Hersage
END:VEVENT
BEGIN:VEVENT
DTSTART;TZID=Europe/Paris:20250404T120000
DTEND;TZID=Europe/Paris:20250404T130000
DTSTAMP:20260419T213732
CREATED:20241124T082631Z
LAST-MODIFIED:20241124T082631Z
UID:7646-1743768000-1743771600@www.scvt.ch
SUMMARY:Hersage des installations
DESCRIPTION:
URL:https://www.scvt.ch/agenda/hersage-des-installations-29/2025-04-04/
CATEGORIES:Hersage
END:VEVENT
BEGIN:VEVENT
DTSTART;TZID=Europe/Paris:20250405T120000
DTEND;TZID=Europe/Paris:20250405T130000
DTSTAMP:20260419T213732
CREATED:20241124T082631Z
LAST-MODIFIED:20241124T082631Z
UID:7647-1743854400-1743858000@www.scvt.ch
SUMMARY:Hersage des installations
DESCRIPTION:
URL:https://www.scvt.ch/agenda/hersage-des-installations-29/2025-04-05/
CATEGORIES:Hersage
END:VEVENT
BEGIN:VEVENT
DTSTART;TZID=Europe/Paris:20250406T120000
DTEND;TZID=Europe/Paris:20250406T130000
DTSTAMP:20260419T213732
CREATED:20241124T082631Z
LAST-MODIFIED:20241124T082631Z
UID:7648-1743940800-1743944400@www.scvt.ch
SUMMARY:Hersage des installations
DESCRIPTION:
URL:https://www.scvt.ch/agenda/hersage-des-installations-29/2025-04-06/
CATEGORIES:Hersage
END:VEVENT
BEGIN:VEVENT
DTSTART;TZID=Europe/Paris:20250407T120000
DTEND;TZID=Europe/Paris:20250407T130000
DTSTAMP:20260419T213732
CREATED:20241124T082631Z
LAST-MODIFIED:20241124T082631Z
UID:7649-1744027200-1744030800@www.scvt.ch
SUMMARY:Hersage des installations
DESCRIPTION:
URL:https://www.scvt.ch/agenda/hersage-des-installations-29/2025-04-07/
CATEGORIES:Hersage
END:VEVENT
BEGIN:VEVENT
DTSTART;TZID=Europe/Paris:20250408T120000
DTEND;TZID=Europe/Paris:20250408T130000
DTSTAMP:20260419T213732
CREATED:20241124T082631Z
LAST-MODIFIED:20241124T082631Z
UID:7650-1744113600-1744117200@www.scvt.ch
SUMMARY:Hersage des installations
DESCRIPTION:
URL:https://www.scvt.ch/agenda/hersage-des-installations-29/2025-04-08/
CATEGORIES:Hersage
END:VEVENT
BEGIN:VEVENT
DTSTART;TZID=Europe/Paris:20250409T120000
DTEND;TZID=Europe/Paris:20250409T130000
DTSTAMP:20260419T213732
CREATED:20241124T082631Z
LAST-MODIFIED:20241124T082631Z
UID:7651-1744200000-1744203600@www.scvt.ch
SUMMARY:Hersage des installations
DESCRIPTION:
URL:https://www.scvt.ch/agenda/hersage-des-installations-29/2025-04-09/
CATEGORIES:Hersage
END:VEVENT
BEGIN:VEVENT
DTSTART;TZID=Europe/Paris:20250410T120000
DTEND;TZID=Europe/Paris:20250410T130000
DTSTAMP:20260419T213732
CREATED:20241124T082631Z
LAST-MODIFIED:20241124T082631Z
UID:7652-1744286400-1744290000@www.scvt.ch
SUMMARY:Hersage des installations
DESCRIPTION:
URL:https://www.scvt.ch/agenda/hersage-des-installations-29/2025-04-10/
CATEGORIES:Hersage
END:VEVENT
BEGIN:VEVENT
DTSTART;TZID=Europe/Paris:20250411T120000
DTEND;TZID=Europe/Paris:20250411T130000
DTSTAMP:20260419T213732
CREATED:20241124T082631Z
LAST-MODIFIED:20241124T082631Z
UID:7653-1744372800-1744376400@www.scvt.ch
SUMMARY:Hersage des installations
DESCRIPTION:
URL:https://www.scvt.ch/agenda/hersage-des-installations-29/2025-04-11/
CATEGORIES:Hersage
END:VEVENT
BEGIN:VEVENT
DTSTART;TZID=Europe/Paris:20250412T120000
DTEND;TZID=Europe/Paris:20250412T130000
DTSTAMP:20260419T213732
CREATED:20241124T082631Z
LAST-MODIFIED:20241124T082631Z
UID:7654-1744459200-1744462800@www.scvt.ch
SUMMARY:Hersage des installations
DESCRIPTION:
URL:https://www.scvt.ch/agenda/hersage-des-installations-29/2025-04-12/
CATEGORIES:Hersage
END:VEVENT
BEGIN:VEVENT
DTSTART;TZID=Europe/Paris:20250413T120000
DTEND;TZID=Europe/Paris:20250413T130000
DTSTAMP:20260419T213732
CREATED:20241124T082631Z
LAST-MODIFIED:20241124T082631Z
UID:7655-1744545600-1744549200@www.scvt.ch
SUMMARY:Hersage des installations
DESCRIPTION:
URL:https://www.scvt.ch/agenda/hersage-des-installations-29/2025-04-13/
CATEGORIES:Hersage
END:VEVENT
BEGIN:VEVENT
DTSTART;TZID=Europe/Paris:20250414T120000
DTEND;TZID=Europe/Paris:20250414T130000
DTSTAMP:20260419T213732
CREATED:20241124T082631Z
LAST-MODIFIED:20241124T082631Z
UID:7656-1744632000-1744635600@www.scvt.ch
SUMMARY:Hersage des installations
DESCRIPTION:
URL:https://www.scvt.ch/agenda/hersage-des-installations-29/2025-04-14/
CATEGORIES:Hersage
END:VEVENT
BEGIN:VEVENT
DTSTART;TZID=Europe/Paris:20250415T120000
DTEND;TZID=Europe/Paris:20250415T130000
DTSTAMP:20260419T213732
CREATED:20241124T082631Z
LAST-MODIFIED:20241124T082631Z
UID:7657-1744718400-1744722000@www.scvt.ch
SUMMARY:Hersage des installations
DESCRIPTION:
URL:https://www.scvt.ch/agenda/hersage-des-installations-29/2025-04-15/
CATEGORIES:Hersage
END:VEVENT
BEGIN:VEVENT
DTSTART;TZID=Europe/Paris:20250416T120000
DTEND;TZID=Europe/Paris:20250416T130000
DTSTAMP:20260419T213732
CREATED:20241124T082631Z
LAST-MODIFIED:20241124T082631Z
UID:7658-1744804800-1744808400@www.scvt.ch
SUMMARY:Hersage des installations
DESCRIPTION:
URL:https://www.scvt.ch/agenda/hersage-des-installations-29/2025-04-16/
CATEGORIES:Hersage
END:VEVENT
BEGIN:VEVENT
DTSTART;TZID=Europe/Paris:20250417T120000
DTEND;TZID=Europe/Paris:20250417T130000
DTSTAMP:20260419T213732
CREATED:20241124T082631Z
LAST-MODIFIED:20241124T082631Z
UID:7659-1744891200-1744894800@www.scvt.ch
SUMMARY:Hersage des installations
DESCRIPTION:
URL:https://www.scvt.ch/agenda/hersage-des-installations-29/2025-04-17/
CATEGORIES:Hersage
END:VEVENT
BEGIN:VEVENT
DTSTART;TZID=Europe/Paris:20250418T120000
DTEND;TZID=Europe/Paris:20250418T130000
DTSTAMP:20260419T213732
CREATED:20241124T082631Z
LAST-MODIFIED:20241124T082631Z
UID:7660-1744977600-1744981200@www.scvt.ch
SUMMARY:Hersage des installations
DESCRIPTION:
URL:https://www.scvt.ch/agenda/hersage-des-installations-29/2025-04-18/
CATEGORIES:Hersage
END:VEVENT
BEGIN:VEVENT
DTSTART;TZID=Europe/Paris:20250419T120000
DTEND;TZID=Europe/Paris:20250419T130000
DTSTAMP:20260419T213732
CREATED:20241124T082631Z
LAST-MODIFIED:20241124T082631Z
UID:7661-1745064000-1745067600@www.scvt.ch
SUMMARY:Hersage des installations
DESCRIPTION:
URL:https://www.scvt.ch/agenda/hersage-des-installations-29/2025-04-19/
CATEGORIES:Hersage
END:VEVENT
BEGIN:VEVENT
DTSTART;TZID=Europe/Paris:20250420T120000
DTEND;TZID=Europe/Paris:20250420T130000
DTSTAMP:20260419T213732
CREATED:20241124T082631Z
LAST-MODIFIED:20241124T082631Z
UID:7662-1745150400-1745154000@www.scvt.ch
SUMMARY:Hersage des installations
DESCRIPTION:
URL:https://www.scvt.ch/agenda/hersage-des-installations-29/2025-04-20/
CATEGORIES:Hersage
END:VEVENT
BEGIN:VEVENT
DTSTART;TZID=Europe/Paris:20250421T120000
DTEND;TZID=Europe/Paris:20250421T130000
DTSTAMP:20260419T213732
CREATED:20241124T082631Z
LAST-MODIFIED:20241124T082631Z
UID:7663-1745236800-1745240400@www.scvt.ch
SUMMARY:Hersage des installations
DESCRIPTION:
URL:https://www.scvt.ch/agenda/hersage-des-installations-29/2025-04-21/
CATEGORIES:Hersage
END:VEVENT
BEGIN:VEVENT
DTSTART;TZID=Europe/Paris:20250422T120000
DTEND;TZID=Europe/Paris:20250422T130000
DTSTAMP:20260419T213732
CREATED:20241124T082631Z
LAST-MODIFIED:20241124T082631Z
UID:7664-1745323200-1745326800@www.scvt.ch
SUMMARY:Hersage des installations
DESCRIPTION:
URL:https://www.scvt.ch/agenda/hersage-des-installations-29/2025-04-22/
CATEGORIES:Hersage
END:VEVENT
BEGIN:VEVENT
DTSTART;TZID=Europe/Paris:20250423T120000
DTEND;TZID=Europe/Paris:20250423T130000
DTSTAMP:20260419T213732
CREATED:20241124T082631Z
LAST-MODIFIED:20241124T082631Z
UID:7665-1745409600-1745413200@www.scvt.ch
SUMMARY:Hersage des installations
DESCRIPTION:
URL:https://www.scvt.ch/agenda/hersage-des-installations-29/2025-04-23/
CATEGORIES:Hersage
END:VEVENT
BEGIN:VEVENT
DTSTART;TZID=Europe/Paris:20250424T120000
DTEND;TZID=Europe/Paris:20250424T130000
DTSTAMP:20260419T213732
CREATED:20241124T082631Z
LAST-MODIFIED:20241124T082631Z
UID:7666-1745496000-1745499600@www.scvt.ch
SUMMARY:Hersage des installations
DESCRIPTION:
URL:https://www.scvt.ch/agenda/hersage-des-installations-29/2025-04-24/
CATEGORIES:Hersage
END:VEVENT
BEGIN:VEVENT
DTSTART;TZID=Europe/Paris:20250425T120000
DTEND;TZID=Europe/Paris:20250425T130000
DTSTAMP:20260419T213732
CREATED:20241124T082631Z
LAST-MODIFIED:20241124T082631Z
UID:7667-1745582400-1745586000@www.scvt.ch
SUMMARY:Hersage des installations
DESCRIPTION:
URL:https://www.scvt.ch/agenda/hersage-des-installations-29/2025-04-25/
CATEGORIES:Hersage
END:VEVENT
BEGIN:VEVENT
DTSTART;TZID=Europe/Paris:20250426T120000
DTEND;TZID=Europe/Paris:20250426T130000
DTSTAMP:20260419T213732
CREATED:20241124T082631Z
LAST-MODIFIED:20241124T082631Z
UID:7668-1745668800-1745672400@www.scvt.ch
SUMMARY:Hersage des installations
DESCRIPTION:
URL:https://www.scvt.ch/agenda/hersage-des-installations-29/2025-04-26/
CATEGORIES:Hersage
END:VEVENT
BEGIN:VEVENT
DTSTART;TZID=Europe/Paris:20250427T120000
DTEND;TZID=Europe/Paris:20250427T130000
DTSTAMP:20260419T213732
CREATED:20241124T082631Z
LAST-MODIFIED:20241124T082631Z
UID:7669-1745755200-1745758800@www.scvt.ch
SUMMARY:Hersage des installations
DESCRIPTION:
URL:https://www.scvt.ch/agenda/hersage-des-installations-29/2025-04-27/
CATEGORIES:Hersage
END:VEVENT
BEGIN:VEVENT
DTSTART;TZID=Europe/Paris:20250428T120000
DTEND;TZID=Europe/Paris:20250428T130000
DTSTAMP:20260419T213732
CREATED:20241124T082631Z
LAST-MODIFIED:20241124T082631Z
UID:7670-1745841600-1745845200@www.scvt.ch
SUMMARY:Hersage des installations
DESCRIPTION:
URL:https://www.scvt.ch/agenda/hersage-des-installations-29/2025-04-28/
CATEGORIES:Hersage
END:VEVENT
BEGIN:VEVENT
DTSTART;TZID=Europe/Paris:20250429T120000
DTEND;TZID=Europe/Paris:20250429T130000
DTSTAMP:20260419T213732
CREATED:20241124T082631Z
LAST-MODIFIED:20241124T082631Z
UID:7671-1745928000-1745931600@www.scvt.ch
SUMMARY:Hersage des installations
DESCRIPTION:
URL:https://www.scvt.ch/agenda/hersage-des-installations-29/2025-04-29/
CATEGORIES:Hersage
END:VEVENT
BEGIN:VEVENT
DTSTART;TZID=Europe/Paris:20250430T120000
DTEND;TZID=Europe/Paris:20250430T130000
DTSTAMP:20260419T213732
CREATED:20241124T082631Z
LAST-MODIFIED:20241124T082631Z
UID:7672-1746014400-1746018000@www.scvt.ch
SUMMARY:Hersage des installations
DESCRIPTION:
URL:https://www.scvt.ch/agenda/hersage-des-installations-29/2025-04-30/
CATEGORIES:Hersage
END:VEVENT
END:VCALENDAR