BEGIN:VCALENDAR
VERSION:2.0
PRODID:-//Société de cavalerie de Tavannes et environs - ECPv6.1.2.2//NONSGML v1.0//EN
CALSCALE:GREGORIAN
METHOD:PUBLISH
X-WR-CALNAME:Société de cavalerie de Tavannes et environs
X-ORIGINAL-URL:https://www.scvt.ch
X-WR-CALDESC:évènements pour Société de cavalerie de Tavannes et environs
REFRESH-INTERVAL;VALUE=DURATION:PT1H
X-Robots-Tag:noindex
X-PUBLISHED-TTL:PT1H
BEGIN:VTIMEZONE
TZID:Europe/Paris
BEGIN:DAYLIGHT
TZOFFSETFROM:+0100
TZOFFSETTO:+0200
TZNAME:CEST
DTSTART:20250330T010000
END:DAYLIGHT
BEGIN:STANDARD
TZOFFSETFROM:+0200
TZOFFSETTO:+0100
TZNAME:CET
DTSTART:20251026T010000
END:STANDARD
END:VTIMEZONE
BEGIN:VEVENT
DTSTART;TZID=Europe/Paris:20250501T120000
DTEND;TZID=Europe/Paris:20250501T130000
DTSTAMP:20260420T005748
CREATED:20241124T082631Z
LAST-MODIFIED:20241124T082631Z
UID:7673-1746100800-1746104400@www.scvt.ch
SUMMARY:Hersage des installations
DESCRIPTION:
URL:https://www.scvt.ch/agenda/hersage-des-installations-29/2025-05-01/
CATEGORIES:Hersage
END:VEVENT
BEGIN:VEVENT
DTSTART;TZID=Europe/Paris:20250502T120000
DTEND;TZID=Europe/Paris:20250502T130000
DTSTAMP:20260420T005748
CREATED:20241124T082631Z
LAST-MODIFIED:20241124T082631Z
UID:7674-1746187200-1746190800@www.scvt.ch
SUMMARY:Hersage des installations
DESCRIPTION:
URL:https://www.scvt.ch/agenda/hersage-des-installations-29/2025-05-02/
CATEGORIES:Hersage
END:VEVENT
BEGIN:VEVENT
DTSTART;TZID=Europe/Paris:20250503T120000
DTEND;TZID=Europe/Paris:20250503T130000
DTSTAMP:20260420T005748
CREATED:20241124T082631Z
LAST-MODIFIED:20241124T082631Z
UID:7675-1746273600-1746277200@www.scvt.ch
SUMMARY:Hersage des installations
DESCRIPTION:
URL:https://www.scvt.ch/agenda/hersage-des-installations-29/2025-05-03/
CATEGORIES:Hersage
END:VEVENT
BEGIN:VEVENT
DTSTART;TZID=Europe/Paris:20250504T120000
DTEND;TZID=Europe/Paris:20250504T130000
DTSTAMP:20260420T005748
CREATED:20241124T082631Z
LAST-MODIFIED:20241124T082631Z
UID:7676-1746360000-1746363600@www.scvt.ch
SUMMARY:Hersage des installations
DESCRIPTION:
URL:https://www.scvt.ch/agenda/hersage-des-installations-29/2025-05-04/
CATEGORIES:Hersage
END:VEVENT
BEGIN:VEVENT
DTSTART;TZID=Europe/Paris:20250505T120000
DTEND;TZID=Europe/Paris:20250505T130000
DTSTAMP:20260420T005748
CREATED:20241124T082631Z
LAST-MODIFIED:20241124T082631Z
UID:7677-1746446400-1746450000@www.scvt.ch
SUMMARY:Hersage des installations
DESCRIPTION:
URL:https://www.scvt.ch/agenda/hersage-des-installations-29/2025-05-05/
CATEGORIES:Hersage
END:VEVENT
BEGIN:VEVENT
DTSTART;TZID=Europe/Paris:20250506T120000
DTEND;TZID=Europe/Paris:20250506T130000
DTSTAMP:20260420T005748
CREATED:20241124T082631Z
LAST-MODIFIED:20241124T082631Z
UID:7678-1746532800-1746536400@www.scvt.ch
SUMMARY:Hersage des installations
DESCRIPTION:
URL:https://www.scvt.ch/agenda/hersage-des-installations-29/2025-05-06/
CATEGORIES:Hersage
END:VEVENT
BEGIN:VEVENT
DTSTART;TZID=Europe/Paris:20250507T120000
DTEND;TZID=Europe/Paris:20250507T130000
DTSTAMP:20260420T005748
CREATED:20241124T082631Z
LAST-MODIFIED:20241124T082631Z
UID:7679-1746619200-1746622800@www.scvt.ch
SUMMARY:Hersage des installations
DESCRIPTION:
URL:https://www.scvt.ch/agenda/hersage-des-installations-29/2025-05-07/
CATEGORIES:Hersage
END:VEVENT
BEGIN:VEVENT
DTSTART;TZID=Europe/Paris:20250508T120000
DTEND;TZID=Europe/Paris:20250508T130000
DTSTAMP:20260420T005748
CREATED:20241124T082631Z
LAST-MODIFIED:20241124T082631Z
UID:7680-1746705600-1746709200@www.scvt.ch
SUMMARY:Hersage des installations
DESCRIPTION:
URL:https://www.scvt.ch/agenda/hersage-des-installations-29/2025-05-08/
CATEGORIES:Hersage
END:VEVENT
BEGIN:VEVENT
DTSTART;TZID=Europe/Paris:20250509T120000
DTEND;TZID=Europe/Paris:20250509T130000
DTSTAMP:20260420T005748
CREATED:20241124T082631Z
LAST-MODIFIED:20241124T082631Z
UID:7681-1746792000-1746795600@www.scvt.ch
SUMMARY:Hersage des installations
DESCRIPTION:
URL:https://www.scvt.ch/agenda/hersage-des-installations-29/2025-05-09/
CATEGORIES:Hersage
END:VEVENT
BEGIN:VEVENT
DTSTART;TZID=Europe/Paris:20250510T120000
DTEND;TZID=Europe/Paris:20250510T130000
DTSTAMP:20260420T005748
CREATED:20241124T082631Z
LAST-MODIFIED:20241124T082631Z
UID:7682-1746878400-1746882000@www.scvt.ch
SUMMARY:Hersage des installations
DESCRIPTION:
URL:https://www.scvt.ch/agenda/hersage-des-installations-29/2025-05-10/
CATEGORIES:Hersage
END:VEVENT
BEGIN:VEVENT
DTSTART;TZID=Europe/Paris:20250511T120000
DTEND;TZID=Europe/Paris:20250511T130000
DTSTAMP:20260420T005748
CREATED:20241124T082631Z
LAST-MODIFIED:20241124T082631Z
UID:7683-1746964800-1746968400@www.scvt.ch
SUMMARY:Hersage des installations
DESCRIPTION:
URL:https://www.scvt.ch/agenda/hersage-des-installations-29/2025-05-11/
CATEGORIES:Hersage
END:VEVENT
BEGIN:VEVENT
DTSTART;TZID=Europe/Paris:20250512T120000
DTEND;TZID=Europe/Paris:20250512T130000
DTSTAMP:20260420T005748
CREATED:20241124T082631Z
LAST-MODIFIED:20241124T082631Z
UID:7684-1747051200-1747054800@www.scvt.ch
SUMMARY:Hersage des installations
DESCRIPTION:
URL:https://www.scvt.ch/agenda/hersage-des-installations-29/2025-05-12/
CATEGORIES:Hersage
END:VEVENT
BEGIN:VEVENT
DTSTART;TZID=Europe/Paris:20250513T120000
DTEND;TZID=Europe/Paris:20250513T130000
DTSTAMP:20260420T005748
CREATED:20241124T082631Z
LAST-MODIFIED:20241124T082631Z
UID:7685-1747137600-1747141200@www.scvt.ch
SUMMARY:Hersage des installations
DESCRIPTION:
URL:https://www.scvt.ch/agenda/hersage-des-installations-29/2025-05-13/
CATEGORIES:Hersage
END:VEVENT
BEGIN:VEVENT
DTSTART;TZID=Europe/Paris:20250514T120000
DTEND;TZID=Europe/Paris:20250514T130000
DTSTAMP:20260420T005748
CREATED:20241124T082631Z
LAST-MODIFIED:20241124T082631Z
UID:7686-1747224000-1747227600@www.scvt.ch
SUMMARY:Hersage des installations
DESCRIPTION:
URL:https://www.scvt.ch/agenda/hersage-des-installations-29/2025-05-14/
CATEGORIES:Hersage
END:VEVENT
BEGIN:VEVENT
DTSTART;TZID=Europe/Paris:20250515T120000
DTEND;TZID=Europe/Paris:20250515T130000
DTSTAMP:20260420T005748
CREATED:20241124T082631Z
LAST-MODIFIED:20241124T082631Z
UID:7687-1747310400-1747314000@www.scvt.ch
SUMMARY:Hersage des installations
DESCRIPTION:
URL:https://www.scvt.ch/agenda/hersage-des-installations-29/2025-05-15/
CATEGORIES:Hersage
END:VEVENT
BEGIN:VEVENT
DTSTART;TZID=Europe/Paris:20250516T120000
DTEND;TZID=Europe/Paris:20250516T130000
DTSTAMP:20260420T005748
CREATED:20241124T082631Z
LAST-MODIFIED:20241124T082631Z
UID:7688-1747396800-1747400400@www.scvt.ch
SUMMARY:Hersage des installations
DESCRIPTION:
URL:https://www.scvt.ch/agenda/hersage-des-installations-29/2025-05-16/
CATEGORIES:Hersage
END:VEVENT
BEGIN:VEVENT
DTSTART;TZID=Europe/Paris:20250517T120000
DTEND;TZID=Europe/Paris:20250517T130000
DTSTAMP:20260420T005748
CREATED:20241124T082631Z
LAST-MODIFIED:20241124T082631Z
UID:7689-1747483200-1747486800@www.scvt.ch
SUMMARY:Hersage des installations
DESCRIPTION:
URL:https://www.scvt.ch/agenda/hersage-des-installations-29/2025-05-17/
CATEGORIES:Hersage
END:VEVENT
BEGIN:VEVENT
DTSTART;TZID=Europe/Paris:20250518T120000
DTEND;TZID=Europe/Paris:20250518T130000
DTSTAMP:20260420T005748
CREATED:20241124T082631Z
LAST-MODIFIED:20241124T082631Z
UID:7690-1747569600-1747573200@www.scvt.ch
SUMMARY:Hersage des installations
DESCRIPTION:
URL:https://www.scvt.ch/agenda/hersage-des-installations-29/2025-05-18/
CATEGORIES:Hersage
END:VEVENT
BEGIN:VEVENT
DTSTART;TZID=Europe/Paris:20250519T120000
DTEND;TZID=Europe/Paris:20250519T130000
DTSTAMP:20260420T005748
CREATED:20241124T082631Z
LAST-MODIFIED:20241124T082631Z
UID:7691-1747656000-1747659600@www.scvt.ch
SUMMARY:Hersage des installations
DESCRIPTION:
URL:https://www.scvt.ch/agenda/hersage-des-installations-29/2025-05-19/
CATEGORIES:Hersage
END:VEVENT
BEGIN:VEVENT
DTSTART;TZID=Europe/Paris:20250520T120000
DTEND;TZID=Europe/Paris:20250520T130000
DTSTAMP:20260420T005748
CREATED:20241124T082631Z
LAST-MODIFIED:20241124T082631Z
UID:7692-1747742400-1747746000@www.scvt.ch
SUMMARY:Hersage des installations
DESCRIPTION:
URL:https://www.scvt.ch/agenda/hersage-des-installations-29/2025-05-20/
CATEGORIES:Hersage
END:VEVENT
BEGIN:VEVENT
DTSTART;TZID=Europe/Paris:20250521T120000
DTEND;TZID=Europe/Paris:20250521T130000
DTSTAMP:20260420T005748
CREATED:20241124T082631Z
LAST-MODIFIED:20241124T082631Z
UID:7693-1747828800-1747832400@www.scvt.ch
SUMMARY:Hersage des installations
DESCRIPTION:
URL:https://www.scvt.ch/agenda/hersage-des-installations-29/2025-05-21/
CATEGORIES:Hersage
END:VEVENT
BEGIN:VEVENT
DTSTART;TZID=Europe/Paris:20250522T120000
DTEND;TZID=Europe/Paris:20250522T130000
DTSTAMP:20260420T005748
CREATED:20241124T082631Z
LAST-MODIFIED:20241124T082631Z
UID:7694-1747915200-1747918800@www.scvt.ch
SUMMARY:Hersage des installations
DESCRIPTION:
URL:https://www.scvt.ch/agenda/hersage-des-installations-29/2025-05-22/
CATEGORIES:Hersage
END:VEVENT
BEGIN:VEVENT
DTSTART;TZID=Europe/Paris:20250523T120000
DTEND;TZID=Europe/Paris:20250523T130000
DTSTAMP:20260420T005748
CREATED:20241124T082631Z
LAST-MODIFIED:20241124T082631Z
UID:7695-1748001600-1748005200@www.scvt.ch
SUMMARY:Hersage des installations
DESCRIPTION:
URL:https://www.scvt.ch/agenda/hersage-des-installations-29/2025-05-23/
CATEGORIES:Hersage
END:VEVENT
BEGIN:VEVENT
DTSTART;TZID=Europe/Paris:20250524T120000
DTEND;TZID=Europe/Paris:20250524T130000
DTSTAMP:20260420T005748
CREATED:20241124T082631Z
LAST-MODIFIED:20241124T082631Z
UID:7696-1748088000-1748091600@www.scvt.ch
SUMMARY:Hersage des installations
DESCRIPTION:
URL:https://www.scvt.ch/agenda/hersage-des-installations-29/2025-05-24/
CATEGORIES:Hersage
END:VEVENT
BEGIN:VEVENT
DTSTART;TZID=Europe/Paris:20250525T120000
DTEND;TZID=Europe/Paris:20250525T130000
DTSTAMP:20260420T005748
CREATED:20241124T082631Z
LAST-MODIFIED:20241124T082631Z
UID:7697-1748174400-1748178000@www.scvt.ch
SUMMARY:Hersage des installations
DESCRIPTION:
URL:https://www.scvt.ch/agenda/hersage-des-installations-29/2025-05-25/
CATEGORIES:Hersage
END:VEVENT
BEGIN:VEVENT
DTSTART;TZID=Europe/Paris:20250526T120000
DTEND;TZID=Europe/Paris:20250526T130000
DTSTAMP:20260420T005748
CREATED:20241124T082631Z
LAST-MODIFIED:20241124T082631Z
UID:7698-1748260800-1748264400@www.scvt.ch
SUMMARY:Hersage des installations
DESCRIPTION:
URL:https://www.scvt.ch/agenda/hersage-des-installations-29/2025-05-26/
CATEGORIES:Hersage
END:VEVENT
BEGIN:VEVENT
DTSTART;TZID=Europe/Paris:20250527T120000
DTEND;TZID=Europe/Paris:20250527T130000
DTSTAMP:20260420T005748
CREATED:20241124T082631Z
LAST-MODIFIED:20241124T082631Z
UID:7699-1748347200-1748350800@www.scvt.ch
SUMMARY:Hersage des installations
DESCRIPTION:
URL:https://www.scvt.ch/agenda/hersage-des-installations-29/2025-05-27/
CATEGORIES:Hersage
END:VEVENT
BEGIN:VEVENT
DTSTART;TZID=Europe/Paris:20250528T120000
DTEND;TZID=Europe/Paris:20250528T130000
DTSTAMP:20260420T005748
CREATED:20241124T082631Z
LAST-MODIFIED:20241124T082631Z
UID:7700-1748433600-1748437200@www.scvt.ch
SUMMARY:Hersage des installations
DESCRIPTION:
URL:https://www.scvt.ch/agenda/hersage-des-installations-29/2025-05-28/
CATEGORIES:Hersage
END:VEVENT
BEGIN:VEVENT
DTSTART;TZID=Europe/Paris:20250529T120000
DTEND;TZID=Europe/Paris:20250529T130000
DTSTAMP:20260420T005748
CREATED:20241124T082631Z
LAST-MODIFIED:20241124T082631Z
UID:7701-1748520000-1748523600@www.scvt.ch
SUMMARY:Hersage des installations
DESCRIPTION:
URL:https://www.scvt.ch/agenda/hersage-des-installations-29/2025-05-29/
CATEGORIES:Hersage
END:VEVENT
BEGIN:VEVENT
DTSTART;TZID=Europe/Paris:20250530T120000
DTEND;TZID=Europe/Paris:20250530T130000
DTSTAMP:20260420T005748
CREATED:20241124T082631Z
LAST-MODIFIED:20241124T082631Z
UID:7702-1748606400-1748610000@www.scvt.ch
SUMMARY:Hersage des installations
DESCRIPTION:
URL:https://www.scvt.ch/agenda/hersage-des-installations-29/2025-05-30/
CATEGORIES:Hersage
END:VEVENT
END:VCALENDAR