BEGIN:VCALENDAR
VERSION:2.0
PRODID:-//Société de cavalerie de Tavannes et environs - ECPv6.1.2.2//NONSGML v1.0//EN
CALSCALE:GREGORIAN
METHOD:PUBLISH
X-ORIGINAL-URL:https://www.scvt.ch
X-WR-CALDESC:évènements pour Société de cavalerie de Tavannes et environs
REFRESH-INTERVAL;VALUE=DURATION:PT1H
X-Robots-Tag:noindex
X-PUBLISHED-TTL:PT1H
BEGIN:VTIMEZONE
TZID:Europe/Paris
BEGIN:DAYLIGHT
TZOFFSETFROM:+0100
TZOFFSETTO:+0200
TZNAME:CEST
DTSTART:20250330T010000
END:DAYLIGHT
BEGIN:STANDARD
TZOFFSETFROM:+0200
TZOFFSETTO:+0100
TZNAME:CET
DTSTART:20251026T010000
END:STANDARD
END:VTIMEZONE
BEGIN:VEVENT
DTSTART;TZID=Europe/Paris:20250601T120000
DTEND;TZID=Europe/Paris:20250601T130000
DTSTAMP:20260419T163502
CREATED:20241124T082631Z
LAST-MODIFIED:20241124T082631Z
UID:7704-1748779200-1748782800@www.scvt.ch
SUMMARY:Hersage des installations
DESCRIPTION:
URL:https://www.scvt.ch/agenda/hersage-des-installations-29/2025-06-01/
CATEGORIES:Hersage
END:VEVENT
BEGIN:VEVENT
DTSTART;TZID=Europe/Paris:20250602T120000
DTEND;TZID=Europe/Paris:20250602T130000
DTSTAMP:20260419T163502
CREATED:20241124T082631Z
LAST-MODIFIED:20241124T082631Z
UID:7705-1748865600-1748869200@www.scvt.ch
SUMMARY:Hersage des installations
DESCRIPTION:
URL:https://www.scvt.ch/agenda/hersage-des-installations-29/2025-06-02/
CATEGORIES:Hersage
END:VEVENT
BEGIN:VEVENT
DTSTART;TZID=Europe/Paris:20250603T120000
DTEND;TZID=Europe/Paris:20250603T130000
DTSTAMP:20260419T163502
CREATED:20241124T082631Z
LAST-MODIFIED:20241124T082631Z
UID:7706-1748952000-1748955600@www.scvt.ch
SUMMARY:Hersage des installations
DESCRIPTION:
URL:https://www.scvt.ch/agenda/hersage-des-installations-29/2025-06-03/
CATEGORIES:Hersage
END:VEVENT
BEGIN:VEVENT
DTSTART;TZID=Europe/Paris:20250604T120000
DTEND;TZID=Europe/Paris:20250604T130000
DTSTAMP:20260419T163502
CREATED:20241124T082631Z
LAST-MODIFIED:20241124T082631Z
UID:7707-1749038400-1749042000@www.scvt.ch
SUMMARY:Hersage des installations
DESCRIPTION:
URL:https://www.scvt.ch/agenda/hersage-des-installations-29/2025-06-04/
CATEGORIES:Hersage
END:VEVENT
BEGIN:VEVENT
DTSTART;TZID=Europe/Paris:20250605T120000
DTEND;TZID=Europe/Paris:20250605T130000
DTSTAMP:20260419T163502
CREATED:20241124T082631Z
LAST-MODIFIED:20241124T082631Z
UID:7708-1749124800-1749128400@www.scvt.ch
SUMMARY:Hersage des installations
DESCRIPTION:
URL:https://www.scvt.ch/agenda/hersage-des-installations-29/2025-06-05/
CATEGORIES:Hersage
END:VEVENT
BEGIN:VEVENT
DTSTART;TZID=Europe/Paris:20250606T120000
DTEND;TZID=Europe/Paris:20250606T130000
DTSTAMP:20260419T163502
CREATED:20241124T082631Z
LAST-MODIFIED:20241124T082631Z
UID:7709-1749211200-1749214800@www.scvt.ch
SUMMARY:Hersage des installations
DESCRIPTION:
URL:https://www.scvt.ch/agenda/hersage-des-installations-29/2025-06-06/
CATEGORIES:Hersage
END:VEVENT
BEGIN:VEVENT
DTSTART;TZID=Europe/Paris:20250607T120000
DTEND;TZID=Europe/Paris:20250607T130000
DTSTAMP:20260419T163502
CREATED:20241124T082631Z
LAST-MODIFIED:20241124T082631Z
UID:7710-1749297600-1749301200@www.scvt.ch
SUMMARY:Hersage des installations
DESCRIPTION:
URL:https://www.scvt.ch/agenda/hersage-des-installations-29/2025-06-07/
CATEGORIES:Hersage
END:VEVENT
BEGIN:VEVENT
DTSTART;TZID=Europe/Paris:20250608T120000
DTEND;TZID=Europe/Paris:20250608T130000
DTSTAMP:20260419T163502
CREATED:20241124T082631Z
LAST-MODIFIED:20241124T082631Z
UID:7711-1749384000-1749387600@www.scvt.ch
SUMMARY:Hersage des installations
DESCRIPTION:
URL:https://www.scvt.ch/agenda/hersage-des-installations-29/2025-06-08/
CATEGORIES:Hersage
END:VEVENT
BEGIN:VEVENT
DTSTART;TZID=Europe/Paris:20250609T120000
DTEND;TZID=Europe/Paris:20250609T130000
DTSTAMP:20260419T163502
CREATED:20241124T082631Z
LAST-MODIFIED:20241124T082631Z
UID:7712-1749470400-1749474000@www.scvt.ch
SUMMARY:Hersage des installations
DESCRIPTION:
URL:https://www.scvt.ch/agenda/hersage-des-installations-29/2025-06-09/
CATEGORIES:Hersage
END:VEVENT
BEGIN:VEVENT
DTSTART;TZID=Europe/Paris:20250610T120000
DTEND;TZID=Europe/Paris:20250610T130000
DTSTAMP:20260419T163502
CREATED:20241124T082631Z
LAST-MODIFIED:20241124T082631Z
UID:7713-1749556800-1749560400@www.scvt.ch
SUMMARY:Hersage des installations
DESCRIPTION:
URL:https://www.scvt.ch/agenda/hersage-des-installations-29/2025-06-10/
CATEGORIES:Hersage
END:VEVENT
BEGIN:VEVENT
DTSTART;TZID=Europe/Paris:20250611T120000
DTEND;TZID=Europe/Paris:20250611T130000
DTSTAMP:20260419T163502
CREATED:20241124T082631Z
LAST-MODIFIED:20241124T082631Z
UID:7714-1749643200-1749646800@www.scvt.ch
SUMMARY:Hersage des installations
DESCRIPTION:
URL:https://www.scvt.ch/agenda/hersage-des-installations-29/2025-06-11/
CATEGORIES:Hersage
END:VEVENT
BEGIN:VEVENT
DTSTART;TZID=Europe/Paris:20250612T120000
DTEND;TZID=Europe/Paris:20250612T130000
DTSTAMP:20260419T163502
CREATED:20241124T082631Z
LAST-MODIFIED:20241124T082631Z
UID:7715-1749729600-1749733200@www.scvt.ch
SUMMARY:Hersage des installations
DESCRIPTION:
URL:https://www.scvt.ch/agenda/hersage-des-installations-29/2025-06-12/
CATEGORIES:Hersage
END:VEVENT
BEGIN:VEVENT
DTSTART;TZID=Europe/Paris:20250613T120000
DTEND;TZID=Europe/Paris:20250613T130000
DTSTAMP:20260419T163502
CREATED:20241124T082631Z
LAST-MODIFIED:20241124T082631Z
UID:7716-1749816000-1749819600@www.scvt.ch
SUMMARY:Hersage des installations
DESCRIPTION:
URL:https://www.scvt.ch/agenda/hersage-des-installations-29/2025-06-13/
CATEGORIES:Hersage
END:VEVENT
BEGIN:VEVENT
DTSTART;TZID=Europe/Paris:20250614T120000
DTEND;TZID=Europe/Paris:20250614T130000
DTSTAMP:20260419T163502
CREATED:20241124T082631Z
LAST-MODIFIED:20241124T082631Z
UID:7717-1749902400-1749906000@www.scvt.ch
SUMMARY:Hersage des installations
DESCRIPTION:
URL:https://www.scvt.ch/agenda/hersage-des-installations-29/2025-06-14/
CATEGORIES:Hersage
END:VEVENT
BEGIN:VEVENT
DTSTART;TZID=Europe/Paris:20250615T120000
DTEND;TZID=Europe/Paris:20250615T130000
DTSTAMP:20260419T163502
CREATED:20241124T082631Z
LAST-MODIFIED:20241124T082631Z
UID:7718-1749988800-1749992400@www.scvt.ch
SUMMARY:Hersage des installations
DESCRIPTION:
URL:https://www.scvt.ch/agenda/hersage-des-installations-29/2025-06-15/
CATEGORIES:Hersage
END:VEVENT
BEGIN:VEVENT
DTSTART;TZID=Europe/Paris:20250616T120000
DTEND;TZID=Europe/Paris:20250616T130000
DTSTAMP:20260419T163502
CREATED:20241124T082631Z
LAST-MODIFIED:20241124T082631Z
UID:7719-1750075200-1750078800@www.scvt.ch
SUMMARY:Hersage des installations
DESCRIPTION:
URL:https://www.scvt.ch/agenda/hersage-des-installations-29/2025-06-16/
CATEGORIES:Hersage
END:VEVENT
BEGIN:VEVENT
DTSTART;TZID=Europe/Paris:20250617T120000
DTEND;TZID=Europe/Paris:20250617T130000
DTSTAMP:20260419T163502
CREATED:20241124T082631Z
LAST-MODIFIED:20241124T082631Z
UID:7720-1750161600-1750165200@www.scvt.ch
SUMMARY:Hersage des installations
DESCRIPTION:
URL:https://www.scvt.ch/agenda/hersage-des-installations-29/2025-06-17/
CATEGORIES:Hersage
END:VEVENT
BEGIN:VEVENT
DTSTART;TZID=Europe/Paris:20250618T120000
DTEND;TZID=Europe/Paris:20250618T130000
DTSTAMP:20260419T163502
CREATED:20241124T082631Z
LAST-MODIFIED:20241124T082631Z
UID:7721-1750248000-1750251600@www.scvt.ch
SUMMARY:Hersage des installations
DESCRIPTION:
URL:https://www.scvt.ch/agenda/hersage-des-installations-29/2025-06-18/
CATEGORIES:Hersage
END:VEVENT
BEGIN:VEVENT
DTSTART;TZID=Europe/Paris:20250619T120000
DTEND;TZID=Europe/Paris:20250619T130000
DTSTAMP:20260419T163502
CREATED:20241124T082631Z
LAST-MODIFIED:20241124T082631Z
UID:7722-1750334400-1750338000@www.scvt.ch
SUMMARY:Hersage des installations
DESCRIPTION:
URL:https://www.scvt.ch/agenda/hersage-des-installations-29/2025-06-19/
CATEGORIES:Hersage
END:VEVENT
BEGIN:VEVENT
DTSTART;TZID=Europe/Paris:20250620T120000
DTEND;TZID=Europe/Paris:20250620T130000
DTSTAMP:20260419T163502
CREATED:20241124T082631Z
LAST-MODIFIED:20241124T082631Z
UID:7723-1750420800-1750424400@www.scvt.ch
SUMMARY:Hersage des installations
DESCRIPTION:
URL:https://www.scvt.ch/agenda/hersage-des-installations-29/2025-06-20/
CATEGORIES:Hersage
END:VEVENT
BEGIN:VEVENT
DTSTART;TZID=Europe/Paris:20250621T120000
DTEND;TZID=Europe/Paris:20250621T130000
DTSTAMP:20260419T163502
CREATED:20241124T082631Z
LAST-MODIFIED:20241124T082631Z
UID:7724-1750507200-1750510800@www.scvt.ch
SUMMARY:Hersage des installations
DESCRIPTION:
URL:https://www.scvt.ch/agenda/hersage-des-installations-29/2025-06-21/
CATEGORIES:Hersage
END:VEVENT
BEGIN:VEVENT
DTSTART;TZID=Europe/Paris:20250622T120000
DTEND;TZID=Europe/Paris:20250622T130000
DTSTAMP:20260419T163502
CREATED:20241124T082631Z
LAST-MODIFIED:20241124T082631Z
UID:7725-1750593600-1750597200@www.scvt.ch
SUMMARY:Hersage des installations
DESCRIPTION:
URL:https://www.scvt.ch/agenda/hersage-des-installations-29/2025-06-22/
CATEGORIES:Hersage
END:VEVENT
BEGIN:VEVENT
DTSTART;TZID=Europe/Paris:20250623T120000
DTEND;TZID=Europe/Paris:20250623T130000
DTSTAMP:20260419T163502
CREATED:20241124T082631Z
LAST-MODIFIED:20241124T082631Z
UID:7726-1750680000-1750683600@www.scvt.ch
SUMMARY:Hersage des installations
DESCRIPTION:
URL:https://www.scvt.ch/agenda/hersage-des-installations-29/2025-06-23/
CATEGORIES:Hersage
END:VEVENT
BEGIN:VEVENT
DTSTART;TZID=Europe/Paris:20250624T120000
DTEND;TZID=Europe/Paris:20250624T130000
DTSTAMP:20260419T163502
CREATED:20241124T082631Z
LAST-MODIFIED:20241124T082631Z
UID:7727-1750766400-1750770000@www.scvt.ch
SUMMARY:Hersage des installations
DESCRIPTION:
URL:https://www.scvt.ch/agenda/hersage-des-installations-29/2025-06-24/
CATEGORIES:Hersage
END:VEVENT
BEGIN:VEVENT
DTSTART;TZID=Europe/Paris:20250625T120000
DTEND;TZID=Europe/Paris:20250625T130000
DTSTAMP:20260419T163502
CREATED:20241124T082631Z
LAST-MODIFIED:20241124T082631Z
UID:7728-1750852800-1750856400@www.scvt.ch
SUMMARY:Hersage des installations
DESCRIPTION:
URL:https://www.scvt.ch/agenda/hersage-des-installations-29/2025-06-25/
CATEGORIES:Hersage
END:VEVENT
BEGIN:VEVENT
DTSTART;TZID=Europe/Paris:20250626T120000
DTEND;TZID=Europe/Paris:20250626T130000
DTSTAMP:20260419T163502
CREATED:20241124T082631Z
LAST-MODIFIED:20241124T082631Z
UID:7729-1750939200-1750942800@www.scvt.ch
SUMMARY:Hersage des installations
DESCRIPTION:
URL:https://www.scvt.ch/agenda/hersage-des-installations-29/2025-06-26/
CATEGORIES:Hersage
END:VEVENT
BEGIN:VEVENT
DTSTART;TZID=Europe/Paris:20250627T120000
DTEND;TZID=Europe/Paris:20250627T130000
DTSTAMP:20260419T163502
CREATED:20241124T082631Z
LAST-MODIFIED:20241124T082631Z
UID:7730-1751025600-1751029200@www.scvt.ch
SUMMARY:Hersage des installations
DESCRIPTION:
URL:https://www.scvt.ch/agenda/hersage-des-installations-29/2025-06-27/
CATEGORIES:Hersage
END:VEVENT
BEGIN:VEVENT
DTSTART;TZID=Europe/Paris:20250628T120000
DTEND;TZID=Europe/Paris:20250628T130000
DTSTAMP:20260419T163502
CREATED:20241124T082631Z
LAST-MODIFIED:20241124T082631Z
UID:7731-1751112000-1751115600@www.scvt.ch
SUMMARY:Hersage des installations
DESCRIPTION:
URL:https://www.scvt.ch/agenda/hersage-des-installations-29/2025-06-28/
CATEGORIES:Hersage
END:VEVENT
BEGIN:VEVENT
DTSTART;TZID=Europe/Paris:20250629T120000
DTEND;TZID=Europe/Paris:20250629T130000
DTSTAMP:20260419T163502
CREATED:20241124T082631Z
LAST-MODIFIED:20241124T082631Z
UID:7732-1751198400-1751202000@www.scvt.ch
SUMMARY:Hersage des installations
DESCRIPTION:
URL:https://www.scvt.ch/agenda/hersage-des-installations-29/2025-06-29/
CATEGORIES:Hersage
END:VEVENT
BEGIN:VEVENT
DTSTART;TZID=Europe/Paris:20250630T120000
DTEND;TZID=Europe/Paris:20250630T130000
DTSTAMP:20260419T163502
CREATED:20241124T082631Z
LAST-MODIFIED:20241124T082631Z
UID:7733-1751284800-1751288400@www.scvt.ch
SUMMARY:Hersage des installations
DESCRIPTION:
URL:https://www.scvt.ch/agenda/hersage-des-installations-29/2025-06-30/
CATEGORIES:Hersage
END:VEVENT
END:VCALENDAR