BEGIN:VCALENDAR
VERSION:2.0
PRODID:-//Société de cavalerie de Tavannes et environs - ECPv6.1.2.2//NONSGML v1.0//EN
CALSCALE:GREGORIAN
METHOD:PUBLISH
X-WR-CALNAME:Société de cavalerie de Tavannes et environs
X-ORIGINAL-URL:https://www.scvt.ch
X-WR-CALDESC:évènements pour Société de cavalerie de Tavannes et environs
REFRESH-INTERVAL;VALUE=DURATION:PT1H
X-Robots-Tag:noindex
X-PUBLISHED-TTL:PT1H
BEGIN:VTIMEZONE
TZID:Europe/Paris
BEGIN:DAYLIGHT
TZOFFSETFROM:+0100
TZOFFSETTO:+0200
TZNAME:CEST
DTSTART:20260329T010000
END:DAYLIGHT
BEGIN:STANDARD
TZOFFSETFROM:+0200
TZOFFSETTO:+0100
TZNAME:CET
DTSTART:20261025T010000
END:STANDARD
END:VTIMEZONE
BEGIN:VEVENT
DTSTART;TZID=Europe/Paris:20260101T120000
DTEND;TZID=Europe/Paris:20260101T130000
DTSTAMP:20260419T193929
CREATED:20241124T082631Z
LAST-MODIFIED:20241124T082631Z
UID:7918-1767268800-1767272400@www.scvt.ch
SUMMARY:Hersage des installations
DESCRIPTION:
URL:https://www.scvt.ch/agenda/hersage-des-installations-29/2026-01-01/
CATEGORIES:Hersage
END:VEVENT
BEGIN:VEVENT
DTSTART;TZID=Europe/Paris:20260101T120000
DTEND;TZID=Europe/Paris:20260101T130000
DTSTAMP:20260419T193929
CREATED:20251203T163748Z
LAST-MODIFIED:20251203T163903Z
UID:8492-1767268800-1767272400@www.scvt.ch
SUMMARY:Hersage des installations
DESCRIPTION:
URL:https://www.scvt.ch/agenda/hersage-des-installations-30/2026-01-01/
CATEGORIES:Hersage
END:VEVENT
BEGIN:VEVENT
DTSTART;TZID=Europe/Paris:20260102T120000
DTEND;TZID=Europe/Paris:20260102T130000
DTSTAMP:20260419T193929
CREATED:20251203T163748Z
LAST-MODIFIED:20251203T163748Z
UID:8504-1767355200-1767358800@www.scvt.ch
SUMMARY:Hersage des installations
DESCRIPTION:
URL:https://www.scvt.ch/agenda/hersage-des-installations-30/2026-01-02/
CATEGORIES:Hersage
END:VEVENT
BEGIN:VEVENT
DTSTART;TZID=Europe/Paris:20260103T120000
DTEND;TZID=Europe/Paris:20260103T130000
DTSTAMP:20260419T193929
CREATED:20251203T163748Z
LAST-MODIFIED:20251203T163748Z
UID:8505-1767441600-1767445200@www.scvt.ch
SUMMARY:Hersage des installations
DESCRIPTION:
URL:https://www.scvt.ch/agenda/hersage-des-installations-30/2026-01-03/
CATEGORIES:Hersage
END:VEVENT
BEGIN:VEVENT
DTSTART;TZID=Europe/Paris:20260104T120000
DTEND;TZID=Europe/Paris:20260104T130000
DTSTAMP:20260419T193929
CREATED:20251203T163748Z
LAST-MODIFIED:20251203T163748Z
UID:8506-1767528000-1767531600@www.scvt.ch
SUMMARY:Hersage des installations
DESCRIPTION:
URL:https://www.scvt.ch/agenda/hersage-des-installations-30/2026-01-04/
CATEGORIES:Hersage
END:VEVENT
BEGIN:VEVENT
DTSTART;TZID=Europe/Paris:20260105T120000
DTEND;TZID=Europe/Paris:20260105T130000
DTSTAMP:20260419T193929
CREATED:20251203T163748Z
LAST-MODIFIED:20251203T163748Z
UID:8507-1767614400-1767618000@www.scvt.ch
SUMMARY:Hersage des installations
DESCRIPTION:
URL:https://www.scvt.ch/agenda/hersage-des-installations-30/2026-01-05/
CATEGORIES:Hersage
END:VEVENT
BEGIN:VEVENT
DTSTART;TZID=Europe/Paris:20260106T120000
DTEND;TZID=Europe/Paris:20260106T130000
DTSTAMP:20260419T193929
CREATED:20251203T163748Z
LAST-MODIFIED:20251203T163748Z
UID:8508-1767700800-1767704400@www.scvt.ch
SUMMARY:Hersage des installations
DESCRIPTION:
URL:https://www.scvt.ch/agenda/hersage-des-installations-30/2026-01-06/
CATEGORIES:Hersage
END:VEVENT
BEGIN:VEVENT
DTSTART;TZID=Europe/Paris:20260107T120000
DTEND;TZID=Europe/Paris:20260107T130000
DTSTAMP:20260419T193929
CREATED:20251203T163748Z
LAST-MODIFIED:20251203T163748Z
UID:8509-1767787200-1767790800@www.scvt.ch
SUMMARY:Hersage des installations
DESCRIPTION:
URL:https://www.scvt.ch/agenda/hersage-des-installations-30/2026-01-07/
CATEGORIES:Hersage
END:VEVENT
BEGIN:VEVENT
DTSTART;TZID=Europe/Paris:20260108T120000
DTEND;TZID=Europe/Paris:20260108T130000
DTSTAMP:20260419T193929
CREATED:20251203T163748Z
LAST-MODIFIED:20251203T163748Z
UID:8510-1767873600-1767877200@www.scvt.ch
SUMMARY:Hersage des installations
DESCRIPTION:
URL:https://www.scvt.ch/agenda/hersage-des-installations-30/2026-01-08/
CATEGORIES:Hersage
END:VEVENT
BEGIN:VEVENT
DTSTART;TZID=Europe/Paris:20260109T120000
DTEND;TZID=Europe/Paris:20260109T130000
DTSTAMP:20260419T193929
CREATED:20251203T163748Z
LAST-MODIFIED:20251203T163748Z
UID:8511-1767960000-1767963600@www.scvt.ch
SUMMARY:Hersage des installations
DESCRIPTION:
URL:https://www.scvt.ch/agenda/hersage-des-installations-30/2026-01-09/
CATEGORIES:Hersage
END:VEVENT
BEGIN:VEVENT
DTSTART;TZID=Europe/Paris:20260110T120000
DTEND;TZID=Europe/Paris:20260110T130000
DTSTAMP:20260419T193929
CREATED:20251203T163748Z
LAST-MODIFIED:20251203T163748Z
UID:8512-1768046400-1768050000@www.scvt.ch
SUMMARY:Hersage des installations
DESCRIPTION:
URL:https://www.scvt.ch/agenda/hersage-des-installations-30/2026-01-10/
CATEGORIES:Hersage
END:VEVENT
BEGIN:VEVENT
DTSTART;TZID=Europe/Paris:20260111T120000
DTEND;TZID=Europe/Paris:20260111T130000
DTSTAMP:20260419T193929
CREATED:20251203T163748Z
LAST-MODIFIED:20251203T163748Z
UID:8513-1768132800-1768136400@www.scvt.ch
SUMMARY:Hersage des installations
DESCRIPTION:
URL:https://www.scvt.ch/agenda/hersage-des-installations-30/2026-01-11/
CATEGORIES:Hersage
END:VEVENT
BEGIN:VEVENT
DTSTART;TZID=Europe/Paris:20260112T120000
DTEND;TZID=Europe/Paris:20260112T130000
DTSTAMP:20260419T193929
CREATED:20251203T163748Z
LAST-MODIFIED:20251203T163748Z
UID:8514-1768219200-1768222800@www.scvt.ch
SUMMARY:Hersage des installations
DESCRIPTION:
URL:https://www.scvt.ch/agenda/hersage-des-installations-30/2026-01-12/
CATEGORIES:Hersage
END:VEVENT
BEGIN:VEVENT
DTSTART;TZID=Europe/Paris:20260113T120000
DTEND;TZID=Europe/Paris:20260113T130000
DTSTAMP:20260419T193929
CREATED:20251203T163748Z
LAST-MODIFIED:20251203T163748Z
UID:8515-1768305600-1768309200@www.scvt.ch
SUMMARY:Hersage des installations
DESCRIPTION:
URL:https://www.scvt.ch/agenda/hersage-des-installations-30/2026-01-13/
CATEGORIES:Hersage
END:VEVENT
BEGIN:VEVENT
DTSTART;TZID=Europe/Paris:20260114T120000
DTEND;TZID=Europe/Paris:20260114T130000
DTSTAMP:20260419T193929
CREATED:20251203T163748Z
LAST-MODIFIED:20251203T163748Z
UID:8516-1768392000-1768395600@www.scvt.ch
SUMMARY:Hersage des installations
DESCRIPTION:
URL:https://www.scvt.ch/agenda/hersage-des-installations-30/2026-01-14/
CATEGORIES:Hersage
END:VEVENT
BEGIN:VEVENT
DTSTART;TZID=Europe/Paris:20260115T120000
DTEND;TZID=Europe/Paris:20260115T130000
DTSTAMP:20260419T193929
CREATED:20251203T163748Z
LAST-MODIFIED:20251203T163748Z
UID:8517-1768478400-1768482000@www.scvt.ch
SUMMARY:Hersage des installations
DESCRIPTION:
URL:https://www.scvt.ch/agenda/hersage-des-installations-30/2026-01-15/
CATEGORIES:Hersage
END:VEVENT
BEGIN:VEVENT
DTSTART;TZID=Europe/Paris:20260116T120000
DTEND;TZID=Europe/Paris:20260116T130000
DTSTAMP:20260419T193929
CREATED:20251203T163748Z
LAST-MODIFIED:20251203T163748Z
UID:8518-1768564800-1768568400@www.scvt.ch
SUMMARY:Hersage des installations
DESCRIPTION:
URL:https://www.scvt.ch/agenda/hersage-des-installations-30/2026-01-16/
CATEGORIES:Hersage
END:VEVENT
BEGIN:VEVENT
DTSTART;TZID=Europe/Paris:20260117T120000
DTEND;TZID=Europe/Paris:20260117T130000
DTSTAMP:20260419T193929
CREATED:20251203T163748Z
LAST-MODIFIED:20251203T163748Z
UID:8519-1768651200-1768654800@www.scvt.ch
SUMMARY:Hersage des installations
DESCRIPTION:
URL:https://www.scvt.ch/agenda/hersage-des-installations-30/2026-01-17/
CATEGORIES:Hersage
END:VEVENT
BEGIN:VEVENT
DTSTART;TZID=Europe/Paris:20260118T120000
DTEND;TZID=Europe/Paris:20260118T130000
DTSTAMP:20260419T193929
CREATED:20251203T163748Z
LAST-MODIFIED:20251203T163748Z
UID:8520-1768737600-1768741200@www.scvt.ch
SUMMARY:Hersage des installations
DESCRIPTION:
URL:https://www.scvt.ch/agenda/hersage-des-installations-30/2026-01-18/
CATEGORIES:Hersage
END:VEVENT
BEGIN:VEVENT
DTSTART;TZID=Europe/Paris:20260119T120000
DTEND;TZID=Europe/Paris:20260119T130000
DTSTAMP:20260419T193929
CREATED:20251203T163748Z
LAST-MODIFIED:20251203T163748Z
UID:8521-1768824000-1768827600@www.scvt.ch
SUMMARY:Hersage des installations
DESCRIPTION:
URL:https://www.scvt.ch/agenda/hersage-des-installations-30/2026-01-19/
CATEGORIES:Hersage
END:VEVENT
BEGIN:VEVENT
DTSTART;TZID=Europe/Paris:20260120T120000
DTEND;TZID=Europe/Paris:20260120T130000
DTSTAMP:20260419T193929
CREATED:20251203T163748Z
LAST-MODIFIED:20251203T163748Z
UID:8522-1768910400-1768914000@www.scvt.ch
SUMMARY:Hersage des installations
DESCRIPTION:
URL:https://www.scvt.ch/agenda/hersage-des-installations-30/2026-01-20/
CATEGORIES:Hersage
END:VEVENT
BEGIN:VEVENT
DTSTART;TZID=Europe/Paris:20260121T120000
DTEND;TZID=Europe/Paris:20260121T130000
DTSTAMP:20260419T193929
CREATED:20251203T163748Z
LAST-MODIFIED:20251203T163748Z
UID:8523-1768996800-1769000400@www.scvt.ch
SUMMARY:Hersage des installations
DESCRIPTION:
URL:https://www.scvt.ch/agenda/hersage-des-installations-30/2026-01-21/
CATEGORIES:Hersage
END:VEVENT
BEGIN:VEVENT
DTSTART;TZID=Europe/Paris:20260122T120000
DTEND;TZID=Europe/Paris:20260122T130000
DTSTAMP:20260419T193929
CREATED:20251203T163748Z
LAST-MODIFIED:20251203T163748Z
UID:8524-1769083200-1769086800@www.scvt.ch
SUMMARY:Hersage des installations
DESCRIPTION:
URL:https://www.scvt.ch/agenda/hersage-des-installations-30/2026-01-22/
CATEGORIES:Hersage
END:VEVENT
BEGIN:VEVENT
DTSTART;TZID=Europe/Paris:20260123T120000
DTEND;TZID=Europe/Paris:20260123T130000
DTSTAMP:20260419T193929
CREATED:20251203T163748Z
LAST-MODIFIED:20251203T163748Z
UID:8525-1769169600-1769173200@www.scvt.ch
SUMMARY:Hersage des installations
DESCRIPTION:
URL:https://www.scvt.ch/agenda/hersage-des-installations-30/2026-01-23/
CATEGORIES:Hersage
END:VEVENT
BEGIN:VEVENT
DTSTART;TZID=Europe/Paris:20260124T120000
DTEND;TZID=Europe/Paris:20260124T130000
DTSTAMP:20260419T193929
CREATED:20251203T163748Z
LAST-MODIFIED:20251203T163748Z
UID:8526-1769256000-1769259600@www.scvt.ch
SUMMARY:Hersage des installations
DESCRIPTION:
URL:https://www.scvt.ch/agenda/hersage-des-installations-30/2026-01-24/
CATEGORIES:Hersage
END:VEVENT
BEGIN:VEVENT
DTSTART;TZID=Europe/Paris:20260125T120000
DTEND;TZID=Europe/Paris:20260125T130000
DTSTAMP:20260419T193929
CREATED:20251203T163748Z
LAST-MODIFIED:20251203T163748Z
UID:8527-1769342400-1769346000@www.scvt.ch
SUMMARY:Hersage des installations
DESCRIPTION:
URL:https://www.scvt.ch/agenda/hersage-des-installations-30/2026-01-25/
CATEGORIES:Hersage
END:VEVENT
BEGIN:VEVENT
DTSTART;TZID=Europe/Paris:20260126T120000
DTEND;TZID=Europe/Paris:20260126T130000
DTSTAMP:20260419T193929
CREATED:20251203T163748Z
LAST-MODIFIED:20251203T163748Z
UID:8528-1769428800-1769432400@www.scvt.ch
SUMMARY:Hersage des installations
DESCRIPTION:
URL:https://www.scvt.ch/agenda/hersage-des-installations-30/2026-01-26/
CATEGORIES:Hersage
END:VEVENT
BEGIN:VEVENT
DTSTART;TZID=Europe/Paris:20260127T120000
DTEND;TZID=Europe/Paris:20260127T130000
DTSTAMP:20260419T193929
CREATED:20251203T163748Z
LAST-MODIFIED:20251203T163748Z
UID:8529-1769515200-1769518800@www.scvt.ch
SUMMARY:Hersage des installations
DESCRIPTION:
URL:https://www.scvt.ch/agenda/hersage-des-installations-30/2026-01-27/
CATEGORIES:Hersage
END:VEVENT
BEGIN:VEVENT
DTSTART;TZID=Europe/Paris:20260128T120000
DTEND;TZID=Europe/Paris:20260128T130000
DTSTAMP:20260419T193929
CREATED:20251203T163748Z
LAST-MODIFIED:20251203T163748Z
UID:8530-1769601600-1769605200@www.scvt.ch
SUMMARY:Hersage des installations
DESCRIPTION:
URL:https://www.scvt.ch/agenda/hersage-des-installations-30/2026-01-28/
CATEGORIES:Hersage
END:VEVENT
BEGIN:VEVENT
DTSTART;TZID=Europe/Paris:20260129T120000
DTEND;TZID=Europe/Paris:20260129T130000
DTSTAMP:20260419T193929
CREATED:20251203T163748Z
LAST-MODIFIED:20251203T163748Z
UID:8531-1769688000-1769691600@www.scvt.ch
SUMMARY:Hersage des installations
DESCRIPTION:
URL:https://www.scvt.ch/agenda/hersage-des-installations-30/2026-01-29/
CATEGORIES:Hersage
END:VEVENT
END:VCALENDAR