BEGIN:VCALENDAR
VERSION:2.0
PRODID:-//Société de cavalerie de Tavannes et environs - ECPv6.1.2.2//NONSGML v1.0//EN
CALSCALE:GREGORIAN
METHOD:PUBLISH
X-WR-CALNAME:Société de cavalerie de Tavannes et environs
X-ORIGINAL-URL:https://www.scvt.ch
X-WR-CALDESC:évènements pour Société de cavalerie de Tavannes et environs
REFRESH-INTERVAL;VALUE=DURATION:PT1H
X-Robots-Tag:noindex
X-PUBLISHED-TTL:PT1H
BEGIN:VTIMEZONE
TZID:Europe/Paris
BEGIN:DAYLIGHT
TZOFFSETFROM:+0100
TZOFFSETTO:+0200
TZNAME:CEST
DTSTART:20260329T010000
END:DAYLIGHT
BEGIN:STANDARD
TZOFFSETFROM:+0200
TZOFFSETTO:+0100
TZNAME:CET
DTSTART:20261025T010000
END:STANDARD
END:VTIMEZONE
BEGIN:VEVENT
DTSTART;TZID=Europe/Paris:20260301T120000
DTEND;TZID=Europe/Paris:20260301T130000
DTSTAMP:20260419T210743
CREATED:20251203T163748Z
LAST-MODIFIED:20251203T163748Z
UID:8562-1772366400-1772370000@www.scvt.ch
SUMMARY:Hersage des installations
DESCRIPTION:
URL:https://www.scvt.ch/agenda/hersage-des-installations-30/2026-03-01/
CATEGORIES:Hersage
END:VEVENT
BEGIN:VEVENT
DTSTART;TZID=Europe/Paris:20260302T120000
DTEND;TZID=Europe/Paris:20260302T130000
DTSTAMP:20260419T210743
CREATED:20251203T163748Z
LAST-MODIFIED:20251203T163748Z
UID:8563-1772452800-1772456400@www.scvt.ch
SUMMARY:Hersage des installations
DESCRIPTION:
URL:https://www.scvt.ch/agenda/hersage-des-installations-30/2026-03-02/
CATEGORIES:Hersage
END:VEVENT
BEGIN:VEVENT
DTSTART;TZID=Europe/Paris:20260303T120000
DTEND;TZID=Europe/Paris:20260303T130000
DTSTAMP:20260419T210743
CREATED:20251203T163748Z
LAST-MODIFIED:20251203T163748Z
UID:8564-1772539200-1772542800@www.scvt.ch
SUMMARY:Hersage des installations
DESCRIPTION:
URL:https://www.scvt.ch/agenda/hersage-des-installations-30/2026-03-03/
CATEGORIES:Hersage
END:VEVENT
BEGIN:VEVENT
DTSTART;TZID=Europe/Paris:20260304T120000
DTEND;TZID=Europe/Paris:20260304T130000
DTSTAMP:20260419T210743
CREATED:20251203T163748Z
LAST-MODIFIED:20251203T163748Z
UID:8565-1772625600-1772629200@www.scvt.ch
SUMMARY:Hersage des installations
DESCRIPTION:
URL:https://www.scvt.ch/agenda/hersage-des-installations-30/2026-03-04/
CATEGORIES:Hersage
END:VEVENT
BEGIN:VEVENT
DTSTART;TZID=Europe/Paris:20260305T120000
DTEND;TZID=Europe/Paris:20260305T130000
DTSTAMP:20260419T210743
CREATED:20251203T163748Z
LAST-MODIFIED:20251203T163748Z
UID:8566-1772712000-1772715600@www.scvt.ch
SUMMARY:Hersage des installations
DESCRIPTION:
URL:https://www.scvt.ch/agenda/hersage-des-installations-30/2026-03-05/
CATEGORIES:Hersage
END:VEVENT
BEGIN:VEVENT
DTSTART;TZID=Europe/Paris:20260306T120000
DTEND;TZID=Europe/Paris:20260306T130000
DTSTAMP:20260419T210743
CREATED:20251203T163748Z
LAST-MODIFIED:20251203T163748Z
UID:8567-1772798400-1772802000@www.scvt.ch
SUMMARY:Hersage des installations
DESCRIPTION:
URL:https://www.scvt.ch/agenda/hersage-des-installations-30/2026-03-06/
CATEGORIES:Hersage
END:VEVENT
BEGIN:VEVENT
DTSTART;TZID=Europe/Paris:20260307T120000
DTEND;TZID=Europe/Paris:20260307T130000
DTSTAMP:20260419T210743
CREATED:20251203T163748Z
LAST-MODIFIED:20251203T163748Z
UID:8568-1772884800-1772888400@www.scvt.ch
SUMMARY:Hersage des installations
DESCRIPTION:
URL:https://www.scvt.ch/agenda/hersage-des-installations-30/2026-03-07/
CATEGORIES:Hersage
END:VEVENT
BEGIN:VEVENT
DTSTART;TZID=Europe/Paris:20260308T120000
DTEND;TZID=Europe/Paris:20260308T130000
DTSTAMP:20260419T210743
CREATED:20251203T163748Z
LAST-MODIFIED:20251203T163748Z
UID:8569-1772971200-1772974800@www.scvt.ch
SUMMARY:Hersage des installations
DESCRIPTION:
URL:https://www.scvt.ch/agenda/hersage-des-installations-30/2026-03-08/
CATEGORIES:Hersage
END:VEVENT
BEGIN:VEVENT
DTSTART;TZID=Europe/Paris:20260309T120000
DTEND;TZID=Europe/Paris:20260309T130000
DTSTAMP:20260419T210743
CREATED:20251203T163748Z
LAST-MODIFIED:20251203T163748Z
UID:8570-1773057600-1773061200@www.scvt.ch
SUMMARY:Hersage des installations
DESCRIPTION:
URL:https://www.scvt.ch/agenda/hersage-des-installations-30/2026-03-09/
CATEGORIES:Hersage
END:VEVENT
BEGIN:VEVENT
DTSTART;TZID=Europe/Paris:20260310T120000
DTEND;TZID=Europe/Paris:20260310T130000
DTSTAMP:20260419T210743
CREATED:20251203T163748Z
LAST-MODIFIED:20251203T163748Z
UID:8571-1773144000-1773147600@www.scvt.ch
SUMMARY:Hersage des installations
DESCRIPTION:
URL:https://www.scvt.ch/agenda/hersage-des-installations-30/2026-03-10/
CATEGORIES:Hersage
END:VEVENT
BEGIN:VEVENT
DTSTART;TZID=Europe/Paris:20260311T120000
DTEND;TZID=Europe/Paris:20260311T130000
DTSTAMP:20260419T210743
CREATED:20251203T163748Z
LAST-MODIFIED:20251203T163748Z
UID:8572-1773230400-1773234000@www.scvt.ch
SUMMARY:Hersage des installations
DESCRIPTION:
URL:https://www.scvt.ch/agenda/hersage-des-installations-30/2026-03-11/
CATEGORIES:Hersage
END:VEVENT
BEGIN:VEVENT
DTSTART;TZID=Europe/Paris:20260312T120000
DTEND;TZID=Europe/Paris:20260312T130000
DTSTAMP:20260419T210743
CREATED:20251203T163748Z
LAST-MODIFIED:20251203T163748Z
UID:8573-1773316800-1773320400@www.scvt.ch
SUMMARY:Hersage des installations
DESCRIPTION:
URL:https://www.scvt.ch/agenda/hersage-des-installations-30/2026-03-12/
CATEGORIES:Hersage
END:VEVENT
BEGIN:VEVENT
DTSTART;TZID=Europe/Paris:20260313T120000
DTEND;TZID=Europe/Paris:20260313T130000
DTSTAMP:20260419T210743
CREATED:20251203T163748Z
LAST-MODIFIED:20251203T163748Z
UID:8574-1773403200-1773406800@www.scvt.ch
SUMMARY:Hersage des installations
DESCRIPTION:
URL:https://www.scvt.ch/agenda/hersage-des-installations-30/2026-03-13/
CATEGORIES:Hersage
END:VEVENT
BEGIN:VEVENT
DTSTART;TZID=Europe/Paris:20260314T120000
DTEND;TZID=Europe/Paris:20260314T130000
DTSTAMP:20260419T210743
CREATED:20251203T163748Z
LAST-MODIFIED:20251203T163748Z
UID:8575-1773489600-1773493200@www.scvt.ch
SUMMARY:Hersage des installations
DESCRIPTION:
URL:https://www.scvt.ch/agenda/hersage-des-installations-30/2026-03-14/
CATEGORIES:Hersage
END:VEVENT
BEGIN:VEVENT
DTSTART;TZID=Europe/Paris:20260315T120000
DTEND;TZID=Europe/Paris:20260315T130000
DTSTAMP:20260419T210743
CREATED:20251203T163748Z
LAST-MODIFIED:20251203T163748Z
UID:8576-1773576000-1773579600@www.scvt.ch
SUMMARY:Hersage des installations
DESCRIPTION:
URL:https://www.scvt.ch/agenda/hersage-des-installations-30/2026-03-15/
CATEGORIES:Hersage
END:VEVENT
BEGIN:VEVENT
DTSTART;TZID=Europe/Paris:20260316T120000
DTEND;TZID=Europe/Paris:20260316T130000
DTSTAMP:20260419T210743
CREATED:20251203T163748Z
LAST-MODIFIED:20251203T163748Z
UID:8577-1773662400-1773666000@www.scvt.ch
SUMMARY:Hersage des installations
DESCRIPTION:
URL:https://www.scvt.ch/agenda/hersage-des-installations-30/2026-03-16/
CATEGORIES:Hersage
END:VEVENT
BEGIN:VEVENT
DTSTART;TZID=Europe/Paris:20260317T120000
DTEND;TZID=Europe/Paris:20260317T130000
DTSTAMP:20260419T210743
CREATED:20251203T163748Z
LAST-MODIFIED:20251203T163748Z
UID:8578-1773748800-1773752400@www.scvt.ch
SUMMARY:Hersage des installations
DESCRIPTION:
URL:https://www.scvt.ch/agenda/hersage-des-installations-30/2026-03-17/
CATEGORIES:Hersage
END:VEVENT
BEGIN:VEVENT
DTSTART;TZID=Europe/Paris:20260318T120000
DTEND;TZID=Europe/Paris:20260318T130000
DTSTAMP:20260419T210743
CREATED:20251203T163748Z
LAST-MODIFIED:20251203T163748Z
UID:8579-1773835200-1773838800@www.scvt.ch
SUMMARY:Hersage des installations
DESCRIPTION:
URL:https://www.scvt.ch/agenda/hersage-des-installations-30/2026-03-18/
CATEGORIES:Hersage
END:VEVENT
BEGIN:VEVENT
DTSTART;TZID=Europe/Paris:20260319T120000
DTEND;TZID=Europe/Paris:20260319T130000
DTSTAMP:20260419T210743
CREATED:20251203T163748Z
LAST-MODIFIED:20251203T163748Z
UID:8580-1773921600-1773925200@www.scvt.ch
SUMMARY:Hersage des installations
DESCRIPTION:
URL:https://www.scvt.ch/agenda/hersage-des-installations-30/2026-03-19/
CATEGORIES:Hersage
END:VEVENT
BEGIN:VEVENT
DTSTART;TZID=Europe/Paris:20260320T120000
DTEND;TZID=Europe/Paris:20260320T130000
DTSTAMP:20260419T210743
CREATED:20251203T163748Z
LAST-MODIFIED:20251203T163748Z
UID:8581-1774008000-1774011600@www.scvt.ch
SUMMARY:Hersage des installations
DESCRIPTION:
URL:https://www.scvt.ch/agenda/hersage-des-installations-30/2026-03-20/
CATEGORIES:Hersage
END:VEVENT
BEGIN:VEVENT
DTSTART;TZID=Europe/Paris:20260321T120000
DTEND;TZID=Europe/Paris:20260321T130000
DTSTAMP:20260419T210743
CREATED:20251203T163748Z
LAST-MODIFIED:20251203T163748Z
UID:8582-1774094400-1774098000@www.scvt.ch
SUMMARY:Hersage des installations
DESCRIPTION:
URL:https://www.scvt.ch/agenda/hersage-des-installations-30/2026-03-21/
CATEGORIES:Hersage
END:VEVENT
BEGIN:VEVENT
DTSTART;TZID=Europe/Paris:20260322T120000
DTEND;TZID=Europe/Paris:20260322T130000
DTSTAMP:20260419T210743
CREATED:20251203T163748Z
LAST-MODIFIED:20251203T163748Z
UID:8583-1774180800-1774184400@www.scvt.ch
SUMMARY:Hersage des installations
DESCRIPTION:
URL:https://www.scvt.ch/agenda/hersage-des-installations-30/2026-03-22/
CATEGORIES:Hersage
END:VEVENT
BEGIN:VEVENT
DTSTART;TZID=Europe/Paris:20260323T120000
DTEND;TZID=Europe/Paris:20260323T130000
DTSTAMP:20260419T210743
CREATED:20251203T163748Z
LAST-MODIFIED:20251203T163748Z
UID:8584-1774267200-1774270800@www.scvt.ch
SUMMARY:Hersage des installations
DESCRIPTION:
URL:https://www.scvt.ch/agenda/hersage-des-installations-30/2026-03-23/
CATEGORIES:Hersage
END:VEVENT
BEGIN:VEVENT
DTSTART;TZID=Europe/Paris:20260324T120000
DTEND;TZID=Europe/Paris:20260324T130000
DTSTAMP:20260419T210743
CREATED:20251203T163748Z
LAST-MODIFIED:20251203T163748Z
UID:8585-1774353600-1774357200@www.scvt.ch
SUMMARY:Hersage des installations
DESCRIPTION:
URL:https://www.scvt.ch/agenda/hersage-des-installations-30/2026-03-24/
CATEGORIES:Hersage
END:VEVENT
BEGIN:VEVENT
DTSTART;TZID=Europe/Paris:20260325T120000
DTEND;TZID=Europe/Paris:20260325T130000
DTSTAMP:20260419T210743
CREATED:20251203T163748Z
LAST-MODIFIED:20251203T163748Z
UID:8586-1774440000-1774443600@www.scvt.ch
SUMMARY:Hersage des installations
DESCRIPTION:
URL:https://www.scvt.ch/agenda/hersage-des-installations-30/2026-03-25/
CATEGORIES:Hersage
END:VEVENT
BEGIN:VEVENT
DTSTART;TZID=Europe/Paris:20260326T120000
DTEND;TZID=Europe/Paris:20260326T130000
DTSTAMP:20260419T210743
CREATED:20251203T163748Z
LAST-MODIFIED:20251203T163748Z
UID:8587-1774526400-1774530000@www.scvt.ch
SUMMARY:Hersage des installations
DESCRIPTION:
URL:https://www.scvt.ch/agenda/hersage-des-installations-30/2026-03-26/
CATEGORIES:Hersage
END:VEVENT
BEGIN:VEVENT
DTSTART;TZID=Europe/Paris:20260327T120000
DTEND;TZID=Europe/Paris:20260327T130000
DTSTAMP:20260419T210743
CREATED:20251203T163748Z
LAST-MODIFIED:20251203T163748Z
UID:8588-1774612800-1774616400@www.scvt.ch
SUMMARY:Hersage des installations
DESCRIPTION:
URL:https://www.scvt.ch/agenda/hersage-des-installations-30/2026-03-27/
CATEGORIES:Hersage
END:VEVENT
BEGIN:VEVENT
DTSTART;TZID=Europe/Paris:20260328T120000
DTEND;TZID=Europe/Paris:20260328T130000
DTSTAMP:20260419T210743
CREATED:20251203T163748Z
LAST-MODIFIED:20251203T163748Z
UID:8589-1774699200-1774702800@www.scvt.ch
SUMMARY:Hersage des installations
DESCRIPTION:
URL:https://www.scvt.ch/agenda/hersage-des-installations-30/2026-03-28/
CATEGORIES:Hersage
END:VEVENT
BEGIN:VEVENT
DTSTART;TZID=Europe/Paris:20260329T120000
DTEND;TZID=Europe/Paris:20260329T130000
DTSTAMP:20260419T210743
CREATED:20251203T163748Z
LAST-MODIFIED:20251203T163748Z
UID:8590-1774785600-1774789200@www.scvt.ch
SUMMARY:Hersage des installations
DESCRIPTION:
URL:https://www.scvt.ch/agenda/hersage-des-installations-30/2026-03-29/
CATEGORIES:Hersage
END:VEVENT
BEGIN:VEVENT
DTSTART;TZID=Europe/Paris:20260330T120000
DTEND;TZID=Europe/Paris:20260330T130000
DTSTAMP:20260419T210743
CREATED:20251203T163748Z
LAST-MODIFIED:20251203T163748Z
UID:8591-1774872000-1774875600@www.scvt.ch
SUMMARY:Hersage des installations
DESCRIPTION:
URL:https://www.scvt.ch/agenda/hersage-des-installations-30/2026-03-30/
CATEGORIES:Hersage
END:VEVENT
END:VCALENDAR