BEGIN:VCALENDAR
VERSION:2.0
PRODID:-//Société de cavalerie de Tavannes et environs - ECPv6.1.2.2//NONSGML v1.0//EN
CALSCALE:GREGORIAN
METHOD:PUBLISH
X-WR-CALNAME:Société de cavalerie de Tavannes et environs
X-ORIGINAL-URL:https://www.scvt.ch
X-WR-CALDESC:évènements pour Société de cavalerie de Tavannes et environs
REFRESH-INTERVAL;VALUE=DURATION:PT1H
X-Robots-Tag:noindex
X-PUBLISHED-TTL:PT1H
BEGIN:VTIMEZONE
TZID:Europe/Paris
BEGIN:DAYLIGHT
TZOFFSETFROM:+0100
TZOFFSETTO:+0200
TZNAME:CEST
DTSTART:20260329T010000
END:DAYLIGHT
BEGIN:STANDARD
TZOFFSETFROM:+0200
TZOFFSETTO:+0100
TZNAME:CET
DTSTART:20261025T010000
END:STANDARD
END:VTIMEZONE
BEGIN:VEVENT
DTSTART;TZID=Europe/Paris:20260501T120000
DTEND;TZID=Europe/Paris:20260501T130000
DTSTAMP:20260420T004952
CREATED:20251203T163748Z
LAST-MODIFIED:20251203T163748Z
UID:8623-1777636800-1777640400@www.scvt.ch
SUMMARY:Hersage des installations
DESCRIPTION:
URL:https://www.scvt.ch/agenda/hersage-des-installations-30/2026-05-01/
CATEGORIES:Hersage
END:VEVENT
BEGIN:VEVENT
DTSTART;TZID=Europe/Paris:20260502T120000
DTEND;TZID=Europe/Paris:20260502T130000
DTSTAMP:20260420T004952
CREATED:20251203T163748Z
LAST-MODIFIED:20251203T163748Z
UID:8624-1777723200-1777726800@www.scvt.ch
SUMMARY:Hersage des installations
DESCRIPTION:
URL:https://www.scvt.ch/agenda/hersage-des-installations-30/2026-05-02/
CATEGORIES:Hersage
END:VEVENT
BEGIN:VEVENT
DTSTART;TZID=Europe/Paris:20260503T120000
DTEND;TZID=Europe/Paris:20260503T130000
DTSTAMP:20260420T004952
CREATED:20251203T163748Z
LAST-MODIFIED:20251203T163748Z
UID:8625-1777809600-1777813200@www.scvt.ch
SUMMARY:Hersage des installations
DESCRIPTION:
URL:https://www.scvt.ch/agenda/hersage-des-installations-30/2026-05-03/
CATEGORIES:Hersage
END:VEVENT
BEGIN:VEVENT
DTSTART;TZID=Europe/Paris:20260504T120000
DTEND;TZID=Europe/Paris:20260504T130000
DTSTAMP:20260420T004952
CREATED:20251203T163748Z
LAST-MODIFIED:20251203T163748Z
UID:8626-1777896000-1777899600@www.scvt.ch
SUMMARY:Hersage des installations
DESCRIPTION:
URL:https://www.scvt.ch/agenda/hersage-des-installations-30/2026-05-04/
CATEGORIES:Hersage
END:VEVENT
BEGIN:VEVENT
DTSTART;TZID=Europe/Paris:20260505T120000
DTEND;TZID=Europe/Paris:20260505T130000
DTSTAMP:20260420T004952
CREATED:20251203T163748Z
LAST-MODIFIED:20251203T163748Z
UID:8627-1777982400-1777986000@www.scvt.ch
SUMMARY:Hersage des installations
DESCRIPTION:
URL:https://www.scvt.ch/agenda/hersage-des-installations-30/2026-05-05/
CATEGORIES:Hersage
END:VEVENT
BEGIN:VEVENT
DTSTART;TZID=Europe/Paris:20260506T120000
DTEND;TZID=Europe/Paris:20260506T130000
DTSTAMP:20260420T004952
CREATED:20251203T163748Z
LAST-MODIFIED:20251203T163748Z
UID:8628-1778068800-1778072400@www.scvt.ch
SUMMARY:Hersage des installations
DESCRIPTION:
URL:https://www.scvt.ch/agenda/hersage-des-installations-30/2026-05-06/
CATEGORIES:Hersage
END:VEVENT
BEGIN:VEVENT
DTSTART;TZID=Europe/Paris:20260507T120000
DTEND;TZID=Europe/Paris:20260507T130000
DTSTAMP:20260420T004952
CREATED:20251203T163748Z
LAST-MODIFIED:20251203T163748Z
UID:8629-1778155200-1778158800@www.scvt.ch
SUMMARY:Hersage des installations
DESCRIPTION:
URL:https://www.scvt.ch/agenda/hersage-des-installations-30/2026-05-07/
CATEGORIES:Hersage
END:VEVENT
BEGIN:VEVENT
DTSTART;TZID=Europe/Paris:20260508T120000
DTEND;TZID=Europe/Paris:20260508T130000
DTSTAMP:20260420T004952
CREATED:20251203T163748Z
LAST-MODIFIED:20251203T163748Z
UID:8630-1778241600-1778245200@www.scvt.ch
SUMMARY:Hersage des installations
DESCRIPTION:
URL:https://www.scvt.ch/agenda/hersage-des-installations-30/2026-05-08/
CATEGORIES:Hersage
END:VEVENT
BEGIN:VEVENT
DTSTART;TZID=Europe/Paris:20260509T120000
DTEND;TZID=Europe/Paris:20260509T130000
DTSTAMP:20260420T004952
CREATED:20251203T163748Z
LAST-MODIFIED:20251203T163748Z
UID:8631-1778328000-1778331600@www.scvt.ch
SUMMARY:Hersage des installations
DESCRIPTION:
URL:https://www.scvt.ch/agenda/hersage-des-installations-30/2026-05-09/
CATEGORIES:Hersage
END:VEVENT
BEGIN:VEVENT
DTSTART;TZID=Europe/Paris:20260510T120000
DTEND;TZID=Europe/Paris:20260510T130000
DTSTAMP:20260420T004952
CREATED:20251203T163748Z
LAST-MODIFIED:20251203T163748Z
UID:8632-1778414400-1778418000@www.scvt.ch
SUMMARY:Hersage des installations
DESCRIPTION:
URL:https://www.scvt.ch/agenda/hersage-des-installations-30/2026-05-10/
CATEGORIES:Hersage
END:VEVENT
BEGIN:VEVENT
DTSTART;TZID=Europe/Paris:20260511T120000
DTEND;TZID=Europe/Paris:20260511T130000
DTSTAMP:20260420T004952
CREATED:20251203T163748Z
LAST-MODIFIED:20251203T163748Z
UID:8633-1778500800-1778504400@www.scvt.ch
SUMMARY:Hersage des installations
DESCRIPTION:
URL:https://www.scvt.ch/agenda/hersage-des-installations-30/2026-05-11/
CATEGORIES:Hersage
END:VEVENT
BEGIN:VEVENT
DTSTART;TZID=Europe/Paris:20260512T120000
DTEND;TZID=Europe/Paris:20260512T130000
DTSTAMP:20260420T004952
CREATED:20251203T163748Z
LAST-MODIFIED:20251203T163748Z
UID:8634-1778587200-1778590800@www.scvt.ch
SUMMARY:Hersage des installations
DESCRIPTION:
URL:https://www.scvt.ch/agenda/hersage-des-installations-30/2026-05-12/
CATEGORIES:Hersage
END:VEVENT
BEGIN:VEVENT
DTSTART;TZID=Europe/Paris:20260513T120000
DTEND;TZID=Europe/Paris:20260513T130000
DTSTAMP:20260420T004952
CREATED:20251203T163748Z
LAST-MODIFIED:20251203T163748Z
UID:8635-1778673600-1778677200@www.scvt.ch
SUMMARY:Hersage des installations
DESCRIPTION:
URL:https://www.scvt.ch/agenda/hersage-des-installations-30/2026-05-13/
CATEGORIES:Hersage
END:VEVENT
BEGIN:VEVENT
DTSTART;TZID=Europe/Paris:20260514T120000
DTEND;TZID=Europe/Paris:20260514T130000
DTSTAMP:20260420T004952
CREATED:20251203T163748Z
LAST-MODIFIED:20251203T163748Z
UID:8636-1778760000-1778763600@www.scvt.ch
SUMMARY:Hersage des installations
DESCRIPTION:
URL:https://www.scvt.ch/agenda/hersage-des-installations-30/2026-05-14/
CATEGORIES:Hersage
END:VEVENT
BEGIN:VEVENT
DTSTART;TZID=Europe/Paris:20260515T120000
DTEND;TZID=Europe/Paris:20260515T130000
DTSTAMP:20260420T004952
CREATED:20251203T163748Z
LAST-MODIFIED:20251203T163748Z
UID:8637-1778846400-1778850000@www.scvt.ch
SUMMARY:Hersage des installations
DESCRIPTION:
URL:https://www.scvt.ch/agenda/hersage-des-installations-30/2026-05-15/
CATEGORIES:Hersage
END:VEVENT
BEGIN:VEVENT
DTSTART;TZID=Europe/Paris:20260516T120000
DTEND;TZID=Europe/Paris:20260516T130000
DTSTAMP:20260420T004952
CREATED:20251203T163748Z
LAST-MODIFIED:20251203T163748Z
UID:8638-1778932800-1778936400@www.scvt.ch
SUMMARY:Hersage des installations
DESCRIPTION:
URL:https://www.scvt.ch/agenda/hersage-des-installations-30/2026-05-16/
CATEGORIES:Hersage
END:VEVENT
BEGIN:VEVENT
DTSTART;TZID=Europe/Paris:20260517T120000
DTEND;TZID=Europe/Paris:20260517T130000
DTSTAMP:20260420T004952
CREATED:20251203T163748Z
LAST-MODIFIED:20251203T163748Z
UID:8639-1779019200-1779022800@www.scvt.ch
SUMMARY:Hersage des installations
DESCRIPTION:
URL:https://www.scvt.ch/agenda/hersage-des-installations-30/2026-05-17/
CATEGORIES:Hersage
END:VEVENT
BEGIN:VEVENT
DTSTART;TZID=Europe/Paris:20260518T120000
DTEND;TZID=Europe/Paris:20260518T130000
DTSTAMP:20260420T004952
CREATED:20251203T163748Z
LAST-MODIFIED:20251203T163748Z
UID:8640-1779105600-1779109200@www.scvt.ch
SUMMARY:Hersage des installations
DESCRIPTION:
URL:https://www.scvt.ch/agenda/hersage-des-installations-30/2026-05-18/
CATEGORIES:Hersage
END:VEVENT
BEGIN:VEVENT
DTSTART;TZID=Europe/Paris:20260519T120000
DTEND;TZID=Europe/Paris:20260519T130000
DTSTAMP:20260420T004952
CREATED:20251203T163748Z
LAST-MODIFIED:20251203T163748Z
UID:8641-1779192000-1779195600@www.scvt.ch
SUMMARY:Hersage des installations
DESCRIPTION:
URL:https://www.scvt.ch/agenda/hersage-des-installations-30/2026-05-19/
CATEGORIES:Hersage
END:VEVENT
BEGIN:VEVENT
DTSTART;TZID=Europe/Paris:20260520T120000
DTEND;TZID=Europe/Paris:20260520T130000
DTSTAMP:20260420T004952
CREATED:20251203T163748Z
LAST-MODIFIED:20251203T163748Z
UID:8642-1779278400-1779282000@www.scvt.ch
SUMMARY:Hersage des installations
DESCRIPTION:
URL:https://www.scvt.ch/agenda/hersage-des-installations-30/2026-05-20/
CATEGORIES:Hersage
END:VEVENT
BEGIN:VEVENT
DTSTART;TZID=Europe/Paris:20260521T120000
DTEND;TZID=Europe/Paris:20260521T130000
DTSTAMP:20260420T004952
CREATED:20251203T163748Z
LAST-MODIFIED:20251203T163748Z
UID:8643-1779364800-1779368400@www.scvt.ch
SUMMARY:Hersage des installations
DESCRIPTION:
URL:https://www.scvt.ch/agenda/hersage-des-installations-30/2026-05-21/
CATEGORIES:Hersage
END:VEVENT
BEGIN:VEVENT
DTSTART;TZID=Europe/Paris:20260522T120000
DTEND;TZID=Europe/Paris:20260522T130000
DTSTAMP:20260420T004952
CREATED:20251203T163748Z
LAST-MODIFIED:20251203T163748Z
UID:8644-1779451200-1779454800@www.scvt.ch
SUMMARY:Hersage des installations
DESCRIPTION:
URL:https://www.scvt.ch/agenda/hersage-des-installations-30/2026-05-22/
CATEGORIES:Hersage
END:VEVENT
BEGIN:VEVENT
DTSTART;TZID=Europe/Paris:20260523T120000
DTEND;TZID=Europe/Paris:20260523T130000
DTSTAMP:20260420T004952
CREATED:20251203T163748Z
LAST-MODIFIED:20251203T163748Z
UID:8645-1779537600-1779541200@www.scvt.ch
SUMMARY:Hersage des installations
DESCRIPTION:
URL:https://www.scvt.ch/agenda/hersage-des-installations-30/2026-05-23/
CATEGORIES:Hersage
END:VEVENT
BEGIN:VEVENT
DTSTART;TZID=Europe/Paris:20260524T120000
DTEND;TZID=Europe/Paris:20260524T130000
DTSTAMP:20260420T004952
CREATED:20251203T163748Z
LAST-MODIFIED:20251203T163748Z
UID:8646-1779624000-1779627600@www.scvt.ch
SUMMARY:Hersage des installations
DESCRIPTION:
URL:https://www.scvt.ch/agenda/hersage-des-installations-30/2026-05-24/
CATEGORIES:Hersage
END:VEVENT
BEGIN:VEVENT
DTSTART;TZID=Europe/Paris:20260525T120000
DTEND;TZID=Europe/Paris:20260525T130000
DTSTAMP:20260420T004952
CREATED:20251203T163748Z
LAST-MODIFIED:20251203T163748Z
UID:8647-1779710400-1779714000@www.scvt.ch
SUMMARY:Hersage des installations
DESCRIPTION:
URL:https://www.scvt.ch/agenda/hersage-des-installations-30/2026-05-25/
CATEGORIES:Hersage
END:VEVENT
BEGIN:VEVENT
DTSTART;TZID=Europe/Paris:20260526T120000
DTEND;TZID=Europe/Paris:20260526T130000
DTSTAMP:20260420T004952
CREATED:20251203T163748Z
LAST-MODIFIED:20251203T163748Z
UID:8648-1779796800-1779800400@www.scvt.ch
SUMMARY:Hersage des installations
DESCRIPTION:
URL:https://www.scvt.ch/agenda/hersage-des-installations-30/2026-05-26/
CATEGORIES:Hersage
END:VEVENT
BEGIN:VEVENT
DTSTART;TZID=Europe/Paris:20260527T120000
DTEND;TZID=Europe/Paris:20260527T130000
DTSTAMP:20260420T004952
CREATED:20251203T163748Z
LAST-MODIFIED:20251203T163748Z
UID:8649-1779883200-1779886800@www.scvt.ch
SUMMARY:Hersage des installations
DESCRIPTION:
URL:https://www.scvt.ch/agenda/hersage-des-installations-30/2026-05-27/
CATEGORIES:Hersage
END:VEVENT
BEGIN:VEVENT
DTSTART;TZID=Europe/Paris:20260528T120000
DTEND;TZID=Europe/Paris:20260528T130000
DTSTAMP:20260420T004952
CREATED:20251203T163748Z
LAST-MODIFIED:20251203T163748Z
UID:8650-1779969600-1779973200@www.scvt.ch
SUMMARY:Hersage des installations
DESCRIPTION:
URL:https://www.scvt.ch/agenda/hersage-des-installations-30/2026-05-28/
CATEGORIES:Hersage
END:VEVENT
BEGIN:VEVENT
DTSTART;TZID=Europe/Paris:20260529T120000
DTEND;TZID=Europe/Paris:20260529T130000
DTSTAMP:20260420T004952
CREATED:20251203T163748Z
LAST-MODIFIED:20251203T163748Z
UID:8651-1780056000-1780059600@www.scvt.ch
SUMMARY:Hersage des installations
DESCRIPTION:
URL:https://www.scvt.ch/agenda/hersage-des-installations-30/2026-05-29/
CATEGORIES:Hersage
END:VEVENT
BEGIN:VEVENT
DTSTART;TZID=Europe/Paris:20260530T120000
DTEND;TZID=Europe/Paris:20260530T130000
DTSTAMP:20260420T004952
CREATED:20251203T163748Z
LAST-MODIFIED:20251203T163748Z
UID:8652-1780142400-1780146000@www.scvt.ch
SUMMARY:Hersage des installations
DESCRIPTION:
URL:https://www.scvt.ch/agenda/hersage-des-installations-30/2026-05-30/
CATEGORIES:Hersage
END:VEVENT
END:VCALENDAR