BEGIN:VCALENDAR
VERSION:2.0
PRODID:-//Société de cavalerie de Tavannes et environs - ECPv6.1.2.2//NONSGML v1.0//EN
CALSCALE:GREGORIAN
METHOD:PUBLISH
X-WR-CALNAME:Société de cavalerie de Tavannes et environs
X-ORIGINAL-URL:https://www.scvt.ch
X-WR-CALDESC:évènements pour Société de cavalerie de Tavannes et environs
REFRESH-INTERVAL;VALUE=DURATION:PT1H
X-Robots-Tag:noindex
X-PUBLISHED-TTL:PT1H
BEGIN:VTIMEZONE
TZID:Europe/Paris
BEGIN:DAYLIGHT
TZOFFSETFROM:+0100
TZOFFSETTO:+0200
TZNAME:CEST
DTSTART:20260329T010000
END:DAYLIGHT
BEGIN:STANDARD
TZOFFSETFROM:+0200
TZOFFSETTO:+0100
TZNAME:CET
DTSTART:20261025T010000
END:STANDARD
END:VTIMEZONE
BEGIN:VEVENT
DTSTART;TZID=Europe/Paris:20260601T120000
DTEND;TZID=Europe/Paris:20260601T130000
DTSTAMP:20260420T005002
CREATED:20251203T163748Z
LAST-MODIFIED:20251203T163748Z
UID:8654-1780315200-1780318800@www.scvt.ch
SUMMARY:Hersage des installations
DESCRIPTION:
URL:https://www.scvt.ch/agenda/hersage-des-installations-30/2026-06-01/
CATEGORIES:Hersage
END:VEVENT
BEGIN:VEVENT
DTSTART;TZID=Europe/Paris:20260602T120000
DTEND;TZID=Europe/Paris:20260602T130000
DTSTAMP:20260420T005002
CREATED:20251203T163748Z
LAST-MODIFIED:20251203T163748Z
UID:8655-1780401600-1780405200@www.scvt.ch
SUMMARY:Hersage des installations
DESCRIPTION:
URL:https://www.scvt.ch/agenda/hersage-des-installations-30/2026-06-02/
CATEGORIES:Hersage
END:VEVENT
BEGIN:VEVENT
DTSTART;TZID=Europe/Paris:20260603T120000
DTEND;TZID=Europe/Paris:20260603T130000
DTSTAMP:20260420T005002
CREATED:20251203T163748Z
LAST-MODIFIED:20251203T163748Z
UID:8656-1780488000-1780491600@www.scvt.ch
SUMMARY:Hersage des installations
DESCRIPTION:
URL:https://www.scvt.ch/agenda/hersage-des-installations-30/2026-06-03/
CATEGORIES:Hersage
END:VEVENT
BEGIN:VEVENT
DTSTART;TZID=Europe/Paris:20260604T120000
DTEND;TZID=Europe/Paris:20260604T130000
DTSTAMP:20260420T005002
CREATED:20251203T163748Z
LAST-MODIFIED:20251203T163748Z
UID:8657-1780574400-1780578000@www.scvt.ch
SUMMARY:Hersage des installations
DESCRIPTION:
URL:https://www.scvt.ch/agenda/hersage-des-installations-30/2026-06-04/
CATEGORIES:Hersage
END:VEVENT
BEGIN:VEVENT
DTSTART;TZID=Europe/Paris:20260605T120000
DTEND;TZID=Europe/Paris:20260605T130000
DTSTAMP:20260420T005002
CREATED:20251203T163748Z
LAST-MODIFIED:20251203T163748Z
UID:8658-1780660800-1780664400@www.scvt.ch
SUMMARY:Hersage des installations
DESCRIPTION:
URL:https://www.scvt.ch/agenda/hersage-des-installations-30/2026-06-05/
CATEGORIES:Hersage
END:VEVENT
BEGIN:VEVENT
DTSTART;TZID=Europe/Paris:20260606T120000
DTEND;TZID=Europe/Paris:20260606T130000
DTSTAMP:20260420T005002
CREATED:20251203T163748Z
LAST-MODIFIED:20251203T163748Z
UID:8659-1780747200-1780750800@www.scvt.ch
SUMMARY:Hersage des installations
DESCRIPTION:
URL:https://www.scvt.ch/agenda/hersage-des-installations-30/2026-06-06/
CATEGORIES:Hersage
END:VEVENT
BEGIN:VEVENT
DTSTART;TZID=Europe/Paris:20260607T120000
DTEND;TZID=Europe/Paris:20260607T130000
DTSTAMP:20260420T005002
CREATED:20251203T163748Z
LAST-MODIFIED:20251203T163748Z
UID:8660-1780833600-1780837200@www.scvt.ch
SUMMARY:Hersage des installations
DESCRIPTION:
URL:https://www.scvt.ch/agenda/hersage-des-installations-30/2026-06-07/
CATEGORIES:Hersage
END:VEVENT
BEGIN:VEVENT
DTSTART;TZID=Europe/Paris:20260608T120000
DTEND;TZID=Europe/Paris:20260608T130000
DTSTAMP:20260420T005002
CREATED:20251203T163748Z
LAST-MODIFIED:20251203T163748Z
UID:8661-1780920000-1780923600@www.scvt.ch
SUMMARY:Hersage des installations
DESCRIPTION:
URL:https://www.scvt.ch/agenda/hersage-des-installations-30/2026-06-08/
CATEGORIES:Hersage
END:VEVENT
BEGIN:VEVENT
DTSTART;TZID=Europe/Paris:20260609T120000
DTEND;TZID=Europe/Paris:20260609T130000
DTSTAMP:20260420T005002
CREATED:20251203T163748Z
LAST-MODIFIED:20251203T163748Z
UID:8662-1781006400-1781010000@www.scvt.ch
SUMMARY:Hersage des installations
DESCRIPTION:
URL:https://www.scvt.ch/agenda/hersage-des-installations-30/2026-06-09/
CATEGORIES:Hersage
END:VEVENT
BEGIN:VEVENT
DTSTART;TZID=Europe/Paris:20260610T120000
DTEND;TZID=Europe/Paris:20260610T130000
DTSTAMP:20260420T005002
CREATED:20251203T163748Z
LAST-MODIFIED:20251203T163748Z
UID:8663-1781092800-1781096400@www.scvt.ch
SUMMARY:Hersage des installations
DESCRIPTION:
URL:https://www.scvt.ch/agenda/hersage-des-installations-30/2026-06-10/
CATEGORIES:Hersage
END:VEVENT
BEGIN:VEVENT
DTSTART;TZID=Europe/Paris:20260611T120000
DTEND;TZID=Europe/Paris:20260611T130000
DTSTAMP:20260420T005002
CREATED:20251203T163748Z
LAST-MODIFIED:20251203T163748Z
UID:8664-1781179200-1781182800@www.scvt.ch
SUMMARY:Hersage des installations
DESCRIPTION:
URL:https://www.scvt.ch/agenda/hersage-des-installations-30/2026-06-11/
CATEGORIES:Hersage
END:VEVENT
BEGIN:VEVENT
DTSTART;TZID=Europe/Paris:20260612T120000
DTEND;TZID=Europe/Paris:20260612T130000
DTSTAMP:20260420T005002
CREATED:20251203T163748Z
LAST-MODIFIED:20251203T163748Z
UID:8665-1781265600-1781269200@www.scvt.ch
SUMMARY:Hersage des installations
DESCRIPTION:
URL:https://www.scvt.ch/agenda/hersage-des-installations-30/2026-06-12/
CATEGORIES:Hersage
END:VEVENT
BEGIN:VEVENT
DTSTART;TZID=Europe/Paris:20260613T120000
DTEND;TZID=Europe/Paris:20260613T130000
DTSTAMP:20260420T005002
CREATED:20251203T163748Z
LAST-MODIFIED:20251203T163748Z
UID:8666-1781352000-1781355600@www.scvt.ch
SUMMARY:Hersage des installations
DESCRIPTION:
URL:https://www.scvt.ch/agenda/hersage-des-installations-30/2026-06-13/
CATEGORIES:Hersage
END:VEVENT
BEGIN:VEVENT
DTSTART;TZID=Europe/Paris:20260614T120000
DTEND;TZID=Europe/Paris:20260614T130000
DTSTAMP:20260420T005002
CREATED:20251203T163748Z
LAST-MODIFIED:20251203T163748Z
UID:8667-1781438400-1781442000@www.scvt.ch
SUMMARY:Hersage des installations
DESCRIPTION:
URL:https://www.scvt.ch/agenda/hersage-des-installations-30/2026-06-14/
CATEGORIES:Hersage
END:VEVENT
BEGIN:VEVENT
DTSTART;TZID=Europe/Paris:20260615T120000
DTEND;TZID=Europe/Paris:20260615T130000
DTSTAMP:20260420T005002
CREATED:20251203T163748Z
LAST-MODIFIED:20251203T163748Z
UID:8668-1781524800-1781528400@www.scvt.ch
SUMMARY:Hersage des installations
DESCRIPTION:
URL:https://www.scvt.ch/agenda/hersage-des-installations-30/2026-06-15/
CATEGORIES:Hersage
END:VEVENT
BEGIN:VEVENT
DTSTART;TZID=Europe/Paris:20260616T120000
DTEND;TZID=Europe/Paris:20260616T130000
DTSTAMP:20260420T005002
CREATED:20251203T163748Z
LAST-MODIFIED:20251203T163748Z
UID:8669-1781611200-1781614800@www.scvt.ch
SUMMARY:Hersage des installations
DESCRIPTION:
URL:https://www.scvt.ch/agenda/hersage-des-installations-30/2026-06-16/
CATEGORIES:Hersage
END:VEVENT
BEGIN:VEVENT
DTSTART;TZID=Europe/Paris:20260617T120000
DTEND;TZID=Europe/Paris:20260617T130000
DTSTAMP:20260420T005002
CREATED:20251203T163748Z
LAST-MODIFIED:20251203T163748Z
UID:8670-1781697600-1781701200@www.scvt.ch
SUMMARY:Hersage des installations
DESCRIPTION:
URL:https://www.scvt.ch/agenda/hersage-des-installations-30/2026-06-17/
CATEGORIES:Hersage
END:VEVENT
BEGIN:VEVENT
DTSTART;TZID=Europe/Paris:20260618T120000
DTEND;TZID=Europe/Paris:20260618T130000
DTSTAMP:20260420T005002
CREATED:20251203T163748Z
LAST-MODIFIED:20251203T163748Z
UID:8671-1781784000-1781787600@www.scvt.ch
SUMMARY:Hersage des installations
DESCRIPTION:
URL:https://www.scvt.ch/agenda/hersage-des-installations-30/2026-06-18/
CATEGORIES:Hersage
END:VEVENT
BEGIN:VEVENT
DTSTART;TZID=Europe/Paris:20260619T120000
DTEND;TZID=Europe/Paris:20260619T130000
DTSTAMP:20260420T005002
CREATED:20251203T163748Z
LAST-MODIFIED:20251203T163748Z
UID:8672-1781870400-1781874000@www.scvt.ch
SUMMARY:Hersage des installations
DESCRIPTION:
URL:https://www.scvt.ch/agenda/hersage-des-installations-30/2026-06-19/
CATEGORIES:Hersage
END:VEVENT
BEGIN:VEVENT
DTSTART;TZID=Europe/Paris:20260620T120000
DTEND;TZID=Europe/Paris:20260620T130000
DTSTAMP:20260420T005002
CREATED:20251203T163748Z
LAST-MODIFIED:20251203T163748Z
UID:8673-1781956800-1781960400@www.scvt.ch
SUMMARY:Hersage des installations
DESCRIPTION:
URL:https://www.scvt.ch/agenda/hersage-des-installations-30/2026-06-20/
CATEGORIES:Hersage
END:VEVENT
BEGIN:VEVENT
DTSTART;TZID=Europe/Paris:20260621T120000
DTEND;TZID=Europe/Paris:20260621T130000
DTSTAMP:20260420T005002
CREATED:20251203T163748Z
LAST-MODIFIED:20251203T163748Z
UID:8674-1782043200-1782046800@www.scvt.ch
SUMMARY:Hersage des installations
DESCRIPTION:
URL:https://www.scvt.ch/agenda/hersage-des-installations-30/2026-06-21/
CATEGORIES:Hersage
END:VEVENT
BEGIN:VEVENT
DTSTART;TZID=Europe/Paris:20260622T120000
DTEND;TZID=Europe/Paris:20260622T130000
DTSTAMP:20260420T005002
CREATED:20251203T163748Z
LAST-MODIFIED:20251203T163748Z
UID:8675-1782129600-1782133200@www.scvt.ch
SUMMARY:Hersage des installations
DESCRIPTION:
URL:https://www.scvt.ch/agenda/hersage-des-installations-30/2026-06-22/
CATEGORIES:Hersage
END:VEVENT
BEGIN:VEVENT
DTSTART;TZID=Europe/Paris:20260623T120000
DTEND;TZID=Europe/Paris:20260623T130000
DTSTAMP:20260420T005002
CREATED:20251203T163748Z
LAST-MODIFIED:20251203T163748Z
UID:8676-1782216000-1782219600@www.scvt.ch
SUMMARY:Hersage des installations
DESCRIPTION:
URL:https://www.scvt.ch/agenda/hersage-des-installations-30/2026-06-23/
CATEGORIES:Hersage
END:VEVENT
BEGIN:VEVENT
DTSTART;TZID=Europe/Paris:20260624T120000
DTEND;TZID=Europe/Paris:20260624T130000
DTSTAMP:20260420T005002
CREATED:20251203T163748Z
LAST-MODIFIED:20251203T163748Z
UID:8677-1782302400-1782306000@www.scvt.ch
SUMMARY:Hersage des installations
DESCRIPTION:
URL:https://www.scvt.ch/agenda/hersage-des-installations-30/2026-06-24/
CATEGORIES:Hersage
END:VEVENT
BEGIN:VEVENT
DTSTART;TZID=Europe/Paris:20260625T120000
DTEND;TZID=Europe/Paris:20260625T130000
DTSTAMP:20260420T005002
CREATED:20251203T163748Z
LAST-MODIFIED:20251203T163748Z
UID:8678-1782388800-1782392400@www.scvt.ch
SUMMARY:Hersage des installations
DESCRIPTION:
URL:https://www.scvt.ch/agenda/hersage-des-installations-30/2026-06-25/
CATEGORIES:Hersage
END:VEVENT
BEGIN:VEVENT
DTSTART;TZID=Europe/Paris:20260626T120000
DTEND;TZID=Europe/Paris:20260626T130000
DTSTAMP:20260420T005002
CREATED:20251203T163748Z
LAST-MODIFIED:20251203T163748Z
UID:8679-1782475200-1782478800@www.scvt.ch
SUMMARY:Hersage des installations
DESCRIPTION:
URL:https://www.scvt.ch/agenda/hersage-des-installations-30/2026-06-26/
CATEGORIES:Hersage
END:VEVENT
BEGIN:VEVENT
DTSTART;TZID=Europe/Paris:20260627T120000
DTEND;TZID=Europe/Paris:20260627T130000
DTSTAMP:20260420T005002
CREATED:20251203T163748Z
LAST-MODIFIED:20251203T163748Z
UID:8680-1782561600-1782565200@www.scvt.ch
SUMMARY:Hersage des installations
DESCRIPTION:
URL:https://www.scvt.ch/agenda/hersage-des-installations-30/2026-06-27/
CATEGORIES:Hersage
END:VEVENT
BEGIN:VEVENT
DTSTART;TZID=Europe/Paris:20260628T120000
DTEND;TZID=Europe/Paris:20260628T130000
DTSTAMP:20260420T005002
CREATED:20251203T163748Z
LAST-MODIFIED:20251203T163748Z
UID:8681-1782648000-1782651600@www.scvt.ch
SUMMARY:Hersage des installations
DESCRIPTION:
URL:https://www.scvt.ch/agenda/hersage-des-installations-30/2026-06-28/
CATEGORIES:Hersage
END:VEVENT
BEGIN:VEVENT
DTSTART;TZID=Europe/Paris:20260629T120000
DTEND;TZID=Europe/Paris:20260629T130000
DTSTAMP:20260420T005002
CREATED:20251203T163748Z
LAST-MODIFIED:20251203T163748Z
UID:8682-1782734400-1782738000@www.scvt.ch
SUMMARY:Hersage des installations
DESCRIPTION:
URL:https://www.scvt.ch/agenda/hersage-des-installations-30/2026-06-29/
CATEGORIES:Hersage
END:VEVENT
BEGIN:VEVENT
DTSTART;TZID=Europe/Paris:20260630T120000
DTEND;TZID=Europe/Paris:20260630T130000
DTSTAMP:20260420T005002
CREATED:20251203T163748Z
LAST-MODIFIED:20251203T163748Z
UID:8683-1782820800-1782824400@www.scvt.ch
SUMMARY:Hersage des installations
DESCRIPTION:
URL:https://www.scvt.ch/agenda/hersage-des-installations-30/2026-06-30/
CATEGORIES:Hersage
END:VEVENT
END:VCALENDAR