BEGIN:VCALENDAR
VERSION:2.0
PRODID:-//Société de cavalerie de Tavannes et environs - ECPv6.1.2.2//NONSGML v1.0//EN
CALSCALE:GREGORIAN
METHOD:PUBLISH
X-WR-CALNAME:Société de cavalerie de Tavannes et environs
X-ORIGINAL-URL:https://www.scvt.ch
X-WR-CALDESC:évènements pour Société de cavalerie de Tavannes et environs
REFRESH-INTERVAL;VALUE=DURATION:PT1H
X-Robots-Tag:noindex
X-PUBLISHED-TTL:PT1H
BEGIN:VTIMEZONE
TZID:Europe/Paris
BEGIN:DAYLIGHT
TZOFFSETFROM:+0100
TZOFFSETTO:+0200
TZNAME:CEST
DTSTART:20260329T010000
END:DAYLIGHT
BEGIN:STANDARD
TZOFFSETFROM:+0200
TZOFFSETTO:+0100
TZNAME:CET
DTSTART:20261025T010000
END:STANDARD
END:VTIMEZONE
BEGIN:VEVENT
DTSTART;TZID=Europe/Paris:20260701T120000
DTEND;TZID=Europe/Paris:20260701T130000
DTSTAMP:20260420T055259
CREATED:20251203T163748Z
LAST-MODIFIED:20251203T163748Z
UID:8684-1782907200-1782910800@www.scvt.ch
SUMMARY:Hersage des installations
DESCRIPTION:
URL:https://www.scvt.ch/agenda/hersage-des-installations-30/2026-07-01/
CATEGORIES:Hersage
END:VEVENT
BEGIN:VEVENT
DTSTART;TZID=Europe/Paris:20260702T120000
DTEND;TZID=Europe/Paris:20260702T130000
DTSTAMP:20260420T055259
CREATED:20251203T163748Z
LAST-MODIFIED:20251203T163748Z
UID:8685-1782993600-1782997200@www.scvt.ch
SUMMARY:Hersage des installations
DESCRIPTION:
URL:https://www.scvt.ch/agenda/hersage-des-installations-30/2026-07-02/
CATEGORIES:Hersage
END:VEVENT
BEGIN:VEVENT
DTSTART;TZID=Europe/Paris:20260703T120000
DTEND;TZID=Europe/Paris:20260703T130000
DTSTAMP:20260420T055259
CREATED:20251203T163748Z
LAST-MODIFIED:20251203T163748Z
UID:8686-1783080000-1783083600@www.scvt.ch
SUMMARY:Hersage des installations
DESCRIPTION:
URL:https://www.scvt.ch/agenda/hersage-des-installations-30/2026-07-03/
CATEGORIES:Hersage
END:VEVENT
BEGIN:VEVENT
DTSTART;TZID=Europe/Paris:20260704T120000
DTEND;TZID=Europe/Paris:20260704T130000
DTSTAMP:20260420T055259
CREATED:20251203T163748Z
LAST-MODIFIED:20251203T163748Z
UID:8687-1783166400-1783170000@www.scvt.ch
SUMMARY:Hersage des installations
DESCRIPTION:
URL:https://www.scvt.ch/agenda/hersage-des-installations-30/2026-07-04/
CATEGORIES:Hersage
END:VEVENT
BEGIN:VEVENT
DTSTART;TZID=Europe/Paris:20260705T120000
DTEND;TZID=Europe/Paris:20260705T130000
DTSTAMP:20260420T055259
CREATED:20251203T163748Z
LAST-MODIFIED:20251203T163748Z
UID:8688-1783252800-1783256400@www.scvt.ch
SUMMARY:Hersage des installations
DESCRIPTION:
URL:https://www.scvt.ch/agenda/hersage-des-installations-30/2026-07-05/
CATEGORIES:Hersage
END:VEVENT
BEGIN:VEVENT
DTSTART;TZID=Europe/Paris:20260706T120000
DTEND;TZID=Europe/Paris:20260706T130000
DTSTAMP:20260420T055259
CREATED:20251203T163748Z
LAST-MODIFIED:20251203T163748Z
UID:8689-1783339200-1783342800@www.scvt.ch
SUMMARY:Hersage des installations
DESCRIPTION:
URL:https://www.scvt.ch/agenda/hersage-des-installations-30/2026-07-06/
CATEGORIES:Hersage
END:VEVENT
BEGIN:VEVENT
DTSTART;TZID=Europe/Paris:20260707T120000
DTEND;TZID=Europe/Paris:20260707T130000
DTSTAMP:20260420T055259
CREATED:20251203T163748Z
LAST-MODIFIED:20251203T163748Z
UID:8690-1783425600-1783429200@www.scvt.ch
SUMMARY:Hersage des installations
DESCRIPTION:
URL:https://www.scvt.ch/agenda/hersage-des-installations-30/2026-07-07/
CATEGORIES:Hersage
END:VEVENT
BEGIN:VEVENT
DTSTART;TZID=Europe/Paris:20260708T120000
DTEND;TZID=Europe/Paris:20260708T130000
DTSTAMP:20260420T055259
CREATED:20251203T163748Z
LAST-MODIFIED:20251203T163748Z
UID:8691-1783512000-1783515600@www.scvt.ch
SUMMARY:Hersage des installations
DESCRIPTION:
URL:https://www.scvt.ch/agenda/hersage-des-installations-30/2026-07-08/
CATEGORIES:Hersage
END:VEVENT
BEGIN:VEVENT
DTSTART;TZID=Europe/Paris:20260709T120000
DTEND;TZID=Europe/Paris:20260709T130000
DTSTAMP:20260420T055259
CREATED:20251203T163748Z
LAST-MODIFIED:20251203T163748Z
UID:8692-1783598400-1783602000@www.scvt.ch
SUMMARY:Hersage des installations
DESCRIPTION:
URL:https://www.scvt.ch/agenda/hersage-des-installations-30/2026-07-09/
CATEGORIES:Hersage
END:VEVENT
BEGIN:VEVENT
DTSTART;TZID=Europe/Paris:20260710T120000
DTEND;TZID=Europe/Paris:20260710T130000
DTSTAMP:20260420T055259
CREATED:20251203T163748Z
LAST-MODIFIED:20251203T163748Z
UID:8693-1783684800-1783688400@www.scvt.ch
SUMMARY:Hersage des installations
DESCRIPTION:
URL:https://www.scvt.ch/agenda/hersage-des-installations-30/2026-07-10/
CATEGORIES:Hersage
END:VEVENT
BEGIN:VEVENT
DTSTART;TZID=Europe/Paris:20260711T120000
DTEND;TZID=Europe/Paris:20260711T130000
DTSTAMP:20260420T055259
CREATED:20251203T163748Z
LAST-MODIFIED:20251203T163748Z
UID:8694-1783771200-1783774800@www.scvt.ch
SUMMARY:Hersage des installations
DESCRIPTION:
URL:https://www.scvt.ch/agenda/hersage-des-installations-30/2026-07-11/
CATEGORIES:Hersage
END:VEVENT
BEGIN:VEVENT
DTSTART;TZID=Europe/Paris:20260712T120000
DTEND;TZID=Europe/Paris:20260712T130000
DTSTAMP:20260420T055259
CREATED:20251203T163748Z
LAST-MODIFIED:20251203T163748Z
UID:8695-1783857600-1783861200@www.scvt.ch
SUMMARY:Hersage des installations
DESCRIPTION:
URL:https://www.scvt.ch/agenda/hersage-des-installations-30/2026-07-12/
CATEGORIES:Hersage
END:VEVENT
BEGIN:VEVENT
DTSTART;TZID=Europe/Paris:20260713T120000
DTEND;TZID=Europe/Paris:20260713T130000
DTSTAMP:20260420T055259
CREATED:20251203T163748Z
LAST-MODIFIED:20251203T163748Z
UID:8696-1783944000-1783947600@www.scvt.ch
SUMMARY:Hersage des installations
DESCRIPTION:
URL:https://www.scvt.ch/agenda/hersage-des-installations-30/2026-07-13/
CATEGORIES:Hersage
END:VEVENT
BEGIN:VEVENT
DTSTART;TZID=Europe/Paris:20260714T120000
DTEND;TZID=Europe/Paris:20260714T130000
DTSTAMP:20260420T055259
CREATED:20251203T163748Z
LAST-MODIFIED:20251203T163748Z
UID:8697-1784030400-1784034000@www.scvt.ch
SUMMARY:Hersage des installations
DESCRIPTION:
URL:https://www.scvt.ch/agenda/hersage-des-installations-30/2026-07-14/
CATEGORIES:Hersage
END:VEVENT
BEGIN:VEVENT
DTSTART;TZID=Europe/Paris:20260715T120000
DTEND;TZID=Europe/Paris:20260715T130000
DTSTAMP:20260420T055259
CREATED:20251203T163748Z
LAST-MODIFIED:20251203T163748Z
UID:8698-1784116800-1784120400@www.scvt.ch
SUMMARY:Hersage des installations
DESCRIPTION:
URL:https://www.scvt.ch/agenda/hersage-des-installations-30/2026-07-15/
CATEGORIES:Hersage
END:VEVENT
BEGIN:VEVENT
DTSTART;TZID=Europe/Paris:20260716T120000
DTEND;TZID=Europe/Paris:20260716T130000
DTSTAMP:20260420T055259
CREATED:20251203T163748Z
LAST-MODIFIED:20251203T163748Z
UID:8699-1784203200-1784206800@www.scvt.ch
SUMMARY:Hersage des installations
DESCRIPTION:
URL:https://www.scvt.ch/agenda/hersage-des-installations-30/2026-07-16/
CATEGORIES:Hersage
END:VEVENT
BEGIN:VEVENT
DTSTART;TZID=Europe/Paris:20260717T120000
DTEND;TZID=Europe/Paris:20260717T130000
DTSTAMP:20260420T055259
CREATED:20251203T163748Z
LAST-MODIFIED:20251203T163748Z
UID:8700-1784289600-1784293200@www.scvt.ch
SUMMARY:Hersage des installations
DESCRIPTION:
URL:https://www.scvt.ch/agenda/hersage-des-installations-30/2026-07-17/
CATEGORIES:Hersage
END:VEVENT
BEGIN:VEVENT
DTSTART;TZID=Europe/Paris:20260718T120000
DTEND;TZID=Europe/Paris:20260718T130000
DTSTAMP:20260420T055259
CREATED:20251203T163748Z
LAST-MODIFIED:20251203T163748Z
UID:8701-1784376000-1784379600@www.scvt.ch
SUMMARY:Hersage des installations
DESCRIPTION:
URL:https://www.scvt.ch/agenda/hersage-des-installations-30/2026-07-18/
CATEGORIES:Hersage
END:VEVENT
BEGIN:VEVENT
DTSTART;TZID=Europe/Paris:20260719T120000
DTEND;TZID=Europe/Paris:20260719T130000
DTSTAMP:20260420T055259
CREATED:20251203T163748Z
LAST-MODIFIED:20251203T163748Z
UID:8702-1784462400-1784466000@www.scvt.ch
SUMMARY:Hersage des installations
DESCRIPTION:
URL:https://www.scvt.ch/agenda/hersage-des-installations-30/2026-07-19/
CATEGORIES:Hersage
END:VEVENT
BEGIN:VEVENT
DTSTART;TZID=Europe/Paris:20260720T120000
DTEND;TZID=Europe/Paris:20260720T130000
DTSTAMP:20260420T055259
CREATED:20251203T163748Z
LAST-MODIFIED:20251203T163748Z
UID:8703-1784548800-1784552400@www.scvt.ch
SUMMARY:Hersage des installations
DESCRIPTION:
URL:https://www.scvt.ch/agenda/hersage-des-installations-30/2026-07-20/
CATEGORIES:Hersage
END:VEVENT
BEGIN:VEVENT
DTSTART;TZID=Europe/Paris:20260721T120000
DTEND;TZID=Europe/Paris:20260721T130000
DTSTAMP:20260420T055259
CREATED:20251203T163748Z
LAST-MODIFIED:20251203T163748Z
UID:8704-1784635200-1784638800@www.scvt.ch
SUMMARY:Hersage des installations
DESCRIPTION:
URL:https://www.scvt.ch/agenda/hersage-des-installations-30/2026-07-21/
CATEGORIES:Hersage
END:VEVENT
BEGIN:VEVENT
DTSTART;TZID=Europe/Paris:20260722T120000
DTEND;TZID=Europe/Paris:20260722T130000
DTSTAMP:20260420T055259
CREATED:20251203T163748Z
LAST-MODIFIED:20251203T163748Z
UID:8705-1784721600-1784725200@www.scvt.ch
SUMMARY:Hersage des installations
DESCRIPTION:
URL:https://www.scvt.ch/agenda/hersage-des-installations-30/2026-07-22/
CATEGORIES:Hersage
END:VEVENT
BEGIN:VEVENT
DTSTART;TZID=Europe/Paris:20260723T120000
DTEND;TZID=Europe/Paris:20260723T130000
DTSTAMP:20260420T055259
CREATED:20251203T163748Z
LAST-MODIFIED:20251203T163748Z
UID:8706-1784808000-1784811600@www.scvt.ch
SUMMARY:Hersage des installations
DESCRIPTION:
URL:https://www.scvt.ch/agenda/hersage-des-installations-30/2026-07-23/
CATEGORIES:Hersage
END:VEVENT
BEGIN:VEVENT
DTSTART;TZID=Europe/Paris:20260724T120000
DTEND;TZID=Europe/Paris:20260724T130000
DTSTAMP:20260420T055259
CREATED:20251203T163748Z
LAST-MODIFIED:20251203T163748Z
UID:8707-1784894400-1784898000@www.scvt.ch
SUMMARY:Hersage des installations
DESCRIPTION:
URL:https://www.scvt.ch/agenda/hersage-des-installations-30/2026-07-24/
CATEGORIES:Hersage
END:VEVENT
BEGIN:VEVENT
DTSTART;TZID=Europe/Paris:20260725T120000
DTEND;TZID=Europe/Paris:20260725T130000
DTSTAMP:20260420T055259
CREATED:20251203T163748Z
LAST-MODIFIED:20251203T163748Z
UID:8708-1784980800-1784984400@www.scvt.ch
SUMMARY:Hersage des installations
DESCRIPTION:
URL:https://www.scvt.ch/agenda/hersage-des-installations-30/2026-07-25/
CATEGORIES:Hersage
END:VEVENT
BEGIN:VEVENT
DTSTART;TZID=Europe/Paris:20260726T120000
DTEND;TZID=Europe/Paris:20260726T130000
DTSTAMP:20260420T055259
CREATED:20251203T163748Z
LAST-MODIFIED:20251203T163748Z
UID:8709-1785067200-1785070800@www.scvt.ch
SUMMARY:Hersage des installations
DESCRIPTION:
URL:https://www.scvt.ch/agenda/hersage-des-installations-30/2026-07-26/
CATEGORIES:Hersage
END:VEVENT
BEGIN:VEVENT
DTSTART;TZID=Europe/Paris:20260727T120000
DTEND;TZID=Europe/Paris:20260727T130000
DTSTAMP:20260420T055259
CREATED:20251203T163748Z
LAST-MODIFIED:20251203T163748Z
UID:8710-1785153600-1785157200@www.scvt.ch
SUMMARY:Hersage des installations
DESCRIPTION:
URL:https://www.scvt.ch/agenda/hersage-des-installations-30/2026-07-27/
CATEGORIES:Hersage
END:VEVENT
BEGIN:VEVENT
DTSTART;TZID=Europe/Paris:20260728T120000
DTEND;TZID=Europe/Paris:20260728T130000
DTSTAMP:20260420T055259
CREATED:20251203T163748Z
LAST-MODIFIED:20251203T163748Z
UID:8711-1785240000-1785243600@www.scvt.ch
SUMMARY:Hersage des installations
DESCRIPTION:
URL:https://www.scvt.ch/agenda/hersage-des-installations-30/2026-07-28/
CATEGORIES:Hersage
END:VEVENT
BEGIN:VEVENT
DTSTART;TZID=Europe/Paris:20260729T120000
DTEND;TZID=Europe/Paris:20260729T130000
DTSTAMP:20260420T055259
CREATED:20251203T163748Z
LAST-MODIFIED:20251203T163748Z
UID:8712-1785326400-1785330000@www.scvt.ch
SUMMARY:Hersage des installations
DESCRIPTION:
URL:https://www.scvt.ch/agenda/hersage-des-installations-30/2026-07-29/
CATEGORIES:Hersage
END:VEVENT
BEGIN:VEVENT
DTSTART;TZID=Europe/Paris:20260730T120000
DTEND;TZID=Europe/Paris:20260730T130000
DTSTAMP:20260420T055259
CREATED:20251203T163748Z
LAST-MODIFIED:20251203T163748Z
UID:8713-1785412800-1785416400@www.scvt.ch
SUMMARY:Hersage des installations
DESCRIPTION:
URL:https://www.scvt.ch/agenda/hersage-des-installations-30/2026-07-30/
CATEGORIES:Hersage
END:VEVENT
END:VCALENDAR