BEGIN:VCALENDAR
VERSION:2.0
PRODID:-//Société de cavalerie de Tavannes et environs - ECPv6.1.2.2//NONSGML v1.0//EN
CALSCALE:GREGORIAN
METHOD:PUBLISH
X-WR-CALNAME:Société de cavalerie de Tavannes et environs
X-ORIGINAL-URL:https://www.scvt.ch
X-WR-CALDESC:évènements pour Société de cavalerie de Tavannes et environs
REFRESH-INTERVAL;VALUE=DURATION:PT1H
X-Robots-Tag:noindex
X-PUBLISHED-TTL:PT1H
BEGIN:VTIMEZONE
TZID:Europe/Paris
BEGIN:DAYLIGHT
TZOFFSETFROM:+0100
TZOFFSETTO:+0200
TZNAME:CEST
DTSTART:20260329T010000
END:DAYLIGHT
BEGIN:STANDARD
TZOFFSETFROM:+0200
TZOFFSETTO:+0100
TZNAME:CET
DTSTART:20261025T010000
END:STANDARD
END:VTIMEZONE
BEGIN:VEVENT
DTSTART;TZID=Europe/Paris:20260801T120000
DTEND;TZID=Europe/Paris:20260801T130000
DTSTAMP:20260420T104326
CREATED:20251203T163748Z
LAST-MODIFIED:20251203T163748Z
UID:8715-1785585600-1785589200@www.scvt.ch
SUMMARY:Hersage des installations
DESCRIPTION:
URL:https://www.scvt.ch/agenda/hersage-des-installations-30/2026-08-01/
CATEGORIES:Hersage
END:VEVENT
BEGIN:VEVENT
DTSTART;TZID=Europe/Paris:20260802T120000
DTEND;TZID=Europe/Paris:20260802T130000
DTSTAMP:20260420T104326
CREATED:20251203T163748Z
LAST-MODIFIED:20251203T163748Z
UID:8716-1785672000-1785675600@www.scvt.ch
SUMMARY:Hersage des installations
DESCRIPTION:
URL:https://www.scvt.ch/agenda/hersage-des-installations-30/2026-08-02/
CATEGORIES:Hersage
END:VEVENT
BEGIN:VEVENT
DTSTART;TZID=Europe/Paris:20260803T120000
DTEND;TZID=Europe/Paris:20260803T130000
DTSTAMP:20260420T104326
CREATED:20251203T163748Z
LAST-MODIFIED:20251203T163748Z
UID:8717-1785758400-1785762000@www.scvt.ch
SUMMARY:Hersage des installations
DESCRIPTION:
URL:https://www.scvt.ch/agenda/hersage-des-installations-30/2026-08-03/
CATEGORIES:Hersage
END:VEVENT
BEGIN:VEVENT
DTSTART;TZID=Europe/Paris:20260804T120000
DTEND;TZID=Europe/Paris:20260804T130000
DTSTAMP:20260420T104326
CREATED:20251203T163748Z
LAST-MODIFIED:20251203T163748Z
UID:8718-1785844800-1785848400@www.scvt.ch
SUMMARY:Hersage des installations
DESCRIPTION:
URL:https://www.scvt.ch/agenda/hersage-des-installations-30/2026-08-04/
CATEGORIES:Hersage
END:VEVENT
BEGIN:VEVENT
DTSTART;TZID=Europe/Paris:20260805T120000
DTEND;TZID=Europe/Paris:20260805T130000
DTSTAMP:20260420T104326
CREATED:20251203T163748Z
LAST-MODIFIED:20251203T163748Z
UID:8719-1785931200-1785934800@www.scvt.ch
SUMMARY:Hersage des installations
DESCRIPTION:
URL:https://www.scvt.ch/agenda/hersage-des-installations-30/2026-08-05/
CATEGORIES:Hersage
END:VEVENT
BEGIN:VEVENT
DTSTART;TZID=Europe/Paris:20260806T120000
DTEND;TZID=Europe/Paris:20260806T130000
DTSTAMP:20260420T104326
CREATED:20251203T163748Z
LAST-MODIFIED:20251203T163748Z
UID:8720-1786017600-1786021200@www.scvt.ch
SUMMARY:Hersage des installations
DESCRIPTION:
URL:https://www.scvt.ch/agenda/hersage-des-installations-30/2026-08-06/
CATEGORIES:Hersage
END:VEVENT
BEGIN:VEVENT
DTSTART;TZID=Europe/Paris:20260807T120000
DTEND;TZID=Europe/Paris:20260807T130000
DTSTAMP:20260420T104326
CREATED:20251203T163748Z
LAST-MODIFIED:20251203T163748Z
UID:8721-1786104000-1786107600@www.scvt.ch
SUMMARY:Hersage des installations
DESCRIPTION:
URL:https://www.scvt.ch/agenda/hersage-des-installations-30/2026-08-07/
CATEGORIES:Hersage
END:VEVENT
BEGIN:VEVENT
DTSTART;TZID=Europe/Paris:20260808T120000
DTEND;TZID=Europe/Paris:20260808T130000
DTSTAMP:20260420T104326
CREATED:20251203T163748Z
LAST-MODIFIED:20251203T163748Z
UID:8722-1786190400-1786194000@www.scvt.ch
SUMMARY:Hersage des installations
DESCRIPTION:
URL:https://www.scvt.ch/agenda/hersage-des-installations-30/2026-08-08/
CATEGORIES:Hersage
END:VEVENT
BEGIN:VEVENT
DTSTART;TZID=Europe/Paris:20260809T120000
DTEND;TZID=Europe/Paris:20260809T130000
DTSTAMP:20260420T104326
CREATED:20251203T163748Z
LAST-MODIFIED:20251203T163748Z
UID:8723-1786276800-1786280400@www.scvt.ch
SUMMARY:Hersage des installations
DESCRIPTION:
URL:https://www.scvt.ch/agenda/hersage-des-installations-30/2026-08-09/
CATEGORIES:Hersage
END:VEVENT
BEGIN:VEVENT
DTSTART;TZID=Europe/Paris:20260810T120000
DTEND;TZID=Europe/Paris:20260810T130000
DTSTAMP:20260420T104326
CREATED:20251203T163748Z
LAST-MODIFIED:20251203T163748Z
UID:8724-1786363200-1786366800@www.scvt.ch
SUMMARY:Hersage des installations
DESCRIPTION:
URL:https://www.scvt.ch/agenda/hersage-des-installations-30/2026-08-10/
CATEGORIES:Hersage
END:VEVENT
BEGIN:VEVENT
DTSTART;TZID=Europe/Paris:20260811T120000
DTEND;TZID=Europe/Paris:20260811T130000
DTSTAMP:20260420T104326
CREATED:20251203T163748Z
LAST-MODIFIED:20251203T163748Z
UID:8725-1786449600-1786453200@www.scvt.ch
SUMMARY:Hersage des installations
DESCRIPTION:
URL:https://www.scvt.ch/agenda/hersage-des-installations-30/2026-08-11/
CATEGORIES:Hersage
END:VEVENT
BEGIN:VEVENT
DTSTART;TZID=Europe/Paris:20260812T120000
DTEND;TZID=Europe/Paris:20260812T130000
DTSTAMP:20260420T104326
CREATED:20251203T163748Z
LAST-MODIFIED:20251203T163748Z
UID:8726-1786536000-1786539600@www.scvt.ch
SUMMARY:Hersage des installations
DESCRIPTION:
URL:https://www.scvt.ch/agenda/hersage-des-installations-30/2026-08-12/
CATEGORIES:Hersage
END:VEVENT
BEGIN:VEVENT
DTSTART;TZID=Europe/Paris:20260813T120000
DTEND;TZID=Europe/Paris:20260813T130000
DTSTAMP:20260420T104326
CREATED:20251203T163748Z
LAST-MODIFIED:20251203T163748Z
UID:8727-1786622400-1786626000@www.scvt.ch
SUMMARY:Hersage des installations
DESCRIPTION:
URL:https://www.scvt.ch/agenda/hersage-des-installations-30/2026-08-13/
CATEGORIES:Hersage
END:VEVENT
BEGIN:VEVENT
DTSTART;TZID=Europe/Paris:20260814T120000
DTEND;TZID=Europe/Paris:20260814T130000
DTSTAMP:20260420T104326
CREATED:20251203T163748Z
LAST-MODIFIED:20251203T163748Z
UID:8728-1786708800-1786712400@www.scvt.ch
SUMMARY:Hersage des installations
DESCRIPTION:
URL:https://www.scvt.ch/agenda/hersage-des-installations-30/2026-08-14/
CATEGORIES:Hersage
END:VEVENT
BEGIN:VEVENT
DTSTART;TZID=Europe/Paris:20260815T120000
DTEND;TZID=Europe/Paris:20260815T130000
DTSTAMP:20260420T104326
CREATED:20251203T163748Z
LAST-MODIFIED:20251203T163748Z
UID:8729-1786795200-1786798800@www.scvt.ch
SUMMARY:Hersage des installations
DESCRIPTION:
URL:https://www.scvt.ch/agenda/hersage-des-installations-30/2026-08-15/
CATEGORIES:Hersage
END:VEVENT
BEGIN:VEVENT
DTSTART;TZID=Europe/Paris:20260816T120000
DTEND;TZID=Europe/Paris:20260816T130000
DTSTAMP:20260420T104326
CREATED:20251203T163748Z
LAST-MODIFIED:20251203T163748Z
UID:8730-1786881600-1786885200@www.scvt.ch
SUMMARY:Hersage des installations
DESCRIPTION:
URL:https://www.scvt.ch/agenda/hersage-des-installations-30/2026-08-16/
CATEGORIES:Hersage
END:VEVENT
BEGIN:VEVENT
DTSTART;TZID=Europe/Paris:20260817T120000
DTEND;TZID=Europe/Paris:20260817T130000
DTSTAMP:20260420T104326
CREATED:20251203T163748Z
LAST-MODIFIED:20251203T163748Z
UID:8731-1786968000-1786971600@www.scvt.ch
SUMMARY:Hersage des installations
DESCRIPTION:
URL:https://www.scvt.ch/agenda/hersage-des-installations-30/2026-08-17/
CATEGORIES:Hersage
END:VEVENT
BEGIN:VEVENT
DTSTART;TZID=Europe/Paris:20260818T120000
DTEND;TZID=Europe/Paris:20260818T130000
DTSTAMP:20260420T104326
CREATED:20251203T163748Z
LAST-MODIFIED:20251203T163748Z
UID:8732-1787054400-1787058000@www.scvt.ch
SUMMARY:Hersage des installations
DESCRIPTION:
URL:https://www.scvt.ch/agenda/hersage-des-installations-30/2026-08-18/
CATEGORIES:Hersage
END:VEVENT
BEGIN:VEVENT
DTSTART;TZID=Europe/Paris:20260819T120000
DTEND;TZID=Europe/Paris:20260819T130000
DTSTAMP:20260420T104326
CREATED:20251203T163748Z
LAST-MODIFIED:20251203T163748Z
UID:8733-1787140800-1787144400@www.scvt.ch
SUMMARY:Hersage des installations
DESCRIPTION:
URL:https://www.scvt.ch/agenda/hersage-des-installations-30/2026-08-19/
CATEGORIES:Hersage
END:VEVENT
BEGIN:VEVENT
DTSTART;TZID=Europe/Paris:20260820T120000
DTEND;TZID=Europe/Paris:20260820T130000
DTSTAMP:20260420T104326
CREATED:20251203T163748Z
LAST-MODIFIED:20251203T163748Z
UID:8734-1787227200-1787230800@www.scvt.ch
SUMMARY:Hersage des installations
DESCRIPTION:
URL:https://www.scvt.ch/agenda/hersage-des-installations-30/2026-08-20/
CATEGORIES:Hersage
END:VEVENT
BEGIN:VEVENT
DTSTART;TZID=Europe/Paris:20260821T120000
DTEND;TZID=Europe/Paris:20260821T130000
DTSTAMP:20260420T104326
CREATED:20251203T163748Z
LAST-MODIFIED:20251203T163748Z
UID:8735-1787313600-1787317200@www.scvt.ch
SUMMARY:Hersage des installations
DESCRIPTION:
URL:https://www.scvt.ch/agenda/hersage-des-installations-30/2026-08-21/
CATEGORIES:Hersage
END:VEVENT
BEGIN:VEVENT
DTSTART;TZID=Europe/Paris:20260822T120000
DTEND;TZID=Europe/Paris:20260822T130000
DTSTAMP:20260420T104326
CREATED:20251203T163748Z
LAST-MODIFIED:20251203T163748Z
UID:8736-1787400000-1787403600@www.scvt.ch
SUMMARY:Hersage des installations
DESCRIPTION:
URL:https://www.scvt.ch/agenda/hersage-des-installations-30/2026-08-22/
CATEGORIES:Hersage
END:VEVENT
BEGIN:VEVENT
DTSTART;TZID=Europe/Paris:20260823T120000
DTEND;TZID=Europe/Paris:20260823T130000
DTSTAMP:20260420T104326
CREATED:20251203T163748Z
LAST-MODIFIED:20251203T163748Z
UID:8737-1787486400-1787490000@www.scvt.ch
SUMMARY:Hersage des installations
DESCRIPTION:
URL:https://www.scvt.ch/agenda/hersage-des-installations-30/2026-08-23/
CATEGORIES:Hersage
END:VEVENT
BEGIN:VEVENT
DTSTART;TZID=Europe/Paris:20260824T120000
DTEND;TZID=Europe/Paris:20260824T130000
DTSTAMP:20260420T104326
CREATED:20251203T163748Z
LAST-MODIFIED:20251203T163748Z
UID:8738-1787572800-1787576400@www.scvt.ch
SUMMARY:Hersage des installations
DESCRIPTION:
URL:https://www.scvt.ch/agenda/hersage-des-installations-30/2026-08-24/
CATEGORIES:Hersage
END:VEVENT
BEGIN:VEVENT
DTSTART;TZID=Europe/Paris:20260825T120000
DTEND;TZID=Europe/Paris:20260825T130000
DTSTAMP:20260420T104326
CREATED:20251203T163748Z
LAST-MODIFIED:20251203T163748Z
UID:8739-1787659200-1787662800@www.scvt.ch
SUMMARY:Hersage des installations
DESCRIPTION:
URL:https://www.scvt.ch/agenda/hersage-des-installations-30/2026-08-25/
CATEGORIES:Hersage
END:VEVENT
BEGIN:VEVENT
DTSTART;TZID=Europe/Paris:20260826T120000
DTEND;TZID=Europe/Paris:20260826T130000
DTSTAMP:20260420T104326
CREATED:20251203T163748Z
LAST-MODIFIED:20251203T163748Z
UID:8740-1787745600-1787749200@www.scvt.ch
SUMMARY:Hersage des installations
DESCRIPTION:
URL:https://www.scvt.ch/agenda/hersage-des-installations-30/2026-08-26/
CATEGORIES:Hersage
END:VEVENT
BEGIN:VEVENT
DTSTART;TZID=Europe/Paris:20260827T120000
DTEND;TZID=Europe/Paris:20260827T130000
DTSTAMP:20260420T104326
CREATED:20251203T163748Z
LAST-MODIFIED:20251203T163748Z
UID:8741-1787832000-1787835600@www.scvt.ch
SUMMARY:Hersage des installations
DESCRIPTION:
URL:https://www.scvt.ch/agenda/hersage-des-installations-30/2026-08-27/
CATEGORIES:Hersage
END:VEVENT
BEGIN:VEVENT
DTSTART;TZID=Europe/Paris:20260828T120000
DTEND;TZID=Europe/Paris:20260828T130000
DTSTAMP:20260420T104326
CREATED:20251203T163748Z
LAST-MODIFIED:20251203T163748Z
UID:8742-1787918400-1787922000@www.scvt.ch
SUMMARY:Hersage des installations
DESCRIPTION:
URL:https://www.scvt.ch/agenda/hersage-des-installations-30/2026-08-28/
CATEGORIES:Hersage
END:VEVENT
BEGIN:VEVENT
DTSTART;TZID=Europe/Paris:20260829T120000
DTEND;TZID=Europe/Paris:20260829T130000
DTSTAMP:20260420T104326
CREATED:20251203T163748Z
LAST-MODIFIED:20251203T163748Z
UID:8743-1788004800-1788008400@www.scvt.ch
SUMMARY:Hersage des installations
DESCRIPTION:
URL:https://www.scvt.ch/agenda/hersage-des-installations-30/2026-08-29/
CATEGORIES:Hersage
END:VEVENT
BEGIN:VEVENT
DTSTART;TZID=Europe/Paris:20260830T120000
DTEND;TZID=Europe/Paris:20260830T130000
DTSTAMP:20260420T104326
CREATED:20251203T163748Z
LAST-MODIFIED:20251203T163748Z
UID:8744-1788091200-1788094800@www.scvt.ch
SUMMARY:Hersage des installations
DESCRIPTION:
URL:https://www.scvt.ch/agenda/hersage-des-installations-30/2026-08-30/
CATEGORIES:Hersage
END:VEVENT
END:VCALENDAR