BEGIN:VCALENDAR
VERSION:2.0
PRODID:-//Société de cavalerie de Tavannes et environs - ECPv6.1.2.2//NONSGML v1.0//EN
CALSCALE:GREGORIAN
METHOD:PUBLISH
X-WR-CALNAME:Société de cavalerie de Tavannes et environs
X-ORIGINAL-URL:https://www.scvt.ch
X-WR-CALDESC:évènements pour Société de cavalerie de Tavannes et environs
REFRESH-INTERVAL;VALUE=DURATION:PT1H
X-Robots-Tag:noindex
X-PUBLISHED-TTL:PT1H
BEGIN:VTIMEZONE
TZID:Europe/Paris
BEGIN:DAYLIGHT
TZOFFSETFROM:+0100
TZOFFSETTO:+0200
TZNAME:CEST
DTSTART:20260329T010000
END:DAYLIGHT
BEGIN:STANDARD
TZOFFSETFROM:+0200
TZOFFSETTO:+0100
TZNAME:CET
DTSTART:20261025T010000
END:STANDARD
END:VTIMEZONE
BEGIN:VEVENT
DTSTART;TZID=Europe/Paris:20260901T120000
DTEND;TZID=Europe/Paris:20260901T130000
DTSTAMP:20260420T110758
CREATED:20251203T163748Z
LAST-MODIFIED:20251203T163748Z
UID:8746-1788264000-1788267600@www.scvt.ch
SUMMARY:Hersage des installations
DESCRIPTION:
URL:https://www.scvt.ch/agenda/hersage-des-installations-30/2026-09-01/
CATEGORIES:Hersage
END:VEVENT
BEGIN:VEVENT
DTSTART;TZID=Europe/Paris:20260902T120000
DTEND;TZID=Europe/Paris:20260902T130000
DTSTAMP:20260420T110758
CREATED:20251203T163748Z
LAST-MODIFIED:20251203T163748Z
UID:8747-1788350400-1788354000@www.scvt.ch
SUMMARY:Hersage des installations
DESCRIPTION:
URL:https://www.scvt.ch/agenda/hersage-des-installations-30/2026-09-02/
CATEGORIES:Hersage
END:VEVENT
BEGIN:VEVENT
DTSTART;TZID=Europe/Paris:20260903T120000
DTEND;TZID=Europe/Paris:20260903T130000
DTSTAMP:20260420T110758
CREATED:20251203T163748Z
LAST-MODIFIED:20251203T163748Z
UID:8748-1788436800-1788440400@www.scvt.ch
SUMMARY:Hersage des installations
DESCRIPTION:
URL:https://www.scvt.ch/agenda/hersage-des-installations-30/2026-09-03/
CATEGORIES:Hersage
END:VEVENT
BEGIN:VEVENT
DTSTART;TZID=Europe/Paris:20260904T120000
DTEND;TZID=Europe/Paris:20260904T130000
DTSTAMP:20260420T110758
CREATED:20251203T163748Z
LAST-MODIFIED:20251203T163748Z
UID:8749-1788523200-1788526800@www.scvt.ch
SUMMARY:Hersage des installations
DESCRIPTION:
URL:https://www.scvt.ch/agenda/hersage-des-installations-30/2026-09-04/
CATEGORIES:Hersage
END:VEVENT
BEGIN:VEVENT
DTSTART;TZID=Europe/Paris:20260905T120000
DTEND;TZID=Europe/Paris:20260905T130000
DTSTAMP:20260420T110758
CREATED:20251203T163748Z
LAST-MODIFIED:20251203T163748Z
UID:8750-1788609600-1788613200@www.scvt.ch
SUMMARY:Hersage des installations
DESCRIPTION:
URL:https://www.scvt.ch/agenda/hersage-des-installations-30/2026-09-05/
CATEGORIES:Hersage
END:VEVENT
BEGIN:VEVENT
DTSTART;TZID=Europe/Paris:20260906T120000
DTEND;TZID=Europe/Paris:20260906T130000
DTSTAMP:20260420T110758
CREATED:20251203T163748Z
LAST-MODIFIED:20251203T163748Z
UID:8751-1788696000-1788699600@www.scvt.ch
SUMMARY:Hersage des installations
DESCRIPTION:
URL:https://www.scvt.ch/agenda/hersage-des-installations-30/2026-09-06/
CATEGORIES:Hersage
END:VEVENT
BEGIN:VEVENT
DTSTART;TZID=Europe/Paris:20260907T120000
DTEND;TZID=Europe/Paris:20260907T130000
DTSTAMP:20260420T110758
CREATED:20251203T163748Z
LAST-MODIFIED:20251203T163748Z
UID:8752-1788782400-1788786000@www.scvt.ch
SUMMARY:Hersage des installations
DESCRIPTION:
URL:https://www.scvt.ch/agenda/hersage-des-installations-30/2026-09-07/
CATEGORIES:Hersage
END:VEVENT
BEGIN:VEVENT
DTSTART;TZID=Europe/Paris:20260908T120000
DTEND;TZID=Europe/Paris:20260908T130000
DTSTAMP:20260420T110758
CREATED:20251203T163748Z
LAST-MODIFIED:20251203T163748Z
UID:8753-1788868800-1788872400@www.scvt.ch
SUMMARY:Hersage des installations
DESCRIPTION:
URL:https://www.scvt.ch/agenda/hersage-des-installations-30/2026-09-08/
CATEGORIES:Hersage
END:VEVENT
BEGIN:VEVENT
DTSTART;TZID=Europe/Paris:20260909T120000
DTEND;TZID=Europe/Paris:20260909T130000
DTSTAMP:20260420T110758
CREATED:20251203T163748Z
LAST-MODIFIED:20251203T163748Z
UID:8754-1788955200-1788958800@www.scvt.ch
SUMMARY:Hersage des installations
DESCRIPTION:
URL:https://www.scvt.ch/agenda/hersage-des-installations-30/2026-09-09/
CATEGORIES:Hersage
END:VEVENT
BEGIN:VEVENT
DTSTART;TZID=Europe/Paris:20260910T120000
DTEND;TZID=Europe/Paris:20260910T130000
DTSTAMP:20260420T110758
CREATED:20251203T163748Z
LAST-MODIFIED:20251203T163748Z
UID:8755-1789041600-1789045200@www.scvt.ch
SUMMARY:Hersage des installations
DESCRIPTION:
URL:https://www.scvt.ch/agenda/hersage-des-installations-30/2026-09-10/
CATEGORIES:Hersage
END:VEVENT
BEGIN:VEVENT
DTSTART;TZID=Europe/Paris:20260911T120000
DTEND;TZID=Europe/Paris:20260911T130000
DTSTAMP:20260420T110758
CREATED:20251203T163748Z
LAST-MODIFIED:20251203T163748Z
UID:8756-1789128000-1789131600@www.scvt.ch
SUMMARY:Hersage des installations
DESCRIPTION:
URL:https://www.scvt.ch/agenda/hersage-des-installations-30/2026-09-11/
CATEGORIES:Hersage
END:VEVENT
BEGIN:VEVENT
DTSTART;TZID=Europe/Paris:20260912T120000
DTEND;TZID=Europe/Paris:20260912T130000
DTSTAMP:20260420T110758
CREATED:20251203T163748Z
LAST-MODIFIED:20251203T163748Z
UID:8757-1789214400-1789218000@www.scvt.ch
SUMMARY:Hersage des installations
DESCRIPTION:
URL:https://www.scvt.ch/agenda/hersage-des-installations-30/2026-09-12/
CATEGORIES:Hersage
END:VEVENT
BEGIN:VEVENT
DTSTART;TZID=Europe/Paris:20260913T120000
DTEND;TZID=Europe/Paris:20260913T130000
DTSTAMP:20260420T110758
CREATED:20251203T163748Z
LAST-MODIFIED:20251203T163748Z
UID:8758-1789300800-1789304400@www.scvt.ch
SUMMARY:Hersage des installations
DESCRIPTION:
URL:https://www.scvt.ch/agenda/hersage-des-installations-30/2026-09-13/
CATEGORIES:Hersage
END:VEVENT
BEGIN:VEVENT
DTSTART;TZID=Europe/Paris:20260914T120000
DTEND;TZID=Europe/Paris:20260914T130000
DTSTAMP:20260420T110758
CREATED:20251203T163748Z
LAST-MODIFIED:20251203T163748Z
UID:8759-1789387200-1789390800@www.scvt.ch
SUMMARY:Hersage des installations
DESCRIPTION:
URL:https://www.scvt.ch/agenda/hersage-des-installations-30/2026-09-14/
CATEGORIES:Hersage
END:VEVENT
BEGIN:VEVENT
DTSTART;TZID=Europe/Paris:20260915T120000
DTEND;TZID=Europe/Paris:20260915T130000
DTSTAMP:20260420T110758
CREATED:20251203T163748Z
LAST-MODIFIED:20251203T163748Z
UID:8760-1789473600-1789477200@www.scvt.ch
SUMMARY:Hersage des installations
DESCRIPTION:
URL:https://www.scvt.ch/agenda/hersage-des-installations-30/2026-09-15/
CATEGORIES:Hersage
END:VEVENT
BEGIN:VEVENT
DTSTART;TZID=Europe/Paris:20260916T120000
DTEND;TZID=Europe/Paris:20260916T130000
DTSTAMP:20260420T110758
CREATED:20251203T163748Z
LAST-MODIFIED:20251203T163748Z
UID:8761-1789560000-1789563600@www.scvt.ch
SUMMARY:Hersage des installations
DESCRIPTION:
URL:https://www.scvt.ch/agenda/hersage-des-installations-30/2026-09-16/
CATEGORIES:Hersage
END:VEVENT
BEGIN:VEVENT
DTSTART;TZID=Europe/Paris:20260917T120000
DTEND;TZID=Europe/Paris:20260917T130000
DTSTAMP:20260420T110758
CREATED:20251203T163748Z
LAST-MODIFIED:20251203T163748Z
UID:8762-1789646400-1789650000@www.scvt.ch
SUMMARY:Hersage des installations
DESCRIPTION:
URL:https://www.scvt.ch/agenda/hersage-des-installations-30/2026-09-17/
CATEGORIES:Hersage
END:VEVENT
BEGIN:VEVENT
DTSTART;TZID=Europe/Paris:20260918T120000
DTEND;TZID=Europe/Paris:20260918T130000
DTSTAMP:20260420T110758
CREATED:20251203T163748Z
LAST-MODIFIED:20251203T163748Z
UID:8763-1789732800-1789736400@www.scvt.ch
SUMMARY:Hersage des installations
DESCRIPTION:
URL:https://www.scvt.ch/agenda/hersage-des-installations-30/2026-09-18/
CATEGORIES:Hersage
END:VEVENT
BEGIN:VEVENT
DTSTART;TZID=Europe/Paris:20260919T120000
DTEND;TZID=Europe/Paris:20260919T130000
DTSTAMP:20260420T110758
CREATED:20251203T163748Z
LAST-MODIFIED:20251203T163748Z
UID:8764-1789819200-1789822800@www.scvt.ch
SUMMARY:Hersage des installations
DESCRIPTION:
URL:https://www.scvt.ch/agenda/hersage-des-installations-30/2026-09-19/
CATEGORIES:Hersage
END:VEVENT
BEGIN:VEVENT
DTSTART;TZID=Europe/Paris:20260920T120000
DTEND;TZID=Europe/Paris:20260920T130000
DTSTAMP:20260420T110758
CREATED:20251203T163748Z
LAST-MODIFIED:20251203T163748Z
UID:8765-1789905600-1789909200@www.scvt.ch
SUMMARY:Hersage des installations
DESCRIPTION:
URL:https://www.scvt.ch/agenda/hersage-des-installations-30/2026-09-20/
CATEGORIES:Hersage
END:VEVENT
BEGIN:VEVENT
DTSTART;TZID=Europe/Paris:20260921T120000
DTEND;TZID=Europe/Paris:20260921T130000
DTSTAMP:20260420T110758
CREATED:20251203T163748Z
LAST-MODIFIED:20251203T163748Z
UID:8766-1789992000-1789995600@www.scvt.ch
SUMMARY:Hersage des installations
DESCRIPTION:
URL:https://www.scvt.ch/agenda/hersage-des-installations-30/2026-09-21/
CATEGORIES:Hersage
END:VEVENT
BEGIN:VEVENT
DTSTART;TZID=Europe/Paris:20260922T120000
DTEND;TZID=Europe/Paris:20260922T130000
DTSTAMP:20260420T110758
CREATED:20251203T163748Z
LAST-MODIFIED:20251203T163748Z
UID:8767-1790078400-1790082000@www.scvt.ch
SUMMARY:Hersage des installations
DESCRIPTION:
URL:https://www.scvt.ch/agenda/hersage-des-installations-30/2026-09-22/
CATEGORIES:Hersage
END:VEVENT
BEGIN:VEVENT
DTSTART;TZID=Europe/Paris:20260923T120000
DTEND;TZID=Europe/Paris:20260923T130000
DTSTAMP:20260420T110758
CREATED:20251203T163748Z
LAST-MODIFIED:20251203T163748Z
UID:8768-1790164800-1790168400@www.scvt.ch
SUMMARY:Hersage des installations
DESCRIPTION:
URL:https://www.scvt.ch/agenda/hersage-des-installations-30/2026-09-23/
CATEGORIES:Hersage
END:VEVENT
BEGIN:VEVENT
DTSTART;TZID=Europe/Paris:20260924T120000
DTEND;TZID=Europe/Paris:20260924T130000
DTSTAMP:20260420T110758
CREATED:20251203T163748Z
LAST-MODIFIED:20251203T163748Z
UID:8769-1790251200-1790254800@www.scvt.ch
SUMMARY:Hersage des installations
DESCRIPTION:
URL:https://www.scvt.ch/agenda/hersage-des-installations-30/2026-09-24/
CATEGORIES:Hersage
END:VEVENT
BEGIN:VEVENT
DTSTART;TZID=Europe/Paris:20260925T120000
DTEND;TZID=Europe/Paris:20260925T130000
DTSTAMP:20260420T110758
CREATED:20251203T163748Z
LAST-MODIFIED:20251203T163748Z
UID:8770-1790337600-1790341200@www.scvt.ch
SUMMARY:Hersage des installations
DESCRIPTION:
URL:https://www.scvt.ch/agenda/hersage-des-installations-30/2026-09-25/
CATEGORIES:Hersage
END:VEVENT
BEGIN:VEVENT
DTSTART;TZID=Europe/Paris:20260926T120000
DTEND;TZID=Europe/Paris:20260926T130000
DTSTAMP:20260420T110758
CREATED:20251203T163748Z
LAST-MODIFIED:20251203T163748Z
UID:8771-1790424000-1790427600@www.scvt.ch
SUMMARY:Hersage des installations
DESCRIPTION:
URL:https://www.scvt.ch/agenda/hersage-des-installations-30/2026-09-26/
CATEGORIES:Hersage
END:VEVENT
BEGIN:VEVENT
DTSTART;TZID=Europe/Paris:20260927T120000
DTEND;TZID=Europe/Paris:20260927T130000
DTSTAMP:20260420T110758
CREATED:20251203T163748Z
LAST-MODIFIED:20251203T163748Z
UID:8772-1790510400-1790514000@www.scvt.ch
SUMMARY:Hersage des installations
DESCRIPTION:
URL:https://www.scvt.ch/agenda/hersage-des-installations-30/2026-09-27/
CATEGORIES:Hersage
END:VEVENT
BEGIN:VEVENT
DTSTART;TZID=Europe/Paris:20260928T120000
DTEND;TZID=Europe/Paris:20260928T130000
DTSTAMP:20260420T110758
CREATED:20251203T163748Z
LAST-MODIFIED:20251203T163748Z
UID:8773-1790596800-1790600400@www.scvt.ch
SUMMARY:Hersage des installations
DESCRIPTION:
URL:https://www.scvt.ch/agenda/hersage-des-installations-30/2026-09-28/
CATEGORIES:Hersage
END:VEVENT
BEGIN:VEVENT
DTSTART;TZID=Europe/Paris:20260929T120000
DTEND;TZID=Europe/Paris:20260929T130000
DTSTAMP:20260420T110758
CREATED:20251203T163748Z
LAST-MODIFIED:20251203T163748Z
UID:8774-1790683200-1790686800@www.scvt.ch
SUMMARY:Hersage des installations
DESCRIPTION:
URL:https://www.scvt.ch/agenda/hersage-des-installations-30/2026-09-29/
CATEGORIES:Hersage
END:VEVENT
BEGIN:VEVENT
DTSTART;TZID=Europe/Paris:20260930T120000
DTEND;TZID=Europe/Paris:20260930T130000
DTSTAMP:20260420T110758
CREATED:20251203T163748Z
LAST-MODIFIED:20251203T163748Z
UID:8775-1790769600-1790773200@www.scvt.ch
SUMMARY:Hersage des installations
DESCRIPTION:
URL:https://www.scvt.ch/agenda/hersage-des-installations-30/2026-09-30/
CATEGORIES:Hersage
END:VEVENT
END:VCALENDAR