BEGIN:VCALENDAR
VERSION:2.0
PRODID:-//Société de cavalerie de Tavannes et environs - ECPv6.1.2.2//NONSGML v1.0//EN
CALSCALE:GREGORIAN
METHOD:PUBLISH
X-WR-CALNAME:Société de cavalerie de Tavannes et environs
X-ORIGINAL-URL:https://www.scvt.ch
X-WR-CALDESC:évènements pour Société de cavalerie de Tavannes et environs
REFRESH-INTERVAL;VALUE=DURATION:PT1H
X-Robots-Tag:noindex
X-PUBLISHED-TTL:PT1H
BEGIN:VTIMEZONE
TZID:Europe/Paris
BEGIN:DAYLIGHT
TZOFFSETFROM:+0100
TZOFFSETTO:+0200
TZNAME:CEST
DTSTART:20220327T010000
END:DAYLIGHT
BEGIN:STANDARD
TZOFFSETFROM:+0200
TZOFFSETTO:+0100
TZNAME:CET
DTSTART:20221030T010000
END:STANDARD
END:VTIMEZONE
BEGIN:VEVENT
DTSTART;TZID=Europe/Paris:20220621T130000
DTEND;TZID=Europe/Paris:20220621T134500
DTSTAMP:20260422T175104
CREATED:20220616T112616Z
LAST-MODIFIED:20220616T113058Z
UID:2338-1655816400-1655819100@www.scvt.ch
SUMMARY:Hersage des installations
DESCRIPTION:
URL:https://www.scvt.ch/agenda/hersage-des-installations-2022-06-21/2022-06-21/
CATEGORIES:Hersage
END:VEVENT
END:VCALENDAR