BEGIN:VCALENDAR
VERSION:2.0
PRODID:-//Société de cavalerie de Tavannes et environs - ECPv6.1.2.2//NONSGML v1.0//EN
CALSCALE:GREGORIAN
METHOD:PUBLISH
X-WR-CALNAME:Société de cavalerie de Tavannes et environs
X-ORIGINAL-URL:https://www.scvt.ch
X-WR-CALDESC:évènements pour Société de cavalerie de Tavannes et environs
REFRESH-INTERVAL;VALUE=DURATION:PT1H
X-Robots-Tag:noindex
X-PUBLISHED-TTL:PT1H
BEGIN:VTIMEZONE
TZID:Europe/Paris
BEGIN:DAYLIGHT
TZOFFSETFROM:+0100
TZOFFSETTO:+0200
TZNAME:CEST
DTSTART:20260329T010000
END:DAYLIGHT
BEGIN:STANDARD
TZOFFSETFROM:+0200
TZOFFSETTO:+0100
TZNAME:CET
DTSTART:20261025T010000
END:STANDARD
END:VTIMEZONE
BEGIN:VEVENT
DTSTART;TZID=Europe/Paris:20260226T170000
DTEND;TZID=Europe/Paris:20260226T210000
DTSTAMP:20260420T102554
CREATED:20251203T163342Z
LAST-MODIFIED:20251203T163342Z
UID:8878-1772125200-1772139600@www.scvt.ch
SUMMARY:Cours d'équitation Tamara Busslinger
DESCRIPTION:
URL:https://www.scvt.ch/agenda/cours-dequitation-tamara-busslinger/2026-02-26/
CATEGORIES:Cours d'équitation
END:VEVENT
BEGIN:VEVENT
DTSTART;TZID=Europe/Paris:20260219T170000
DTEND;TZID=Europe/Paris:20260219T210000
DTSTAMP:20260420T102554
CREATED:20251203T163342Z
LAST-MODIFIED:20251203T163342Z
UID:8877-1771520400-1771534800@www.scvt.ch
SUMMARY:Cours d'équitation Tamara Busslinger
DESCRIPTION:
URL:https://www.scvt.ch/agenda/cours-dequitation-tamara-busslinger/2026-02-19/
CATEGORIES:Cours d'équitation
END:VEVENT
BEGIN:VEVENT
DTSTART;TZID=Europe/Paris:20260212T170000
DTEND;TZID=Europe/Paris:20260212T210000
DTSTAMP:20260420T102554
CREATED:20251203T163342Z
LAST-MODIFIED:20251203T163342Z
UID:8876-1770915600-1770930000@www.scvt.ch
SUMMARY:Cours d'équitation Tamara Busslinger
DESCRIPTION:
URL:https://www.scvt.ch/agenda/cours-dequitation-tamara-busslinger/2026-02-12/
CATEGORIES:Cours d'équitation
END:VEVENT
BEGIN:VEVENT
DTSTART;TZID=Europe/Paris:20260205T170000
DTEND;TZID=Europe/Paris:20260205T210000
DTSTAMP:20260420T102554
CREATED:20251203T163342Z
LAST-MODIFIED:20251203T163342Z
UID:8875-1770310800-1770325200@www.scvt.ch
SUMMARY:Cours d'équitation Tamara Busslinger
DESCRIPTION:
URL:https://www.scvt.ch/agenda/cours-dequitation-tamara-busslinger/2026-02-05/
CATEGORIES:Cours d'équitation
END:VEVENT
BEGIN:VEVENT
DTSTART;TZID=Europe/Paris:20260129T170000
DTEND;TZID=Europe/Paris:20260129T210000
DTSTAMP:20260420T102554
CREATED:20251203T163342Z
LAST-MODIFIED:20251203T163342Z
UID:8874-1769706000-1769720400@www.scvt.ch
SUMMARY:Cours d'équitation Tamara Busslinger
DESCRIPTION:
URL:https://www.scvt.ch/agenda/cours-dequitation-tamara-busslinger/2026-01-29/
CATEGORIES:Cours d'équitation
END:VEVENT
BEGIN:VEVENT
DTSTART;TZID=Europe/Paris:20260122T170000
DTEND;TZID=Europe/Paris:20260122T210000
DTSTAMP:20260420T102554
CREATED:20251203T163342Z
LAST-MODIFIED:20260118T100611Z
UID:8479-1769101200-1769115600@www.scvt.ch
SUMMARY:Cours d'équitation Tamara Busslinger
DESCRIPTION:
URL:https://www.scvt.ch/agenda/cours-dequitation-tamara-busslinger/2026-01-22/
CATEGORIES:Cours d'équitation
END:VEVENT
END:VCALENDAR